BEGIN:VCALENDAR
VERSION:2.0
PRODID:-//Colorado Under Par - ECPv6.15.20//NONSGML v1.0//EN
CALSCALE:GREGORIAN
METHOD:PUBLISH
X-ORIGINAL-URL:https://coloradounderpar.com
X-WR-CALDESC:Events for Colorado Under Par
REFRESH-INTERVAL;VALUE=DURATION:PT1H
X-Robots-Tag:noindex
X-PUBLISHED-TTL:PT1H
BEGIN:VTIMEZONE
TZID:America/Denver
BEGIN:DAYLIGHT
TZOFFSETFROM:-0700
TZOFFSETTO:-0600
TZNAME:MDT
DTSTART:20220313T090000
END:DAYLIGHT
BEGIN:STANDARD
TZOFFSETFROM:-0600
TZOFFSETTO:-0700
TZNAME:MST
DTSTART:20221106T080000
END:STANDARD
BEGIN:DAYLIGHT
TZOFFSETFROM:-0700
TZOFFSETTO:-0600
TZNAME:MDT
DTSTART:20230312T090000
END:DAYLIGHT
BEGIN:STANDARD
TZOFFSETFROM:-0600
TZOFFSETTO:-0700
TZNAME:MST
DTSTART:20231105T080000
END:STANDARD
BEGIN:DAYLIGHT
TZOFFSETFROM:-0700
TZOFFSETTO:-0600
TZNAME:MDT
DTSTART:20240310T090000
END:DAYLIGHT
BEGIN:STANDARD
TZOFFSETFROM:-0600
TZOFFSETTO:-0700
TZNAME:MST
DTSTART:20241103T080000
END:STANDARD
BEGIN:DAYLIGHT
TZOFFSETFROM:-0700
TZOFFSETTO:-0600
TZNAME:MDT
DTSTART:20250309T090000
END:DAYLIGHT
BEGIN:STANDARD
TZOFFSETFROM:-0600
TZOFFSETTO:-0700
TZNAME:MST
DTSTART:20251102T080000
END:STANDARD
BEGIN:DAYLIGHT
TZOFFSETFROM:-0700
TZOFFSETTO:-0600
TZNAME:MDT
DTSTART:20260308T090000
END:DAYLIGHT
BEGIN:STANDARD
TZOFFSETFROM:-0600
TZOFFSETTO:-0700
TZNAME:MST
DTSTART:20261101T080000
END:STANDARD
END:VTIMEZONE
BEGIN:VEVENT
DTSTART;TZID=America/Denver:20250718T080000
DTEND;TZID=America/Denver:20250718T150000
DTSTAMP:20260423T195838
CREATED:20251223T071738Z
LAST-MODIFIED:20260204T011115Z
UID:10000016-1752825600-1752850800@coloradounderpar.com
SUMMARY:Mike Roumph Wrestling Foundation Memorial Golf Tournament
DESCRIPTION:Event Summary\nThe Mike Roumph Wrestling Foundation Memorial Golf Tournament 2025 continued the tradition of honoring the life\, legacy\, and lasting influence of Mike Roumph while advancing the mission of the Mike Roumph Wrestling Foundation. Bringing together golfers\, supporters\, coaches\, families\, and members of the wrestling community\, the 2025 tournament delivered a meaningful and professionally organized golf experience rooted in remembrance\, gratitude\, and impact. \nAs a memorial event with a clear purpose\, the tournament served as both a celebration of Mike Roumph’s legacy and a platform for continued investment in youth wrestling programs. Participants experienced a well-executed day on the course that balanced competition\, camaraderie\, and cause—creating an atmosphere that resonated deeply with longtime supporters and new participants alike. \nAs an established annual event\, the tournament demonstrated sustained momentum through thoughtful planning\, strong sponsor engagement\, and a golfer-first experience. Each year builds upon the last\, reinforcing a long-term commitment to athlete development\, mentorship\, and access to opportunities for young wrestlers across the community. \nEvent Details\nEvent Type: Charity TournamentBeneficiary: Community-Based CauseLocation: ColoradoFormat: Shotgun StartParticipants: Golfers\, Sponsors\, VolunteersStatus: Past Event \nEvent Impact & Community Outcomes\nThe 2025 tournament welcomed 120 golfers\, filling the field with strong participation from returning supporters and new attendees. Twelve event sponsors contributed to the success of the tournament\, helping strengthen financial support while expanding awareness of the foundation’s mission. \nThe event raised $15\,000+ for the beneficiary\, directly supporting youth wrestling programs and athlete development initiatives. On-course contests\, raffles\, and player gifting were incorporated throughout the day\, enhancing the golfer experience while driving additional engagement and fundraising opportunities. \nThank You to Our Sponsors\nWe extend our sincere appreciation to the sponsors who believed in the vision of the Mike Roumph Wrestling Foundation Memorial Golf Tournament 2025 from the very beginning. Their continued support plays a critical role in sustaining the foundation’s work and ensuring that Mike Roumph’s legacy lives on through the athletes and programs it supports. \nEvent Highlights\nThe tournament featured a shotgun-start format that ensured smooth pacing and an enjoyable flow of play. Sponsor activations were strategically integrated throughout the course\, providing meaningful visibility and interaction opportunities. Player contests\, raffle prizes\, and post-round awards and recognition created a celebratory conclusion that honored both competition and community. \nEvent Support Overview\nAs an annual event\, the tournament benefited from hands-on planning and on-site coordination to ensure a seamless and professional experience for all participants. Colorado Under Par supported the execution of key logistics and marketing elements\, allowing the foundation and its volunteers to focus on engagement\, relationships\, and mission delivery throughout the day. \nEvent planning & logistics:https://coloradounderpar.com//golf-tournament-management/ \nEvent marketing & sponsor visibility:https://coloradounderpar.com//golf-tournament-marketing/ \nLooking Ahead\nThe continued success of the Mike Roumph Wrestling Foundation Memorial Golf Tournament reflects the power of consistency\, community involvement\, and purposeful event design. Each year strengthens the foundation’s ability to support youth wrestling while honoring a legacy that continues to inspire athletes and families alike. \nWant to see how events like this have grown over time? \nExplore Upcoming Events:https://coloradounderpar.com//event-hub/
URL:https://coloradounderpar.com/event/mike-roumph-wrestling-foundation-memorial-golf-tournament-2025/
LOCATION:Walking Stick Golf Course\, 4301 Walking Stick Blvd\, Pueblo\, CO\, 81001\, United States
CATEGORIES:Golf Tournament
ATTACH;FMTTYPE=image/png:https://coloradounderpar.com/wp-content/uploads/2025/12/fd0067cc-b83a-49db-9fd5-0f3a83c99f5b.png
ORGANIZER;CN="Andrew Mueller":MAILTO:am@coloradounderpar.com
END:VEVENT
BEGIN:VEVENT
DTSTART;TZID=America/Denver:20230721T080000
DTEND;TZID=America/Denver:20230721T140000
DTSTAMP:20260423T195838
CREATED:20251230T202203Z
LAST-MODIFIED:20260102T173836Z
UID:10000078-1689926400-1689948000@coloradounderpar.com
SUMMARY:Inaugural Mike Roumph Wrestling Foundation Memorial Golf Tournament
DESCRIPTION:Inaugural Mike Roumph Wrestling Foundation Memorial Golf Tournament\n📍 Colorado • ⛳ Inaugural Event \nEvent Summary\nThe Inaugural Mike Roumph Wrestling Foundation Memorial Golf Tournament launched a meaningful annual event honoring the legacy of Mike Roumph while supporting the mission of the Mike Roumph Wrestling Foundation. Created to bring golfers\, supporters\, and the wrestling community together\, the tournament blended remembrance with impact through a professionally organized golf experience. \nAs a first-year memorial event\, the tournament established a strong foundation by emphasizing thoughtful planning\, sponsor engagement\, and an enjoyable golfer experience—setting the stage for continued support of youth wrestling programs and athlete development in the years ahead. \n\nEvent Details\nEvent Type: Charity TournamentBeneficiary: Community-Based CauseLocation: ColoradoFormat: Shotgun StartParticipants: Golfers\, Sponsors\, VolunteersStatus: Past Event \n\nEvent Impact & Community Outcomes\n\n\n🏌️ 126 golfers participated \n\n\n🤝 10 event sponsors supported the tournament \n\n\n💰 $12k+ raised for the beneficiary \n\n\n🎁 On-course contests\, raffles\, and player gifting introduced \n\n\n\nThank You to Our Sponsors\nWe extend our sincere appreciation to the sponsors who believed in the vision of the Inaugural Mike Roumph Wrestling Foundation Memorial Golf Tournament from the very beginning. Their early support helped launch an event model that continues to drive meaningful impact year after year. \n\nEvent Highlights\n\n\nShotgun-start tournament format \n\n\nEarly-stage sponsor activations \n\n\nPlayer contests and raffle prizes \n\n\nPost-round awards and recognition \n\n\n\nEvent Support Overview\nAs an annual event\, the tournament benefited from hands-on planning and on-site coordination to ensure a smooth and professional experience for all participants. \n\n\nEvent planning & logistics:https://coloradounderpar.com//golf-tournament-management/ \n\n\nEvent marketing & sponsor visibility:https://coloradounderpar.com//golf-tournament-marketing/ \n\n\nEvent photography & media coverage:https://coloradounderpar.com//day-of-media/ \n\n\n\nLooking Ahead\nWant to see how events like this have grown over time? \nExplore Upcoming Events:https://coloradounderpar.com//event-hub/
URL:https://coloradounderpar.com/event/inaugural-mike-roumph-wrestling-foundation-memorial-golf-tournament/
LOCATION:Walking Stick Golf Course\, 4301 Walking Stick Blvd\, Pueblo\, CO\, 81001\, United States
CATEGORIES:Golf Tournament
ORGANIZER;CN="Andrew Mueller":MAILTO:am@coloradounderpar.com
END:VEVENT
END:VCALENDAR