BEGIN:VCALENDAR
VERSION:2.0
PRODID:-//Colorado Under Par - ECPv6.15.20//NONSGML v1.0//EN
CALSCALE:GREGORIAN
METHOD:PUBLISH
X-WR-CALNAME:Colorado Under Par
X-ORIGINAL-URL:https://coloradounderpar.com
X-WR-CALDESC:Events for Colorado Under Par
REFRESH-INTERVAL;VALUE=DURATION:PT1H
X-Robots-Tag:noindex
X-PUBLISHED-TTL:PT1H
BEGIN:VTIMEZONE
TZID:America/Denver
BEGIN:DAYLIGHT
TZOFFSETFROM:-0700
TZOFFSETTO:-0600
TZNAME:MDT
DTSTART:20250309T090000
END:DAYLIGHT
BEGIN:STANDARD
TZOFFSETFROM:-0600
TZOFFSETTO:-0700
TZNAME:MST
DTSTART:20251102T080000
END:STANDARD
BEGIN:DAYLIGHT
TZOFFSETFROM:-0700
TZOFFSETTO:-0600
TZNAME:MDT
DTSTART:20260308T090000
END:DAYLIGHT
BEGIN:STANDARD
TZOFFSETFROM:-0600
TZOFFSETTO:-0700
TZNAME:MST
DTSTART:20261101T080000
END:STANDARD
BEGIN:DAYLIGHT
TZOFFSETFROM:-0700
TZOFFSETTO:-0600
TZNAME:MDT
DTSTART:20270314T090000
END:DAYLIGHT
BEGIN:STANDARD
TZOFFSETFROM:-0600
TZOFFSETTO:-0700
TZNAME:MST
DTSTART:20271107T080000
END:STANDARD
END:VTIMEZONE
BEGIN:VEVENT
DTSTART;TZID=America/Denver:20260626T083000
DTEND;TZID=America/Denver:20260626T143000
DTSTAMP:20260423T195215
CREATED:20260315T220704Z
LAST-MODIFIED:20260315T220704Z
UID:10000120-1782462600-1782484200@coloradounderpar.com
SUMMARY:Canine Partners of the Rockies 3rd Annual Golf Tournament
DESCRIPTION:About the Event \n\n\nYour participation supports the training and placement of mobility service dogs and facility dogs—right here in Colorado.\nThis tournament is all about having fun AND fundraising for a fantastic cause. Join us on the green for a relaxed day of golf\, games\, prizes\, food\, drinks\, and of course\, future service pups. We can’t wait to see you there! \nCanine Coins – Get in the Game! \nCanine Coins are required to participate in the on-course games and contests throughout the day. Be sure to grab yours so you don’t miss out on the fun! Price will increase on event day\, so make sure to get your Canine Coins when you purchase your foursome. \n\nBag of 6 Canine Coins – $20\nPerfect for one player to try a few games.\nBag of 12 Canine Coins – $35\nOne player can participate in every game (one chance per game).\nBag of 48 Canine Coins – $100\nCovers your entire team with one chance per player\, per game.\n\nIf you’re interested in a single registration\, email bridget@cpotr.org and we’ll happily help match you with a foursome. \nAs event day approaches\, be sure to check out our Silent Auction page for exciting items and experiences you won’t want to miss!
URL:https://coloradounderpar.com/event/canine-partners-of-the-rockies-3rd-annual-golf-tournament/
LOCATION:Thorncreek Golf Course\, 13555 Washington St\, Thornton\, CO\, 80241\, United States
CATEGORIES:Golf Tournament
ATTACH;FMTTYPE=image/png:https://coloradounderpar.com/wp-content/uploads/2026/03/CUP-Logo-16x9-3.png
END:VEVENT
END:VCALENDAR