BEGIN:VCALENDAR
VERSION:2.0
PRODID:-//Colorado Under Par - ECPv6.15.20//NONSGML v1.0//EN
CALSCALE:GREGORIAN
METHOD:PUBLISH
X-WR-CALNAME:Colorado Under Par
X-ORIGINAL-URL:https://coloradounderpar.com
X-WR-CALDESC:Events for Colorado Under Par
REFRESH-INTERVAL;VALUE=DURATION:PT1H
X-Robots-Tag:noindex
X-PUBLISHED-TTL:PT1H
BEGIN:VTIMEZONE
TZID:America/Denver
BEGIN:DAYLIGHT
TZOFFSETFROM:-0700
TZOFFSETTO:-0600
TZNAME:MDT
DTSTART:20250309T090000
END:DAYLIGHT
BEGIN:STANDARD
TZOFFSETFROM:-0600
TZOFFSETTO:-0700
TZNAME:MST
DTSTART:20251102T080000
END:STANDARD
BEGIN:DAYLIGHT
TZOFFSETFROM:-0700
TZOFFSETTO:-0600
TZNAME:MDT
DTSTART:20260308T090000
END:DAYLIGHT
BEGIN:STANDARD
TZOFFSETFROM:-0600
TZOFFSETTO:-0700
TZNAME:MST
DTSTART:20261101T080000
END:STANDARD
BEGIN:DAYLIGHT
TZOFFSETFROM:-0700
TZOFFSETTO:-0600
TZNAME:MDT
DTSTART:20270314T090000
END:DAYLIGHT
BEGIN:STANDARD
TZOFFSETFROM:-0600
TZOFFSETTO:-0700
TZNAME:MST
DTSTART:20271107T080000
END:STANDARD
END:VTIMEZONE
BEGIN:VEVENT
DTSTART;TZID=America/Denver:20260826T080000
DTEND;TZID=America/Denver:20260826T170000
DTSTAMP:20260423T140208
CREATED:20260418T053018Z
LAST-MODIFIED:20260418T053018Z
UID:10000198-1787731200-1787763600@coloradounderpar.com
SUMMARY:Energy Outreach Colorado's The Heat is On Golf Tournament
DESCRIPTION:Our exclusive\, invitation-only tournament offers a one-of-a-kind opportunity to connect and enjoy a memorable day on the green with colleagues\, clients\, and friends. The event is limited to 120 golfers.
URL:https://coloradounderpar.com/event/energy-outreach-colorados-the-heat-is-on-golf-tournament/
LOCATION:The Sanctuary\, 7549 N Daniels Park Rd\, Sedalia\, CO\, 80135\, United States
CATEGORIES:Golf Tournament
END:VEVENT
END:VCALENDAR