BEGIN:VCALENDAR
VERSION:2.0
PRODID:-//Colorado Under Par - ECPv6.15.20//NONSGML v1.0//EN
CALSCALE:GREGORIAN
METHOD:PUBLISH
X-WR-CALNAME:Colorado Under Par
X-ORIGINAL-URL:https://coloradounderpar.com
X-WR-CALDESC:Events for Colorado Under Par
REFRESH-INTERVAL;VALUE=DURATION:PT1H
X-Robots-Tag:noindex
X-PUBLISHED-TTL:PT1H
BEGIN:VTIMEZONE
TZID:America/Denver
BEGIN:DAYLIGHT
TZOFFSETFROM:-0700
TZOFFSETTO:-0600
TZNAME:MDT
DTSTART:20250309T090000
END:DAYLIGHT
BEGIN:STANDARD
TZOFFSETFROM:-0600
TZOFFSETTO:-0700
TZNAME:MST
DTSTART:20251102T080000
END:STANDARD
BEGIN:DAYLIGHT
TZOFFSETFROM:-0700
TZOFFSETTO:-0600
TZNAME:MDT
DTSTART:20260308T090000
END:DAYLIGHT
BEGIN:STANDARD
TZOFFSETFROM:-0600
TZOFFSETTO:-0700
TZNAME:MST
DTSTART:20261101T080000
END:STANDARD
BEGIN:DAYLIGHT
TZOFFSETFROM:-0700
TZOFFSETTO:-0600
TZNAME:MDT
DTSTART:20270314T090000
END:DAYLIGHT
BEGIN:STANDARD
TZOFFSETFROM:-0600
TZOFFSETTO:-0700
TZNAME:MST
DTSTART:20271107T080000
END:STANDARD
END:VTIMEZONE
BEGIN:VEVENT
DTSTART;TZID=America/Denver:20260606T080000
DTEND;TZID=America/Denver:20260606T170000
DTSTAMP:20260423T195222
CREATED:20260421T230539Z
LAST-MODIFIED:20260421T230539Z
UID:10000205-1780732800-1780765200@coloradounderpar.com
SUMMARY:Level Up Cup
DESCRIPTION:On June 6\, we’re bringing retro gaming vibes to the courts for a one-day-only tournament built for players who want more action\, better matches\, and zero wasted time.\nIf you’re tired of spending your entire Saturday at a tournament to play 4–5 matches… this is your chance to Level Up. \nWhat to expect: \n\n\n🕹 Retro arcade themed tournament with pool play into bracket format \n\n\n🏆 Win top-tier prizes from on and off-court games and skill competitions all day long \n\n\n📈DUPR-Rated for all divisions \n\n\n🤑4.5+ Moneyball with $30 buy-in for cash prize \n\n\n⚡ Smooth\, organized scheduling with 4 hour max runtime per division \n\n\n🔥 Strong competition with DUPR Enforcement and 4 games guaranteed \n\n\nWe’re intentionally keeping this event tight to maintain the DPC high standard for player experience.
URL:https://coloradounderpar.com/event/level-up-cup/
LOCATION:The Picklr Littleton\, 8100 W Crestline Ave B4\, Littleton\, CO\, 80123\, United States
CATEGORIES:Pickleball
END:VEVENT
END:VCALENDAR