BEGIN:VCALENDAR
VERSION:2.0
PRODID:-//Colorado Under Par - ECPv6.15.20//NONSGML v1.0//EN
CALSCALE:GREGORIAN
METHOD:PUBLISH
X-WR-CALNAME:Colorado Under Par
X-ORIGINAL-URL:https://coloradounderpar.com
X-WR-CALDESC:Events for Colorado Under Par
REFRESH-INTERVAL;VALUE=DURATION:PT1H
X-Robots-Tag:noindex
X-PUBLISHED-TTL:PT1H
BEGIN:VTIMEZONE
TZID:America/Denver
BEGIN:DAYLIGHT
TZOFFSETFROM:-0700
TZOFFSETTO:-0600
TZNAME:MDT
DTSTART:20250309T090000
END:DAYLIGHT
BEGIN:STANDARD
TZOFFSETFROM:-0600
TZOFFSETTO:-0700
TZNAME:MST
DTSTART:20251102T080000
END:STANDARD
BEGIN:DAYLIGHT
TZOFFSETFROM:-0700
TZOFFSETTO:-0600
TZNAME:MDT
DTSTART:20260308T090000
END:DAYLIGHT
BEGIN:STANDARD
TZOFFSETFROM:-0600
TZOFFSETTO:-0700
TZNAME:MST
DTSTART:20261101T080000
END:STANDARD
BEGIN:DAYLIGHT
TZOFFSETFROM:-0700
TZOFFSETTO:-0600
TZNAME:MDT
DTSTART:20270314T090000
END:DAYLIGHT
BEGIN:STANDARD
TZOFFSETFROM:-0600
TZOFFSETTO:-0700
TZNAME:MST
DTSTART:20271107T080000
END:STANDARD
END:VTIMEZONE
BEGIN:VEVENT
DTSTART;TZID=America/Denver:20260504T130000
DTEND;TZID=America/Denver:20260504T190000
DTSTAMP:20260423T104143
CREATED:20260418T042408Z
LAST-MODIFIED:20260418T042408Z
UID:10000184-1777899600-1777921200@coloradounderpar.com
SUMMARY:Cats Not Cops 3rd Annual Golf Tournament & Fundraiser 2026
DESCRIPTION:Golf for a great cause! Remember every dollar supports at risk families in Denver\, CO. Register now and pay online to secure your spot by 4/20/2026! \n\n \n\nThank you for registering for Cats not Cops 3rd Golf Tournament & Fundraiser 2026 on May 4 at The Club at Inverness. Inverness \nPayment Options: 1. Zelle with 303-903-0358 2. Venmo @catsnotcopsdenver 3. CashApp $Catsnotcopsdenver 4. PayPal link Pay now 5. Send checks to 1415 Park Ave West Denver\, CO 80205.\nAll payments must be received by April 20\, 2026 5pm. All contributions are tax deductible. Every dollar helps us feed at risk families. Please share with your friends and family. Send questions to catsnotcopsdenver@gmail.com and tell us below if you need any specific accommodations for the event. If you checked interest in spa and hotel\, we will be in touch. For additional donation and sponsorship opportunities please check us out online. Web
URL:https://coloradounderpar.com/event/cats-not-cops-3rd-annual-golf-tournament-fundraiser-2026/
LOCATION:The Club At Inverness\, 200 Inverness Dr. W Suite 100\, Englewood\, CO\, 80112\, United States
CATEGORIES:Golf Tournament
ATTACH;FMTTYPE=image/jpeg:https://coloradounderpar.com/wp-content/uploads/2026/04/unnamed.jpg
END:VEVENT
END:VCALENDAR