BEGIN:VCALENDAR
VERSION:2.0
PRODID:-//Colorado Under Par - ECPv6.15.20//NONSGML v1.0//EN
CALSCALE:GREGORIAN
METHOD:PUBLISH
X-ORIGINAL-URL:https://coloradounderpar.com
X-WR-CALDESC:Events for Colorado Under Par
REFRESH-INTERVAL;VALUE=DURATION:PT1H
X-Robots-Tag:noindex
X-PUBLISHED-TTL:PT1H
BEGIN:VTIMEZONE
TZID:America/Denver
BEGIN:DAYLIGHT
TZOFFSETFROM:-0700
TZOFFSETTO:-0600
TZNAME:MDT
DTSTART:20250309T090000
END:DAYLIGHT
BEGIN:STANDARD
TZOFFSETFROM:-0600
TZOFFSETTO:-0700
TZNAME:MST
DTSTART:20251102T080000
END:STANDARD
BEGIN:DAYLIGHT
TZOFFSETFROM:-0700
TZOFFSETTO:-0600
TZNAME:MDT
DTSTART:20260308T090000
END:DAYLIGHT
BEGIN:STANDARD
TZOFFSETFROM:-0600
TZOFFSETTO:-0700
TZNAME:MST
DTSTART:20261101T080000
END:STANDARD
BEGIN:DAYLIGHT
TZOFFSETFROM:-0700
TZOFFSETTO:-0600
TZNAME:MDT
DTSTART:20270314T090000
END:DAYLIGHT
BEGIN:STANDARD
TZOFFSETFROM:-0600
TZOFFSETTO:-0700
TZNAME:MST
DTSTART:20271107T080000
END:STANDARD
END:VTIMEZONE
BEGIN:VEVENT
DTSTART;TZID=America/Denver:20261016T090000
DTEND;TZID=America/Denver:20261016T150000
DTSTAMP:20260423T154756
CREATED:20251223T062133Z
LAST-MODIFIED:20260317T221633Z
UID:10000001-1792141200-1792162800@coloradounderpar.com
SUMMARY:7th Annual Fall Classic
DESCRIPTION:Hosted by Colorado Under Par | Managed by Colorado Under ParBenefiting Forged Golf Society \n📍 The Broadlands Golf Course \n📅 Friday October 16\, 2026 \nTickets Sold Below \n\nEvent Overview\nThe 7th Annual Fall Classic brings the community together for a purpose-driven day of golf in support of Forged Golf Society and its mission to serve veterans through the game of golf. \n    \n\nWhy This Event Matters\nForged Golf Society is a veteran-focused nonprofit dedicated to using golf as a platform for connection\, healing\, and long-term support for military veterans. As a post-PGA HOPE (Helping Our Patriots Everywhere) program led by Veterans and PGA Professionals\, Forged Golf Society provides a continued pathway for those who have completed the PGA HOPE experience — extending the journey beyond introduction into ongoing community\, competition\, and purpose. \nThrough competitive and community-focused golf experiences\, the organization creates opportunities for veterans to build camaraderie\, strengthen mental health\, and rediscover identity beyond service. Golf becomes more than a game — it becomes a consistent outlet for connection\, discipline\, and long-term support within a trusted veteran community. \n    \n\nHow Your Support Creates Impact\nSupport from the 7th Annual Fall Classic directly fuels Forged Golf Society’s ability to expand veteran-focused golf programs\, create more opportunities for connection\, and reach additional service members seeking community and purpose. Funds raised through this event help cover program operations\, course access\, equipment\, instruction\, and event experiences that remove barriers to participation for veterans. \nBeyond the course\, this support strengthens a growing network where veterans can build relationships\, share experiences\, and engage in positive\, competitive\, and social environments that promote long-term well-being. Every golfer registration\, sponsorship\, and donation plays a role in sustaining and scaling these programs so more veterans can discover the impact golf can have in their lives. \n   \n\nWhat to Expect\n\nSmooth check-in and welcome experience\nOn-course contests and special moments throughout the round\nFood and beverages during the event\nPost-round gathering with awards\, raffles\, and recognition\n\n\nEvent Format\nFour-Person Scramble | 18 Holes \n\nPrizes\n1st Place Team | Longest Drive (M/W) | Closest to the Pin (M/W) \n\nOn-Course Entertainment\nSpeed Hole Challenge | FGS Challenge \n\nEvent Day Schedule\n\n7:30 AM — Check-In Opens\n8:40 AM — Chaos Putt\n8:50 AM — Morning Announcements\n9:00 AM — Shotgun Start\nPost-Round — $1million dollar shot\, lunch\, awards\, and raffle\n\n(Schedule subject to minor adjustments.) \n\nRegistration & Sponsorship Options\nRegistration and sponsorship opportunities are available below. Select the option that best fits how you’d like to support this event. \n\nQuestions\nFor event-specific questions\, please contact:am@coloradounderpar.com \n\nInterested in Hosting an Event of Your Own?\nColorado Under Par supports nonprofit\, corporate\, and private golf events from early planning through execution and day-of support. If you’re considering hosting an event\, start with a few quick questions and we’ll recommend the right level of support based on your goals and timeline. \nPlan Your Event
URL:https://coloradounderpar.com/event/7th-annual-fall-classic/
LOCATION:The Broadlands Golf Course\, 4380 W 144th Ave.\, Broomfield\, CO\, 80023\, United States
CATEGORIES:Golf Tournament
ATTACH;FMTTYPE=image/jpeg:https://coloradounderpar.com/wp-content/uploads/2025/12/Event-Hub-Banner-FallClassic.jpg
ORGANIZER;CN="Andrew Mueller":MAILTO:am@coloradounderpar.com
END:VEVENT
END:VCALENDAR