BEGIN:VCALENDAR
VERSION:2.0
PRODID:-//Colorado Under Par - ECPv6.15.20//NONSGML v1.0//EN
CALSCALE:GREGORIAN
METHOD:PUBLISH
X-ORIGINAL-URL:https://coloradounderpar.com
X-WR-CALDESC:Events for Colorado Under Par
REFRESH-INTERVAL;VALUE=DURATION:PT1H
X-Robots-Tag:noindex
X-PUBLISHED-TTL:PT1H
BEGIN:VTIMEZONE
TZID:America/Denver
BEGIN:DAYLIGHT
TZOFFSETFROM:-0700
TZOFFSETTO:-0600
TZNAME:MDT
DTSTART:20240310T090000
END:DAYLIGHT
BEGIN:STANDARD
TZOFFSETFROM:-0600
TZOFFSETTO:-0700
TZNAME:MST
DTSTART:20241103T080000
END:STANDARD
BEGIN:DAYLIGHT
TZOFFSETFROM:-0700
TZOFFSETTO:-0600
TZNAME:MDT
DTSTART:20250309T090000
END:DAYLIGHT
BEGIN:STANDARD
TZOFFSETFROM:-0600
TZOFFSETTO:-0700
TZNAME:MST
DTSTART:20251102T080000
END:STANDARD
BEGIN:DAYLIGHT
TZOFFSETFROM:-0700
TZOFFSETTO:-0600
TZNAME:MDT
DTSTART:20260308T090000
END:DAYLIGHT
BEGIN:STANDARD
TZOFFSETFROM:-0600
TZOFFSETTO:-0700
TZNAME:MST
DTSTART:20261101T080000
END:STANDARD
END:VTIMEZONE
BEGIN:VEVENT
DTSTART;TZID=America/Denver:20250616T080000
DTEND;TZID=America/Denver:20250616T170000
DTSTAMP:20260423T223254
CREATED:20251223T110333Z
LAST-MODIFIED:20260204T005242Z
UID:10000045-1750060800-1750093200@coloradounderpar.com
SUMMARY:Tee It Up for Veterans Annual Golf Tournament
DESCRIPTION:Event Summary\nThe Tee It Up for Veterans Annual Golf Tournament brought golfers\, sponsors\, and community partners together in support of Veterans and active-duty military Service Members. Designed as a mission-driven annual event\, the tournament combined a professionally organized golf experience with meaningful recognition\, appreciation\, and tangible support for those who have served our country. \nRooted in gratitude and community connection\, Tee It Up for Veterans created an environment where participants could enjoy a competitive and social day on the course while contributing to programs and resources that directly benefit military families. The event balanced purposeful storytelling with an engaging golfer experience\, reinforcing the importance of continued support for Veterans beyond moments of public recognition. \nAs a recurring event\, Tee It Up for Veterans demonstrated steady momentum by emphasizing thoughtful planning\, strong sponsor engagement\, and a golfer-first approach. Even with time and budget constraints\, the tournament succeeded in creating an atmosphere centered on appreciation\, connection\, and shared purpose—strengthening its foundation for future growth. \nEvent Details\nEvent Type: Charity TournamentBeneficiary: Community-Based CauseLocation: ColoradoFormat: Shotgun StartParticipants: Golfers\, Sponsors\, VolunteersStatus: Past Event \nEvent Impact & Community Outcomes\nA total of 140 golfers participated in the tournament\, resulting in near sell-out participation despite a limited promotional runway. Ten event sponsors supported the tournament\, contributing to both financial impact and on-course engagement. More than $15\,000 was raised to support Veterans and active-duty Service Members through mission-aligned programs and resources. On-course contests\, raffles\, and player gifting were incorporated to elevate the overall experience and encourage engagement throughout the day. \nThank You to Our Sponsors\nWe extend our sincere appreciation to the sponsors who believed in the vision of the Tee It Up for Veterans Annual Golf Tournament from the very beginning. Their support played a critical role in the event’s success and demonstrated a shared commitment to honoring and supporting those who have served. Sponsor participation also helped amplify awareness and reinforce the importance of continued investment in Veteran-focused initiatives. \nEvent Highlights\nThe shotgun-start format ensured a smooth and consistent pace of play for all participants. Sponsor activations were thoughtfully integrated to maximize interaction while maintaining a respectful and professional event atmosphere. Player contests and raffles added excitement and friendly competition across the course. Post-round awards and recognition provided an opportunity to celebrate participation\, generosity\, and service. \nEvent Support Overview\nDue to a short planning runway and a constrained budget\, support efforts were focused primarily on targeted marketing and sponsor visibility. While these limitations impacted the event’s ability to fully scale fundraising and outreach\, the strong turnout and near sell-out golfer participation demonstrated clear demand and community interest. The event’s success under compressed timelines highlights the tournament’s potential for increased impact with additional lead time and expanded resources in future years. \nEvent marketing & sponsor visibility:https://coloradounderpar.com//golf-tournament-marketing/ \nLooking Ahead\nWith strong golfer participation and engaged sponsors already in place\, Tee It Up for Veterans is well positioned for continued growth. Additional planning time and expanded marketing efforts could unlock higher fundraising totals\, increased sponsor activation opportunities\, and deeper community reach. The foundation established through this event reinforces its long-term viability as a meaningful platform for honoring Veterans and supporting those who continue to serve. \nWant to see how events like this have grown over time? \nExplore Upcoming Events:https://coloradounderpar.com//event-hub/
URL:https://coloradounderpar.com/event/tee-it-up-for-veterans-annual-golf-tournament/
LOCATION:Spring Valley Golf Club\, 42350 Co Rd 17/21\, Elizabeth\, CO\, 80107\, United States
CATEGORIES:Golf Tournament
ATTACH;FMTTYPE=image/webp:https://coloradounderpar.com/wp-content/uploads/2025/12/CUPPartner_TeeItUp-300x300-1.webp
ORGANIZER;CN="Andrew Mueller":MAILTO:am@coloradounderpar.com
END:VEVENT
END:VCALENDAR