BEGIN:VCALENDAR
VERSION:2.0
PRODID:-//Colorado Under Par - ECPv6.15.20//NONSGML v1.0//EN
CALSCALE:GREGORIAN
METHOD:PUBLISH
X-WR-CALNAME:Colorado Under Par
X-ORIGINAL-URL:https://coloradounderpar.com
X-WR-CALDESC:Events for Colorado Under Par
REFRESH-INTERVAL;VALUE=DURATION:PT1H
X-Robots-Tag:noindex
X-PUBLISHED-TTL:PT1H
BEGIN:VTIMEZONE
TZID:America/Denver
BEGIN:DAYLIGHT
TZOFFSETFROM:-0700
TZOFFSETTO:-0600
TZNAME:MDT
DTSTART:20250309T090000
END:DAYLIGHT
BEGIN:STANDARD
TZOFFSETFROM:-0600
TZOFFSETTO:-0700
TZNAME:MST
DTSTART:20251102T080000
END:STANDARD
BEGIN:DAYLIGHT
TZOFFSETFROM:-0700
TZOFFSETTO:-0600
TZNAME:MDT
DTSTART:20260308T090000
END:DAYLIGHT
BEGIN:STANDARD
TZOFFSETFROM:-0600
TZOFFSETTO:-0700
TZNAME:MST
DTSTART:20261101T080000
END:STANDARD
BEGIN:DAYLIGHT
TZOFFSETFROM:-0700
TZOFFSETTO:-0600
TZNAME:MDT
DTSTART:20270314T090000
END:DAYLIGHT
BEGIN:STANDARD
TZOFFSETFROM:-0600
TZOFFSETTO:-0700
TZNAME:MST
DTSTART:20271107T080000
END:STANDARD
END:VTIMEZONE
BEGIN:VEVENT
DTSTART;TZID=America/Denver:20260614T073000
DTEND;TZID=America/Denver:20260614T180000
DTSTAMP:20260423T163722
CREATED:20260422T043614Z
LAST-MODIFIED:20260422T043614Z
UID:10000207-1781422200-1781460000@coloradounderpar.com
SUMMARY:14th Annual Steakout Saloon Charity Golf Scramble
DESCRIPTION:Sunday\, June 14th 2026\nAll proceeds are donated towards community support and The City of Fort Collins Youth Recreational Sports Scholarship and Community support. The Fort Collins Youth Recreational Sports Scholarship helps provide children in our community with the means to participate in active & healthy recreational sports and activities that their families might otherwise struggle to afford. \nMy non-profit FOCO SNOW CHARITIES has contributed $120\,000 to the City of Fort Collins Youth Recreational Sports Scholarship and more than $70\,215.00 to various community support initiatives. \nThats over $197\,000 to total donations! Updated 2/2026 \n\n\nDATE & LOCATION:  \nSunday\, June 14th\, 2026- Event Day \nSouthridge Golf Course\, Fort Collins \nMonday\, June 15th- Awards\, Auctions & Brevity \nSteak-Out Saloon\, 152 W. Mountain\, Fort Collins \n\n\n\n\n\nEntry Deadline:  \nThis Tournament always fills quickly\, please register as soon as you can. We had to turn away over 100 golfers last year. \n\n\n\n\n\nFORMAT:  \n4-Person Scramble\, Shotgun Start. \nThis is a fast paced 5hr Round with lots of fun vendors and events along the course. Get an Uber! \n7:30 A.M. & 2:00 P.M. Shotgun Starts. \n\n\n\n\n\nSTANDARD ENTRY FEE INCLUDES:  \nGreen Fees\, Range Balls\, Cart\, Tournament Hat\, Goodie Bag\, & a buffet featuring delicious\, slow-smoked Southern BBQ catered by Mo Jeaux’s Bar & Grill.  The A.M. Flight also receives their choice of freshly baked New York style bagel and spread- courtesy of Gib’s New York Bagels. \n\n\n\n\n\nPRIZES & AWARDS:  \nIn addition to those teams and individuals that win on the course\, there will also be numerous Raffle Prizes and Live & Silent Auction opportunities! \n\n\n\n\n\nREGISTRATION FORMS:  \nWe have gone digital and registration is NOW only accepted through this platform. \n\n\n\n\n\nPAYMENT:  \nDue in-full at time of sign-up. When paying through the website\, please\, keep your order id for your records. \n\n\n\n\n\nPROVIDE ITEM DONATION TO BE USED IN THE SILENT AUCTION\, LIVE AUCTION\, OR AS A RAFFLE PRIZE – You decide the Retail Value of the item(s) donated.. \n\n\n\n\n\n* Spaces are limited and will be accepted in the order in which they are received.
URL:https://coloradounderpar.com/event/14th-annual-steakout-saloon-charity-golf-scramble/
LOCATION:Southridge Golf Course\, 5750 S Lemay Ave.\, Fort Collins\, CO\, 80525\, United States
CATEGORIES:Golf Tournament
ATTACH;FMTTYPE=image/jpeg:https://coloradounderpar.com/wp-content/uploads/2026/04/675482459_26600362149604126_4818372745884739083_n.jpg
END:VEVENT
END:VCALENDAR