BEGIN:VCALENDAR
VERSION:2.0
PRODID:-//Colorado Under Par - ECPv6.15.20//NONSGML v1.0//EN
CALSCALE:GREGORIAN
METHOD:PUBLISH
X-ORIGINAL-URL:https://coloradounderpar.com
X-WR-CALDESC:Events for Colorado Under Par
REFRESH-INTERVAL;VALUE=DURATION:PT1H
X-Robots-Tag:noindex
X-PUBLISHED-TTL:PT1H
BEGIN:VTIMEZONE
TZID:America/Denver
BEGIN:DAYLIGHT
TZOFFSETFROM:-0700
TZOFFSETTO:-0600
TZNAME:MDT
DTSTART:20230312T090000
END:DAYLIGHT
BEGIN:STANDARD
TZOFFSETFROM:-0600
TZOFFSETTO:-0700
TZNAME:MST
DTSTART:20231105T080000
END:STANDARD
BEGIN:DAYLIGHT
TZOFFSETFROM:-0700
TZOFFSETTO:-0600
TZNAME:MDT
DTSTART:20240310T090000
END:DAYLIGHT
BEGIN:STANDARD
TZOFFSETFROM:-0600
TZOFFSETTO:-0700
TZNAME:MST
DTSTART:20241103T080000
END:STANDARD
BEGIN:DAYLIGHT
TZOFFSETFROM:-0700
TZOFFSETTO:-0600
TZNAME:MDT
DTSTART:20250309T090000
END:DAYLIGHT
BEGIN:STANDARD
TZOFFSETFROM:-0600
TZOFFSETTO:-0700
TZNAME:MST
DTSTART:20251102T080000
END:STANDARD
BEGIN:DAYLIGHT
TZOFFSETFROM:-0700
TZOFFSETTO:-0600
TZNAME:MDT
DTSTART:20260308T090000
END:DAYLIGHT
BEGIN:STANDARD
TZOFFSETFROM:-0600
TZOFFSETTO:-0700
TZNAME:MST
DTSTART:20261101T080000
END:STANDARD
END:VTIMEZONE
BEGIN:VEVENT
DTSTART;TZID=America/Denver:20250821T080000
DTEND;TZID=America/Denver:20250821T150000
DTSTAMP:20260424T001659
CREATED:20251223T070441Z
LAST-MODIFIED:20260204T013844Z
UID:10000011-1755763200-1755788400@coloradounderpar.com
SUMMARY:Aurora Shines Golf Tournament
DESCRIPTION:Event Summary\nThe Aurora Shines Golf Tournament brought golfers\, sponsors\, and community supporters together in support of the Aurora Animal Shelter\, creating a purpose-driven day on the course centered on compassion\, connection\, and community impact. Designed as a mission-focused charity golf event\, the tournament paired a professionally organized golf experience with meaningful support for animal care\, shelter operations\, and adoption services within the Aurora community. \nBy using golf as a platform for engagement\, the event created space for participants to rally around a shared commitment to protecting and caring for animals in need. Thoughtful planning\, sponsor participation\, and a welcoming golfer experience helped ensure the day was both enjoyable and impactful\, reinforcing the importance of community involvement in animal welfare efforts. \nAs an inaugural event\, Aurora Shines successfully established visibility and awareness for the cause while laying the groundwork for future growth\, expanded outreach\, and increased community participation. \n\nWhy This Event Mattered\nThe Aurora Animal Shelter plays a critical role in providing humane care\, medical treatment\, and safe placement for animals in need. Beyond sheltering\, the organization is deeply committed to education\, outreach\, and adoption programs that strengthen the bond between people and pets while promoting responsible animal care throughout the community. \nEvents like the Aurora Shines Golf Tournament help extend that mission beyond the shelter’s walls. By bringing people together in a positive\, community-driven setting\, the event raised awareness around animal welfare challenges while encouraging long-term engagement and support. Even in its first year\, the tournament contributed meaningful visibility and connection for the Shelter’s work and its impact across Aurora. \n\nEvent Details\nEvent Type: Charity Golf TournamentBeneficiary: Aurora Animal ShelterLocation: ColoradoFormat: Shotgun StartParticipants: Golfers\, Sponsors\, VolunteersStatus: Past Event \n\nEvent Impact & Community Outcomes\nA total of 80 golfers participated\, demonstrating strong community interest and support for the inaugural event.The tournament was supported by 8 event sponsors\, contributing to on-course engagement and overall event execution.More than $1\,000 was raised to directly benefit the Aurora Animal Shelter and its programs.On-course contests\, raffles\, and player gifting enhanced the golfer experience and added engagement throughout the day. \nWhile fundraising totals were modest\, the event succeeded in delivering visibility\, awareness\, and community connection—key objectives for a first-year tournament. The experience also provided valuable insight into outreach strategy\, sponsor activation\, and event structure to inform future growth. \n\nThank You to Our Sponsors\nWe extend our sincere appreciation to the sponsors who supported the Aurora Shines Golf Tournament and believed in its mission from the beginning. Their early involvement helped bring the event to life\, created a positive experience for golfers\, and supported the Aurora Animal Shelter’s important work. Sponsor participation played a key role in establishing a strong foundation for future iterations of the event. \n\nEvent Highlights\nThe shotgun-start format created a shared and engaging tournament experience across the course.Early sponsor activations encouraged interaction and reinforced mission alignment.Player contests and raffle prizes added excitement and energy throughout the day.Post-round awards and recognition provided a strong closing moment for participants and supporters. \n\nEvent Support Overview\nAs an inaugural event\, the tournament benefited from hands-on planning and on-site coordination to ensure a smooth and professional experience for all participants. Colorado Under Par supported the event through logistics planning\, sponsor coordination\, and day-of execution\, allowing organizers to focus on mission alignment\, community engagement\, and supporter relationships. \nEvent planning & logistics:https://coloradounderpar.com//golf-tournament-management/ \nEvent marketing & sponsor visibility:https://coloradounderpar.com//golf-tournament-marketing/ \n\nLooking Ahead\nThe Aurora Shines Golf Tournament demonstrates how community-driven events can serve as meaningful starting points for long-term impact. With continued refinement\, expanded outreach\, and sustained community support\, future iterations of the event are well-positioned to grow participation\, sponsorship\, and resources for animals in need. \nWant to see how events like this continue to evolve? \nExplore Upcoming Events:https://coloradounderpar.com//event-hub/
URL:https://coloradounderpar.com/event/aurora-shines-golf-tournament/
LOCATION:Saddle Rock\, 21705 E Arapahoe Rd\, Aurora\, CO\, 80016\, United States
CATEGORIES:Golf Tournament
ATTACH;FMTTYPE=image/png:https://coloradounderpar.com/wp-content/uploads/2025/12/3dedaf6c-4578-49a7-8f8e-7a8212fb4bfb.png
ORGANIZER;CN="Andrew Mueller":MAILTO:am@coloradounderpar.com
END:VEVENT
BEGIN:VEVENT
DTSTART;TZID=America/Denver:20240829T080000
DTEND;TZID=America/Denver:20240829T140000
DTSTAMP:20260424T001659
CREATED:20251223T085020Z
LAST-MODIFIED:20260203T235617Z
UID:10000025-1724918400-1724940000@coloradounderpar.com
SUMMARY:2nd Annual Springboard Child Care Charity Golf Tournament
DESCRIPTION:Event Summary\nThe 2nd Annual Springboard Child Care Charity Golf Tournament marked an important evolution in Springboard Child Care’s fundraising journey. Following its role as a beneficiary of the Fall Classic\, Springboard Child Care took the initiative to host a standalone golf tournament of its own\, partnering with Colorado Under Par for planning\, coordination\, and execution support. The result was a polished and purpose-driven event designed to further advance access to quality child care and early education resources across Colorado. \nBuilding on the success and confidence gained from the previous year\, the second annual tournament brought golfers and sponsors together for a meaningful day on the course rooted in community connection and shared impact. The event reflected Springboard Child Care’s growing commitment to creating sustainable fundraising opportunities that directly support families\, providers\, and early childhood education initiatives statewide. \nWhy This Event Matters\nSpringboard Child Care plays a critical role in supporting Colorado families by improving access to affordable\, high-quality child care and strengthening early education systems. As demand for child care resources continues to grow\, so does the need for consistent community investment and awareness. \nBy hosting a standalone charity golf tournament\, Springboard Child Care created an opportunity to engage supporters in a new way—bringing together advocates\, partners\, and community members around a shared mission. The event helped elevate awareness of the organization’s work while reinforcing the importance of early childhood education as a foundation for long-term family and economic stability. \nHow Your Support Creates Impact\nSupport generated through the 2nd Annual Springboard Child Care Charity Golf Tournament directly contributed to programs and initiatives that expand access to child care services and support providers across Colorado. Funds raised through the event help strengthen organizational capacity\, improve outreach efforts\, and ensure families have access to the resources they need during critical early years. \nBeyond financial impact\, the tournament fostered meaningful connections between supporters and the mission. Each golfer registration and sponsorship helped build momentum for Springboard Child Care’s ongoing work\, reinforcing a network of advocates committed to improving outcomes for children and families statewide. \nEvent Details\nEvent Type: Charity TournamentBeneficiary: Community-Based CauseLocation: ColoradoFormat: Shotgun StartParticipants: Golfers\, Sponsors\, VolunteersStatus: Past Event \nEvent Impact & Community Outcomes\n64 golfers participated in the tournament\, reflecting strong engagement from returning supporters and new participants alike.6 event sponsors supported the event\, contributing to enhanced visibility and on-course experiences.More than $8\,000 was raised for the beneficiary\, directly supporting Springboard Child Care programs and initiatives.On-course contests\, raffles\, and player gifting were introduced to elevate the golfer experience and encourage participation. \nThank You to Our Sponsors\nWe extend our sincere appreciation to the sponsors who believed in the vision of the 2nd Annual Springboard Child Care Charity Golf Tournament from the very beginning. Their support played a key role in helping Springboard Child Care successfully host a standalone event and continue building sustainable fundraising momentum. \nEvent Highlights\nThe tournament featured a shotgun-start format designed to encourage interaction and maintain a smooth pace of play.Early-stage sponsor activations created opportunities for engagement throughout the course.Player contests and raffle prizes added excitement and friendly competition.Post-round awards and recognition provided a meaningful close to the day. \nEvent Support Overview\nAs an annual event\, the tournament benefited from hands-on planning and on-site coordination by Colorado Under Par\, allowing the Springboard Child Care team to focus on outreach\, golfer participation\, and sponsor relationships while ensuring a seamless event-day experience. \nEvent planning & logistics:https://coloradounderpar.com//golf-tournament-management/ \nEvent marketing & sponsor visibility:https://coloradounderpar.com//golf-tournament-marketing/ \nLooking Ahead\nWant to see how events like this continue to grow and evolve after a successful first year? \nExplore Upcoming Events:https://coloradounderpar.com//event-hub/
URL:https://coloradounderpar.com/event/2nd-annual-springboard-child-care-charity-golf-tournament/
LOCATION:Saddle Rock\, 21705 E Arapahoe Rd\, Aurora\, CO\, 80016\, United States
CATEGORIES:Golf Tournament
ATTACH;FMTTYPE=image/png:https://coloradounderpar.com/wp-content/uploads/2025/12/e8bb6840-5e39-4627-86cc-9fcf65beba1b.png
ORGANIZER;CN="Andrew Mueller":MAILTO:am@coloradounderpar.com
END:VEVENT
END:VCALENDAR