BEGIN:VCALENDAR
VERSION:2.0
PRODID:-//Colorado Under Par - ECPv6.15.20//NONSGML v1.0//EN
CALSCALE:GREGORIAN
METHOD:PUBLISH
X-ORIGINAL-URL:https://coloradounderpar.com
X-WR-CALDESC:Events for Colorado Under Par
REFRESH-INTERVAL;VALUE=DURATION:PT1H
X-Robots-Tag:noindex
X-PUBLISHED-TTL:PT1H
BEGIN:VTIMEZONE
TZID:America/Denver
BEGIN:DAYLIGHT
TZOFFSETFROM:-0700
TZOFFSETTO:-0600
TZNAME:MDT
DTSTART:20220313T090000
END:DAYLIGHT
BEGIN:STANDARD
TZOFFSETFROM:-0600
TZOFFSETTO:-0700
TZNAME:MST
DTSTART:20221106T080000
END:STANDARD
BEGIN:DAYLIGHT
TZOFFSETFROM:-0700
TZOFFSETTO:-0600
TZNAME:MDT
DTSTART:20230312T090000
END:DAYLIGHT
BEGIN:STANDARD
TZOFFSETFROM:-0600
TZOFFSETTO:-0700
TZNAME:MST
DTSTART:20231105T080000
END:STANDARD
BEGIN:DAYLIGHT
TZOFFSETFROM:-0700
TZOFFSETTO:-0600
TZNAME:MDT
DTSTART:20240310T090000
END:DAYLIGHT
BEGIN:STANDARD
TZOFFSETFROM:-0600
TZOFFSETTO:-0700
TZNAME:MST
DTSTART:20241103T080000
END:STANDARD
BEGIN:DAYLIGHT
TZOFFSETFROM:-0700
TZOFFSETTO:-0600
TZNAME:MDT
DTSTART:20250309T090000
END:DAYLIGHT
BEGIN:STANDARD
TZOFFSETFROM:-0600
TZOFFSETTO:-0700
TZNAME:MST
DTSTART:20251102T080000
END:STANDARD
BEGIN:DAYLIGHT
TZOFFSETFROM:-0700
TZOFFSETTO:-0600
TZNAME:MDT
DTSTART:20260308T090000
END:DAYLIGHT
BEGIN:STANDARD
TZOFFSETFROM:-0600
TZOFFSETTO:-0700
TZNAME:MST
DTSTART:20261101T080000
END:STANDARD
END:VTIMEZONE
BEGIN:VEVENT
DTSTART;TZID=America/Denver:20250929T090000
DTEND;TZID=America/Denver:20250929T170000
DTSTAMP:20260423T171859
CREATED:20251223T103753Z
LAST-MODIFIED:20260203T165050Z
UID:10000038-1759136400-1759165200@coloradounderpar.com
SUMMARY:Links Fore Liam
DESCRIPTION:Links FORE Liam Charity Golf Tournament\n📍 Colorado • ⛳ Charity Golf Event \nEvent Summary\nThe Links FORE Liam Charity Golf Tournament brought golfers\, sponsors\, and community supporters together in honor of Liam and in support of Links FORE Liam\, an organization dedicated to raising awareness and providing meaningful assistance to children and families facing pediatric cancer. Built around compassion\, connection\, and action\, the tournament paired a professionally organized golf experience with a deeply personal mission. \nDesigned as a mission-first event\, Links FORE Liam emphasized thoughtful planning\, strong sponsor engagement\, and an enjoyable golfer experience—creating space for community members to come together in support of families navigating an incredibly challenging journey. Through shared participation\, the event transformed collective generosity into tangible impact for those facing pediatric cancer. \n\nWhy This Event Mattered\nPediatric cancer impacts not only the child receiving treatment\, but entire families navigating emotional\, financial\, and logistical challenges. Links FORE Liam exists to support families during these moments by raising awareness\, easing financial strain\, and creating a network of care grounded in empathy and community. \nEvents like the Links FORE Liam Charity Golf Tournament play a critical role in sustaining this mission. Beyond fundraising\, the tournament provided visibility\, fostered understanding\, and brought people together around a cause that resonates deeply. By leveraging golf as a platform for engagement\, the event helped convert awareness into meaningful action for families who need support the most. \n\nEvent Details\nEvent Type: Charity TournamentBeneficiary: Community-Based CauseLocation: ColoradoFormat: Shotgun StartParticipants: Golfers\, Sponsors\, VolunteersStatus: Past Event \n\nEvent Impact & Community Outcomes\n\n\n🏌️ 90 golfers participated \n\n\n🤝 10 event sponsors supported the tournament \n\n\n💰 $25\,000+ raised for the beneficiary \n\n\n🎁 On-course contests\, raffles\, and player gifting introduced \n\n\n\nThank You to Our Sponsors\nWe extend our sincere appreciation to the sponsors who believed in the vision of the Links FORE Liam Charity Golf Tournament and supported its mission from the beginning. Their generosity and involvement helped create a high-quality event experience while ensuring meaningful support reached families in need. Sponsor participation played a vital role in amplifying impact and sustaining the organization’s work. \n\nEvent Highlights\n\n\nShotgun-start tournament format \n\n\nEarly-stage sponsor activations \n\n\nPlayer contests and raffle prizes \n\n\nPost-round awards and recognition \n\n\n\nEvent Support Overview\nAs an annual event\, the tournament benefited from hands-on planning and on-site coordination to ensure a smooth and professional experience for all participants. \n\n\nEvent planning & logistics:https://coloradounderpar.com//golf-tournament-management/ \n\n\nEvent marketing & sponsor visibility:https://coloradounderpar.com//golf-tournament-marketing/ \n\n\nEvent photography & media coverage:https://coloradounderpar.com//day-of-media/ \n\n\n\nLooking Ahead\nWant to see how events like this have grown over time? \nExplore Upcoming Events:https://coloradounderpar.com//event-hub/
URL:https://coloradounderpar.com/event/links-fore-liam/
LOCATION:Red Rocks Country Club\, 16235 W Belleview Dr`\, Morrison\, CO\, 80465\, United States
CATEGORIES:Golf Tournament
ATTACH;FMTTYPE=image/webp:https://coloradounderpar.com/wp-content/uploads/2025/12/CUPPartner_LinksForeLiam-300x150-1.webp
ORGANIZER;CN="Andrew Mueller":MAILTO:am@coloradounderpar.com
END:VEVENT
BEGIN:VEVENT
DTSTART;TZID=America/Denver:20240923T100000
DTEND;TZID=America/Denver:20240923T150000
DTSTAMP:20260423T171859
CREATED:20251223T073559Z
LAST-MODIFIED:20260204T000316Z
UID:10000023-1727085600-1727103600@coloradounderpar.com
SUMMARY:Birdies FORE Benefits!
DESCRIPTION:Event Summary\nBirdies FORE Benefits! marked the second year West Colfax Kiwanis partnered with Colorado Under Par for event logistics and execution support. Building on the structure and operational success of the prior year’s FORE! For Food tournament\, the event introduced a new beneficiary\, Benefits in Action\, and continued the goal of hosting a professionally managed\, community-focused charity golf experience. \nDesigned as a purpose-driven tournament\, Birdies FORE Benefits! brought golfers and sponsors together for a meaningful day on the course while supporting access to health care and essential services for individuals and families across Colorado. With a strong operational foundation in place\, the event delivered a smooth and engaging golf experience centered on community connection and impact. \nWhy This Event Matters\nBenefits in Action plays an important role in supporting individuals and families navigating critical health needs by improving access to care\, advocacy services\, and essential resources. Events like Birdies FORE Benefits! help elevate awareness of these services while creating opportunities for community members to engage directly with the mission. \nFor West Colfax Kiwanis\, the tournament represented a continued commitment to leveraging golf as a platform for service and fundraising. By introducing a new beneficiary\, the organization sought to broaden its impact and support additional community needs through a familiar and proven event format. \nHow Your Support Creates Impact\nSupport generated through Birdies FORE Benefits! contributed directly to Benefits in Action’s ability to continue providing health-focused services and advocacy support across Colorado. While participation and fundraising totals reflected a transitional year with a new beneficiary and outreach structure\, the event successfully delivered resources and awareness to support ongoing programs. \nBeyond financial contributions\, the tournament reinforced the importance of alignment and collaboration between event organizers and beneficiaries. Each golfer registration\, sponsorship\, and on-course interaction helped maintain momentum for future growth while preserving the event’s strong operational standards. \nEvent Details\nEvent Type: Charity TournamentBeneficiary: Community-Based CauseLocation: ColoradoFormat: Shotgun StartParticipants: Golfers\, Sponsors\, VolunteersStatus: Past Event \nEvent Impact & Community Outcomes\n72 golfers participated in the tournament\, engaging in a professionally managed and enjoyable day on the course.4 event sponsors supported the event\, contributing to visibility and on-course experiences.More than $2\,000 was raised for the beneficiary\, supporting access-focused programs and services.On-course contests\, raffles\, and player gifting were included to enhance golfer engagement and experience. \nThank You to Our Sponsors\nWe extend our sincere appreciation to the sponsors who believed in the vision of Birdies FORE Benefits! from the very beginning. Their support helped ensure the event maintained a high-quality experience while continuing to serve a meaningful community cause. \nEvent Highlights\nThe tournament featured a shotgun-start format that supported efficient play and social interaction.Early-stage sponsor activations created opportunities for engagement throughout the course.Player contests and raffle prizes added excitement and friendly competition.Post-round awards and recognition provided a thoughtful close to the day. \nEvent Support Overview\nAs a second-year event\, Birdies FORE Benefits! benefited from hands-on planning and on-site coordination by Colorado Under Par. This allowed West Colfax Kiwanis to focus on participant engagement while ensuring logistics\, event flow\, and golfer experience were professionally managed from start to finish. \nEvent planning & logistics:https://coloradounderpar.com//golf-tournament-management/ \nEvent marketing & sponsor visibility:https://coloradounderpar.com//golf-tournament-marketing/ \nLooking Ahead\nWant to see how returning events evolve year over year and what drives growth? \nExplore Upcoming Events:https://coloradounderpar.com//event-hub/
URL:https://coloradounderpar.com/event/birdies-fore-benefits/
LOCATION:Red Rocks Country Club\, 16235 W Belleview Dr`\, Morrison\, CO\, 80465\, United States
CATEGORIES:Golf Tournament
ATTACH;FMTTYPE=image/png:https://coloradounderpar.com/wp-content/uploads/2025/12/CUP_BIA.png
ORGANIZER;CN="Andrew Mueller":MAILTO:am@coloradounderpar.com
END:VEVENT
BEGIN:VEVENT
DTSTART;TZID=America/Denver:20231002T100000
DTEND;TZID=America/Denver:20231002T150000
DTSTAMP:20260423T171859
CREATED:20251230T203516Z
LAST-MODIFIED:20260203T223202Z
UID:10000083-1696240800-1696258800@coloradounderpar.com
SUMMARY:FORE! For Food
DESCRIPTION:Event Summary\nThe FORE! For Food Charity Golf Tournament brought golfers\, sponsors\, and community supporters together in support of Jeffco Eats\, an organization dedicated to reducing food insecurity and expanding access to meals across Jefferson County. Designed as a community-driven event\, the tournament paired a professionally organized golf experience with a meaningful cause focused on local\, tangible impact. \nAs a first-year event\, FORE! For Food delivered a strong showing through thoughtful planning\, sponsor participation\, and an enjoyable golfer experience. The tournament established a solid foundation while demonstrating how community-focused events can quickly generate awareness\, engagement\, and measurable results. \n\nWhy This Event Mattered\nJeffco Eats plays a critical role in addressing hunger by connecting families and individuals with reliable access to food and nutrition resources. In communities facing rising food insecurity\, fundraising events like FORE! For Food help ensure that local organizations can continue providing meals\, outreach\, and support to those who need it most. \nThis event mattered because it mobilized the community around a shared responsibility to care for neighbors. By combining recreation with purpose\, the tournament created an accessible and engaging way for participants and sponsors to contribute directly to hunger relief efforts within Jefferson County. \n\nHow Support Created Impact\nSupport from the FORE! For Food Charity Golf Tournament translated directly into expanded resources for Jeffco Eats’ hunger relief initiatives. Funds raised through the event helped strengthen food distribution programs\, increase meal access\, and support ongoing efforts to reduce food insecurity at the local level. \nBeyond fundraising\, the tournament amplified awareness of Jeffco Eats’ mission. Each golfer registration\, sponsorship\, and on-course interaction helped spark conversations around food access and community responsibility\, encouraging continued involvement beyond the event itself. \n\nEvent Details\nEvent Type: Charity TournamentBeneficiary: Community-Based CauseLocation: ColoradoFormat: Shotgun StartParticipants: Golfers\, Sponsors\, VolunteersStatus: Past Event \n\nEvent Impact & Community Outcomes\n144 golfers participated in the FORE! For Food Charity Golf Tournament.12 event sponsors supported the tournament.More than $35\,000 was raised for the beneficiary.On-course contests\, raffles\, and player gifting were introduced to enhance the overall golfer experience. \n\nThank You to Our Sponsors\nWe extend our sincere appreciation to the sponsors who believed in the vision of FORE! For Food from the very beginning. Their early support played a key role in launching an event model that generated meaningful local impact and strong community engagement. \n\nEvent Highlights\nThe event featured a shotgun-start tournament format that delivered a smooth and energetic pace of play.Early-stage sponsor activations created visibility and engagement opportunities throughout the course.Player contests and raffle prizes added excitement and participation across all skill levels.Post-round awards and recognition provided a strong and celebratory close to the day. \n\nEvent Support Overview\nAs an inaugural event\, the tournament benefited from hands-on planning and on-site coordination to ensure a smooth and professional experience for all participants. Support focused on event logistics\, course coordination\, sponsor execution\, and day-of flow\, allowing organizers to concentrate on fundraising\, partnerships\, and mission alignment. \nEvent planning and logistics support was provided through Colorado Under Par’s golf tournament management services\, with additional marketing support to enhance sponsor visibility and pre-event awareness. \nEvent planning & logistics:https://coloradounderpar.com//golf-tournament-management/ \nEvent marketing & sponsor visibility:https://coloradounderpar.com//golf-tournament-marketing/ \n\nLooking Ahead\nWant to see how community-focused charity golf events like this continue to grow and drive local impact? \nExplore Upcoming Events:https://coloradounderpar.com//event-hub/
URL:https://coloradounderpar.com/event/fore-for-food/
LOCATION:Red Rocks Country Club\, 16235 W Belleview Dr`\, Morrison\, CO\, 80465\, United States
CATEGORIES:Golf Tournament
ATTACH;FMTTYPE=image/png:https://coloradounderpar.com/wp-content/uploads/2025/12/CUP_BIA.png
ORGANIZER;CN="Andrew Mueller":MAILTO:am@coloradounderpar.com
END:VEVENT
END:VCALENDAR