BEGIN:VCALENDAR
VERSION:2.0
PRODID:-//Colorado Under Par - ECPv6.15.20//NONSGML v1.0//EN
CALSCALE:GREGORIAN
METHOD:PUBLISH
X-WR-CALNAME:Colorado Under Par
X-ORIGINAL-URL:https://coloradounderpar.com
X-WR-CALDESC:Events for Colorado Under Par
REFRESH-INTERVAL;VALUE=DURATION:PT1H
X-Robots-Tag:noindex
X-PUBLISHED-TTL:PT1H
BEGIN:VTIMEZONE
TZID:America/Denver
BEGIN:DAYLIGHT
TZOFFSETFROM:-0700
TZOFFSETTO:-0600
TZNAME:MDT
DTSTART:20250309T090000
END:DAYLIGHT
BEGIN:STANDARD
TZOFFSETFROM:-0600
TZOFFSETTO:-0700
TZNAME:MST
DTSTART:20251102T080000
END:STANDARD
BEGIN:DAYLIGHT
TZOFFSETFROM:-0700
TZOFFSETTO:-0600
TZNAME:MDT
DTSTART:20260308T090000
END:DAYLIGHT
BEGIN:STANDARD
TZOFFSETFROM:-0600
TZOFFSETTO:-0700
TZNAME:MST
DTSTART:20261101T080000
END:STANDARD
BEGIN:DAYLIGHT
TZOFFSETFROM:-0700
TZOFFSETTO:-0600
TZNAME:MDT
DTSTART:20270314T090000
END:DAYLIGHT
BEGIN:STANDARD
TZOFFSETFROM:-0600
TZOFFSETTO:-0700
TZNAME:MST
DTSTART:20271107T080000
END:STANDARD
END:VTIMEZONE
BEGIN:VEVENT
DTSTART;TZID=America/Denver:20260619T080000
DTEND;TZID=America/Denver:20260619T170000
DTSTAMP:20260423T222916
CREATED:20260418T051023Z
LAST-MODIFIED:20260418T051023Z
UID:10000193-1781856000-1781888400@coloradounderpar.com
SUMMARY:It's All About the Kids Annual Golf Tournament
DESCRIPTION:About This Event\n\nThe Shiloh House “It’s All About the Kids” Annual Golf Tournament will take place on June 19th at Red Hawk Ridge Golf Course. Proceeds from the tournament sponsor youth in our Beyond the Walls program who are transitioning out of foster care and stepping into adulthood without reliable support systems. This program focuses on building practical life skills\, such as budgeting\, job readiness\, and housing stability\, so young people can move forward with confidence and independence. \nYour involvement plays a meaningful role in helping us reach our fundraising goal and\, more importantly\, in changing the trajectory of a young person’s future. Additional information about the event and sponsorship opportunities can be found at ShilohHouse.org. If you have questions or would like to discuss sponsorship options\, please feel free to contact our Development Team at development@shilohhouse.net. Thank you for your support!
URL:https://coloradounderpar.com/event/its-all-about-the-kids-annual-golf-tournament/
LOCATION:Red Hawk Ridge Golf Course\, 2156 Red Hawk Ridge Dr\, Castle Rock\, 80109\, United States
CATEGORIES:Golf Tournament
ATTACH;FMTTYPE=image/jpeg:https://coloradounderpar.com/wp-content/uploads/2026/04/11CF37B2-DDB3-4850-AF3F-DDC89DE3F7B7_1_105_c.jpeg
END:VEVENT
END:VCALENDAR