BEGIN:VCALENDAR
VERSION:2.0
PRODID:-//Colorado Under Par - ECPv6.15.20//NONSGML v1.0//EN
CALSCALE:GREGORIAN
METHOD:PUBLISH
X-ORIGINAL-URL:https://coloradounderpar.com
X-WR-CALDESC:Events for Colorado Under Par
REFRESH-INTERVAL;VALUE=DURATION:PT1H
X-Robots-Tag:noindex
X-PUBLISHED-TTL:PT1H
BEGIN:VTIMEZONE
TZID:America/Denver
BEGIN:DAYLIGHT
TZOFFSETFROM:-0700
TZOFFSETTO:-0600
TZNAME:MDT
DTSTART:20230312T090000
END:DAYLIGHT
BEGIN:STANDARD
TZOFFSETFROM:-0600
TZOFFSETTO:-0700
TZNAME:MST
DTSTART:20231105T080000
END:STANDARD
BEGIN:DAYLIGHT
TZOFFSETFROM:-0700
TZOFFSETTO:-0600
TZNAME:MDT
DTSTART:20240310T090000
END:DAYLIGHT
BEGIN:STANDARD
TZOFFSETFROM:-0600
TZOFFSETTO:-0700
TZNAME:MST
DTSTART:20241103T080000
END:STANDARD
BEGIN:DAYLIGHT
TZOFFSETFROM:-0700
TZOFFSETTO:-0600
TZNAME:MDT
DTSTART:20250309T090000
END:DAYLIGHT
BEGIN:STANDARD
TZOFFSETFROM:-0600
TZOFFSETTO:-0700
TZNAME:MST
DTSTART:20251102T080000
END:STANDARD
END:VTIMEZONE
BEGIN:VEVENT
DTSTART;TZID=America/Denver:20240714T080000
DTEND;TZID=America/Denver:20240714T170000
DTSTAMP:20260423T223320
CREATED:20260102T203319Z
LAST-MODIFIED:20260203T235010Z
UID:10000095-1720944000-1720976400@coloradounderpar.com
SUMMARY:9th Annual Save-A-Life
DESCRIPTION:Event Summary\nThe 9th Annual Save-A-Life Charity Golf Tournament represented nearly a decade of sustained commitment to opioid education\, prevention\, and community awareness. Benefiting the JP Opioid Interaction Awareness Alliance\, the tournament brought golfers\, sponsors\, and community partners together for a mission-driven day focused on saving lives and expanding access to vital resources. \nAs one of the longest-running events in this series\, the Save-A-Life tournament reflected the power of consistency and community-led action. Year after year\, the event has continued to grow through thoughtful planning\, strong sponsor relationships\, and an enjoyable golfer experience—underscoring the importance of showing up repeatedly to address an ongoing public health crisis. \nWhy This Event Matters\nThe opioid crisis continues to impact families and communities across Colorado and beyond. Education\, awareness\, and prevention remain critical components in reducing overdose risk and improving outcomes for individuals affected by opioid misuse. \nThe Save-A-Life Charity Golf Tournament plays a meaningful role in this effort by transforming awareness into action. Through a welcoming and engaging golf experience\, the event creates space for important conversations while mobilizing financial support for education initiatives\, community outreach\, and life-saving resources. By returning year after year\, this event reinforces the message that addressing the opioid crisis requires sustained attention—not one-time efforts. \nHow Your Support Creates Impact\nSupport for the 9th Annual Save-A-Life Charity Golf Tournament directly strengthened the JP Opioid Interaction Awareness Alliance’s ability to deliver education\, outreach\, and prevention resources throughout the community. Golfer participation\, sponsor involvement\, and on-course engagement collectively contributed to expanding access to programs designed to save lives. \nBeyond fundraising\, the event helped amplify awareness by bringing together individuals\, organizations\, and businesses committed to making a difference. Each registration and sponsorship reinforced a shared responsibility to support prevention efforts and ensure communities have the tools they need to respond effectively. \nEvent Details\nEvent Type: Community TournamentBeneficiary: Community-Based CauseLocation: ColoradoFormat: Shotgun StartParticipants: Golfers\, Sponsors\, VolunteersStatus: Past Event \nEvent Impact & Community Outcomes\n144 golfers participated in the tournament\, filling the field and creating strong on-course energy throughout the day.16 event sponsors supported the tournament through early commitments and visible engagement.More than $65\,000 was raised for the beneficiary\, marking the most successful year to date.On-course contests\, raffles\, and player gifting were incorporated to enhance the overall participant experience. \nThank You to Our Sponsors\nWe extend our sincere appreciation to the sponsors who believed in the vision of the 9th Annual Save-A-Life Charity Golf Tournament from the very beginning. Their continued support has played a critical role in sustaining this event year after year and expanding its reach and impact across the community. \nEvent Highlights\nThe tournament featured a shotgun-start format designed to maintain steady pace of play and encourage interaction.Sponsor activations and on-course experiences created engagement opportunities throughout the round.Player contests and raffle prizes added excitement while reinforcing the event’s mission.Post-round awards and recognition provided a meaningful close to the day. \nEvent Support Overview\nAs a long-standing annual event\, the tournament benefited from hands-on planning and on-site coordination to ensure a smooth\, professional\, and scalable experience for all participants. \nEvent planning & logistics:https://coloradounderpar.com//golf-tournament-management/ \nEvent marketing & sponsor visibility:https://coloradounderpar.com//golf-tournament-marketing/ \nLooking Ahead\nWant to see how long-running events like this continue to grow and evolve over time? \nExplore Upcoming Events:https://coloradounderpar.com//event-hub/
URL:https://coloradounderpar.com/event/9th-annual-save-a-life/
LOCATION:Red Hawk Ridge Golf Course\, 2156 Red Hawk Ridge Dr\, Castle Rock\, 80109\, United States
CATEGORIES:Golf Tournament
ATTACH;FMTTYPE=image/png:https://coloradounderpar.com/wp-content/uploads/2025/12/Untitled-design.png
END:VEVENT
END:VCALENDAR