BEGIN:VCALENDAR
VERSION:2.0
PRODID:-//Colorado Under Par - ECPv6.15.20//NONSGML v1.0//EN
CALSCALE:GREGORIAN
METHOD:PUBLISH
X-WR-CALNAME:Colorado Under Par
X-ORIGINAL-URL:https://coloradounderpar.com
X-WR-CALDESC:Events for Colorado Under Par
REFRESH-INTERVAL;VALUE=DURATION:PT1H
X-Robots-Tag:noindex
X-PUBLISHED-TTL:PT1H
BEGIN:VTIMEZONE
TZID:America/Denver
BEGIN:DAYLIGHT
TZOFFSETFROM:-0700
TZOFFSETTO:-0600
TZNAME:MDT
DTSTART:20250309T090000
END:DAYLIGHT
BEGIN:STANDARD
TZOFFSETFROM:-0600
TZOFFSETTO:-0700
TZNAME:MST
DTSTART:20251102T080000
END:STANDARD
BEGIN:DAYLIGHT
TZOFFSETFROM:-0700
TZOFFSETTO:-0600
TZNAME:MDT
DTSTART:20260308T090000
END:DAYLIGHT
BEGIN:STANDARD
TZOFFSETFROM:-0600
TZOFFSETTO:-0700
TZNAME:MST
DTSTART:20261101T080000
END:STANDARD
BEGIN:DAYLIGHT
TZOFFSETFROM:-0700
TZOFFSETTO:-0600
TZNAME:MDT
DTSTART:20270314T090000
END:DAYLIGHT
BEGIN:STANDARD
TZOFFSETFROM:-0600
TZOFFSETTO:-0700
TZNAME:MST
DTSTART:20271107T080000
END:STANDARD
END:VTIMEZONE
BEGIN:VEVENT
DTSTART;TZID=America/Denver:20260308T100000
DTEND;TZID=America/Denver:20260308T160000
DTSTAMP:20260423T171150
CREATED:20260117T165500Z
LAST-MODIFIED:20260120T152054Z
UID:10000106-1772964000-1772985600@coloradounderpar.com
SUMMARY:Colorado Golf Expo 2026
DESCRIPTION:$3 OFF! \nGET YOUR TICKETS VIA THE EVENT LINK \nEvent Link: https://events.humanitix.com/cogolfexpo-2026 \n\n\nEvent description\n**NEW FOR 2026: FREE PARKING**\nShow Dates and Hours \n\n\n\n\nFriday\, March 6\, 2026\n10 am – 6 pm\nSaturday\, March 7\, 2026\n10 am – 5 pmAfter Party Concert5 pm – 7 pm\nSunday\, March 8\, 2026\n10 am – 4 pm\n\n\n\n\nGeneral Admission \n\nGeneral Admission w/ FREE PARKING – $19\nGeneral Admission – Child (15 and Under) – FREE\nGeneral Admission – Senior (65 and Older) w/ FREE PARKING – $17\n\nVIP Admission \n\nVIP w/ FREE PREFERRED PARKING AND SWAG BAG (Limited Quantities Available) – $89\n\nTicket valid for one admission. Valid for one day only. \nThe Colorado Golf Expo is your premier destination for all things golf\, featuring the latest equipment\, innovative technology\, and expert advice from industry leaders. \nWhat to Expect: \n\nExplore the Latest Golf Gear: Discover the newest clubs\, balls\, and accessories from top manufacturers and innovative startups.\n\n\nMeet the Experts: Connect with golf professionals\, instructors\, and industry insiders who’ll share their knowledge and tips to improve your game.\n\n\nHands-On Demonstrations: Try before you buy and experience the latest golf technology and equipment firsthand.\n\n\nNetworking Opportunities: Mingle with fellow golf enthusiasts\, professionals\, and potential business partners in a relaxed and inspiring atmosphere.\n\nWhy Attend? \n\nImprove Your Game: Learn from the best and gain valuable insights to take your golfing to the next level.\n\n\nStay Ahead of the Curve: Stay up-to-date with the latest trends\, innovations\, and industry developments.\n\n\nMake Valuable Connections: Build relationships with like-minded individuals\, potential business partners\, and industry leaders.\n\nGet Ready to: \n\nSave Big: Exclusive discounts and promotions available only at the expo.\n\n\nWin Prizes: Participate in giveaways\, contests\, and challenges for a chance to win amazing golf-related prizes.\n\nA portion of your ticket purchase is donated to the Globeville\, Elyria\, Swansea Community Investment Fund (GES CIF). The National Western Center Community Investment Fund is a dedicated resource to support and strengthen the neighborhoods surrounding the campus – Globeville Elyria and Swansea. Grants are donated from the GES CIF to local organizations and projects that advance community priorities such as education\, workforce development\, health\, culture\, and small business growth.
URL:https://coloradounderpar.com/event/colorado-golf-expo-2026/2026-03-08/
LOCATION:National Western Complex\, 4655 N Humboldt St\, Denver\, CO\, 80216\, United States
CATEGORIES:Golf Expo
ATTACH;FMTTYPE=image/jpeg:https://coloradounderpar.com/wp-content/uploads/2026/01/Event-Hub-Banner-ColoradoGolfExpo.jpg
ORGANIZER;CN="Andrew Mueller":MAILTO:am@coloradounderpar.com
END:VEVENT
BEGIN:VEVENT
DTSTART;TZID=America/Denver:20260307T090000
DTEND;TZID=America/Denver:20260307T170000
DTSTAMP:20260423T171150
CREATED:20260117T165500Z
LAST-MODIFIED:20260120T152054Z
UID:10000105-1772874000-1772902800@coloradounderpar.com
SUMMARY:Colorado Golf Expo 2026
DESCRIPTION:$3 OFF! \nGET YOUR TICKETS VIA THE EVENT LINK \nEvent Link: https://events.humanitix.com/cogolfexpo-2026 \n\n\nEvent description\n**NEW FOR 2026: FREE PARKING**\nShow Dates and Hours \n\n\n\n\nFriday\, March 6\, 2026\n10 am – 6 pm\nSaturday\, March 7\, 2026\n10 am – 5 pmAfter Party Concert5 pm – 7 pm\nSunday\, March 8\, 2026\n10 am – 4 pm\n\n\n\n\nGeneral Admission \n\nGeneral Admission w/ FREE PARKING – $19\nGeneral Admission – Child (15 and Under) – FREE\nGeneral Admission – Senior (65 and Older) w/ FREE PARKING – $17\n\nVIP Admission \n\nVIP w/ FREE PREFERRED PARKING AND SWAG BAG (Limited Quantities Available) – $89\n\nTicket valid for one admission. Valid for one day only. \nThe Colorado Golf Expo is your premier destination for all things golf\, featuring the latest equipment\, innovative technology\, and expert advice from industry leaders. \nWhat to Expect: \n\nExplore the Latest Golf Gear: Discover the newest clubs\, balls\, and accessories from top manufacturers and innovative startups.\n\n\nMeet the Experts: Connect with golf professionals\, instructors\, and industry insiders who’ll share their knowledge and tips to improve your game.\n\n\nHands-On Demonstrations: Try before you buy and experience the latest golf technology and equipment firsthand.\n\n\nNetworking Opportunities: Mingle with fellow golf enthusiasts\, professionals\, and potential business partners in a relaxed and inspiring atmosphere.\n\nWhy Attend? \n\nImprove Your Game: Learn from the best and gain valuable insights to take your golfing to the next level.\n\n\nStay Ahead of the Curve: Stay up-to-date with the latest trends\, innovations\, and industry developments.\n\n\nMake Valuable Connections: Build relationships with like-minded individuals\, potential business partners\, and industry leaders.\n\nGet Ready to: \n\nSave Big: Exclusive discounts and promotions available only at the expo.\n\n\nWin Prizes: Participate in giveaways\, contests\, and challenges for a chance to win amazing golf-related prizes.\n\nA portion of your ticket purchase is donated to the Globeville\, Elyria\, Swansea Community Investment Fund (GES CIF). The National Western Center Community Investment Fund is a dedicated resource to support and strengthen the neighborhoods surrounding the campus – Globeville Elyria and Swansea. Grants are donated from the GES CIF to local organizations and projects that advance community priorities such as education\, workforce development\, health\, culture\, and small business growth.
URL:https://coloradounderpar.com/event/colorado-golf-expo-2026/2026-03-07/
LOCATION:National Western Complex\, 4655 N Humboldt St\, Denver\, CO\, 80216\, United States
CATEGORIES:Golf Expo
ATTACH;FMTTYPE=image/jpeg:https://coloradounderpar.com/wp-content/uploads/2026/01/Event-Hub-Banner-ColoradoGolfExpo.jpg
ORGANIZER;CN="Andrew Mueller":MAILTO:am@coloradounderpar.com
END:VEVENT
BEGIN:VEVENT
DTSTART;TZID=America/Denver:20260306T100000
DTEND;TZID=America/Denver:20260306T180000
DTSTAMP:20260423T171150
CREATED:20260117T165500Z
LAST-MODIFIED:20260120T152054Z
UID:10000104-1772791200-1772820000@coloradounderpar.com
SUMMARY:Colorado Golf Expo 2026
DESCRIPTION:$3 OFF! \nGET YOUR TICKETS VIA THE EVENT LINK \nEvent Link: https://events.humanitix.com/cogolfexpo-2026 \n\n\nEvent description\n**NEW FOR 2026: FREE PARKING**\nShow Dates and Hours \n\n\n\n\nFriday\, March 6\, 2026\n10 am – 6 pm\nSaturday\, March 7\, 2026\n10 am – 5 pmAfter Party Concert5 pm – 7 pm\nSunday\, March 8\, 2026\n10 am – 4 pm\n\n\n\n\nGeneral Admission \n\nGeneral Admission w/ FREE PARKING – $19\nGeneral Admission – Child (15 and Under) – FREE\nGeneral Admission – Senior (65 and Older) w/ FREE PARKING – $17\n\nVIP Admission \n\nVIP w/ FREE PREFERRED PARKING AND SWAG BAG (Limited Quantities Available) – $89\n\nTicket valid for one admission. Valid for one day only. \nThe Colorado Golf Expo is your premier destination for all things golf\, featuring the latest equipment\, innovative technology\, and expert advice from industry leaders. \nWhat to Expect: \n\nExplore the Latest Golf Gear: Discover the newest clubs\, balls\, and accessories from top manufacturers and innovative startups.\n\n\nMeet the Experts: Connect with golf professionals\, instructors\, and industry insiders who’ll share their knowledge and tips to improve your game.\n\n\nHands-On Demonstrations: Try before you buy and experience the latest golf technology and equipment firsthand.\n\n\nNetworking Opportunities: Mingle with fellow golf enthusiasts\, professionals\, and potential business partners in a relaxed and inspiring atmosphere.\n\nWhy Attend? \n\nImprove Your Game: Learn from the best and gain valuable insights to take your golfing to the next level.\n\n\nStay Ahead of the Curve: Stay up-to-date with the latest trends\, innovations\, and industry developments.\n\n\nMake Valuable Connections: Build relationships with like-minded individuals\, potential business partners\, and industry leaders.\n\nGet Ready to: \n\nSave Big: Exclusive discounts and promotions available only at the expo.\n\n\nWin Prizes: Participate in giveaways\, contests\, and challenges for a chance to win amazing golf-related prizes.\n\nA portion of your ticket purchase is donated to the Globeville\, Elyria\, Swansea Community Investment Fund (GES CIF). The National Western Center Community Investment Fund is a dedicated resource to support and strengthen the neighborhoods surrounding the campus – Globeville Elyria and Swansea. Grants are donated from the GES CIF to local organizations and projects that advance community priorities such as education\, workforce development\, health\, culture\, and small business growth.
URL:https://coloradounderpar.com/event/colorado-golf-expo-2026/2026-03-06/
LOCATION:National Western Complex\, 4655 N Humboldt St\, Denver\, CO\, 80216\, United States
CATEGORIES:Golf Expo
ATTACH;FMTTYPE=image/jpeg:https://coloradounderpar.com/wp-content/uploads/2026/01/Event-Hub-Banner-ColoradoGolfExpo.jpg
ORGANIZER;CN="Andrew Mueller":MAILTO:am@coloradounderpar.com
END:VEVENT
END:VCALENDAR