BEGIN:VCALENDAR
VERSION:2.0
PRODID:-//Colorado Under Par - ECPv6.15.20//NONSGML v1.0//EN
CALSCALE:GREGORIAN
METHOD:PUBLISH
X-WR-CALNAME:Colorado Under Par
X-ORIGINAL-URL:https://coloradounderpar.com
X-WR-CALDESC:Events for Colorado Under Par
REFRESH-INTERVAL;VALUE=DURATION:PT1H
X-Robots-Tag:noindex
X-PUBLISHED-TTL:PT1H
BEGIN:VTIMEZONE
TZID:America/Denver
BEGIN:DAYLIGHT
TZOFFSETFROM:-0700
TZOFFSETTO:-0600
TZNAME:MDT
DTSTART:20250309T090000
END:DAYLIGHT
BEGIN:STANDARD
TZOFFSETFROM:-0600
TZOFFSETTO:-0700
TZNAME:MST
DTSTART:20251102T080000
END:STANDARD
BEGIN:DAYLIGHT
TZOFFSETFROM:-0700
TZOFFSETTO:-0600
TZNAME:MDT
DTSTART:20260308T090000
END:DAYLIGHT
BEGIN:STANDARD
TZOFFSETFROM:-0600
TZOFFSETTO:-0700
TZNAME:MST
DTSTART:20261101T080000
END:STANDARD
BEGIN:DAYLIGHT
TZOFFSETFROM:-0700
TZOFFSETTO:-0600
TZNAME:MDT
DTSTART:20270314T090000
END:DAYLIGHT
BEGIN:STANDARD
TZOFFSETFROM:-0600
TZOFFSETTO:-0700
TZNAME:MST
DTSTART:20271107T080000
END:STANDARD
END:VTIMEZONE
BEGIN:VEVENT
DTSTART;TZID=America/Denver:20260601T080000
DTEND;TZID=America/Denver:20260601T150000
DTSTAMP:20260423T171645
CREATED:20260122T180410Z
LAST-MODIFIED:20260314T235214Z
UID:10000108-1780300800-1780326000@coloradounderpar.com
SUMMARY:TOUR Pro-AM
DESCRIPTION:Teed Up Golf Events Registration Link \nMonday\, June 1st\, 2026 \nLone Tree Golf Club & Hotel  \n9808 Sunningdale Blvd. \nLone Tree\, CO \n\n\n\nTeam Cost – $1\,800 \n\n\n\n6:30 a.m. : Warm Up  &  Breakfast \n8:00 a.m.:  Shotgun Start \n18 holes with a cart  \nAwards lunch following play  \n\n\nFour players paired with \none team sponsored female professional \n\nTeamDivisions\n\n\nTeams may choose to play in one of the following divisions: \n\n\n\n\n\n\n\n\n\nCOMPETITIVE BEST BALL \n\n\nAll four players must have GHIN handicap \nTeam score on each hole = low gross score + low net score \nThe female pro’s score can count on any hole \n\n\n\n\n\n\n\n\n\n\nTEAM SCRAMBLE\n\n\nAll four members will play a team scramble. Even though the pro will be playing her own ball\, there will be opportunities to use her shots. This fun\, low-pressure format is great for everyone! \n\n\n\n\n\n\n\n\n\n\n\n\n\n\n\nGet Sponsorship Package\n\n\nIncludes: \nOne Team (no-team option available)  \nPremium Hole Sign with Logo and QR Code to Website \nOpportunity to Set-Up and Network on Tee Box  \n\n\n\n\n\n\n\n\n\n\n\nSponsorships are the only way we can increase the purse money for the pros – directly supporting their playing careers. 
URL:https://coloradounderpar.com/event/tour-pro-am/
LOCATION:Lone Tree Golf Club & Hotel\, 9808 Sunningdale Blvd\, Lone Tree\, CO\, 80124\, United States
CATEGORIES:Golf Tournament
ATTACH;FMTTYPE=image/jpeg:https://coloradounderpar.com/wp-content/uploads/2026/01/Event-Hub-Banner-LTG.jpg
END:VEVENT
END:VCALENDAR