BEGIN:VCALENDAR
VERSION:2.0
PRODID:-//Colorado Under Par - ECPv6.15.20//NONSGML v1.0//EN
CALSCALE:GREGORIAN
METHOD:PUBLISH
X-WR-CALNAME:Colorado Under Par
X-ORIGINAL-URL:https://coloradounderpar.com
X-WR-CALDESC:Events for Colorado Under Par
REFRESH-INTERVAL;VALUE=DURATION:PT1H
X-Robots-Tag:noindex
X-PUBLISHED-TTL:PT1H
BEGIN:VTIMEZONE
TZID:America/Denver
BEGIN:DAYLIGHT
TZOFFSETFROM:-0700
TZOFFSETTO:-0600
TZNAME:MDT
DTSTART:20250309T090000
END:DAYLIGHT
BEGIN:STANDARD
TZOFFSETFROM:-0600
TZOFFSETTO:-0700
TZNAME:MST
DTSTART:20251102T080000
END:STANDARD
BEGIN:DAYLIGHT
TZOFFSETFROM:-0700
TZOFFSETTO:-0600
TZNAME:MDT
DTSTART:20260308T090000
END:DAYLIGHT
BEGIN:STANDARD
TZOFFSETFROM:-0600
TZOFFSETTO:-0700
TZNAME:MST
DTSTART:20261101T080000
END:STANDARD
BEGIN:DAYLIGHT
TZOFFSETFROM:-0700
TZOFFSETTO:-0600
TZNAME:MDT
DTSTART:20270314T090000
END:DAYLIGHT
BEGIN:STANDARD
TZOFFSETFROM:-0600
TZOFFSETTO:-0700
TZNAME:MST
DTSTART:20271107T080000
END:STANDARD
END:VTIMEZONE
BEGIN:VEVENT
DTSTART;TZID=America/Denver:20260424T080000
DTEND;TZID=America/Denver:20260424T170000
DTSTAMP:20260423T085606
CREATED:20260409T040000Z
LAST-MODIFIED:20260409T040139Z
UID:10000175-1777017600-1777050000@coloradounderpar.com
SUMMARY:Lifetime Pickleball-Men's Singles Tournament
DESCRIPTION:When\nStart Times\n\n\n\n\nRegistration opens\nApr 01\, 2026\n2:00 PM MST\n\n\nRegistration ends\nApr 23\, 2026\n8:00 AM MST\n\n\n\n\n\n\nRegistration Cost\n\n\n\n\n$ 60.00\n\n\n\n\n\nWhere\n\nGet Directions\n\n\n\n\nLife Time Fitness Westminster\n397 W 148th Ave\nWestminster\, CO\, 80023\n\n\n\n\n\n\n\n\n\n\n\n\n\n\n\n\nVolunteer opportunities\nSign Up\n\nCome join in the fun! We have several opportunities for volunteers to help make this tournament a success – Click “Sign up” to volunteer and to help out with the registration desk\, parking attendants\, ambassadors\, and so much more!\n\n\n\nReferees needed\nSign Up\n\nWe couldn’t enjoy our tournament without the dedication of our amazing referees! If you are a referee\, please click “Sign Up” to get involved.\n\n\n\nSponsors needed\nInquire\n\nWe have many opportunities for sponsors at various levels of participation! Please click “Inquire” now to get in contact with us!\n\n\n\nVendor opportunities\nInquire\n\nDo you have a vendor’s license for a food truck or pickleball related gear? We would love to have you join us for our tournament to enhance our spectators’ and players’ tournament experience!
URL:https://coloradounderpar.com/event/lifetime-pickleball-mens-singles-tournament/
LOCATION:Lifetime Westminster\, 397 W 148th Ave\, Westminster\, CO\, 80023\, United States
CATEGORIES:Pickleball
ATTACH;FMTTYPE=image/webp:https://coloradounderpar.com/wp-content/uploads/2026/04/7c83c737-2a11-434d-bff5-9caaf0950548_1775045546_Logo.webp
END:VEVENT
END:VCALENDAR