BEGIN:VCALENDAR
VERSION:2.0
PRODID:-//Colorado Under Par - ECPv6.15.20//NONSGML v1.0//EN
CALSCALE:GREGORIAN
METHOD:PUBLISH
X-ORIGINAL-URL:https://coloradounderpar.com
X-WR-CALDESC:Events for Colorado Under Par
REFRESH-INTERVAL;VALUE=DURATION:PT1H
X-Robots-Tag:noindex
X-PUBLISHED-TTL:PT1H
BEGIN:VTIMEZONE
TZID:America/Denver
BEGIN:DAYLIGHT
TZOFFSETFROM:-0700
TZOFFSETTO:-0600
TZNAME:MDT
DTSTART:20250309T090000
END:DAYLIGHT
BEGIN:STANDARD
TZOFFSETFROM:-0600
TZOFFSETTO:-0700
TZNAME:MST
DTSTART:20251102T080000
END:STANDARD
BEGIN:DAYLIGHT
TZOFFSETFROM:-0700
TZOFFSETTO:-0600
TZNAME:MDT
DTSTART:20260308T090000
END:DAYLIGHT
BEGIN:STANDARD
TZOFFSETFROM:-0600
TZOFFSETTO:-0700
TZNAME:MST
DTSTART:20261101T080000
END:STANDARD
BEGIN:DAYLIGHT
TZOFFSETFROM:-0700
TZOFFSETTO:-0600
TZNAME:MDT
DTSTART:20270314T090000
END:DAYLIGHT
BEGIN:STANDARD
TZOFFSETFROM:-0600
TZOFFSETTO:-0700
TZNAME:MST
DTSTART:20271107T080000
END:STANDARD
END:VTIMEZONE
BEGIN:VEVENT
DTSTART;TZID=America/Denver:20260607T093000
DTEND;TZID=America/Denver:20260607T140000
DTSTAMP:20260423T165443
CREATED:20260421T225941Z
LAST-MODIFIED:20260421T225941Z
UID:10000203-1780824600-1780840800@coloradounderpar.com
SUMMARY:amateur players tour keystone mountain
DESCRIPTION:WHERE: Summit Waters Invitational at The River Course at Keystone \nWHEN: June 7\, 2026 \nTEE TIMES: SHOTGUN @ 9:30 am \nFINAL PAYMENT DUE: Upon Registration\nGUEST FEE: $30 \nWHAT’S INCLUDED: Greens Fees\, Cart Fees\, Use of Practice Facility\, Entry into CTP Contests\, Trophy by Division\, POY Pool\, Admin Fees\, and Applicable Taxes. \n\n\n\n Begins:\nJan 10\, 2026 at 12:01 AM MST\n\n\n Entry Deadline:\nMay 31\, 2026 at 11:59 PM MDT\n\n\n\n\n\n\n Entry Fee:\n Fee\n\n\n Member\n $200\n\n\n\n Non-Member\n $230\n\n\n\n\n\n\n\n Open To:\nMembers and Non-Members: \n\nAmateur players only\n\n\n\n\n Field Size:\n72 players – Spots available\n\n\n Cancel Fee\n\n\n\n\n$30.00 if cancel by 11:59 PM on Sun May 31\n\n\n\n\n\n\n\n 
URL:https://coloradounderpar.com/event/amateur-players-tour-keystone-mountain-2/
LOCATION:Keystone River Golf Course\, River Course Dr\, Keystone\, CO\, 80435\, United States
CATEGORIES:Golf Tournament
ATTACH;FMTTYPE=image/jpeg:https://coloradounderpar.com/wp-content/uploads/2026/04/672319822_122246446202260996_1763617918992500256_n.jpg
END:VEVENT
END:VCALENDAR