BEGIN:VCALENDAR
VERSION:2.0
PRODID:-//Colorado Under Par - ECPv6.15.20//NONSGML v1.0//EN
CALSCALE:GREGORIAN
METHOD:PUBLISH
X-WR-CALNAME:Colorado Under Par
X-ORIGINAL-URL:https://coloradounderpar.com
X-WR-CALDESC:Events for Colorado Under Par
REFRESH-INTERVAL;VALUE=DURATION:PT1H
X-Robots-Tag:noindex
X-PUBLISHED-TTL:PT1H
BEGIN:VTIMEZONE
TZID:America/Denver
BEGIN:DAYLIGHT
TZOFFSETFROM:-0700
TZOFFSETTO:-0600
TZNAME:MDT
DTSTART:20210314T090000
END:DAYLIGHT
BEGIN:STANDARD
TZOFFSETFROM:-0600
TZOFFSETTO:-0700
TZNAME:MST
DTSTART:20211107T080000
END:STANDARD
BEGIN:DAYLIGHT
TZOFFSETFROM:-0700
TZOFFSETTO:-0600
TZNAME:MDT
DTSTART:20220313T090000
END:DAYLIGHT
BEGIN:STANDARD
TZOFFSETFROM:-0600
TZOFFSETTO:-0700
TZNAME:MST
DTSTART:20221106T080000
END:STANDARD
BEGIN:DAYLIGHT
TZOFFSETFROM:-0700
TZOFFSETTO:-0600
TZNAME:MDT
DTSTART:20230312T090000
END:DAYLIGHT
BEGIN:STANDARD
TZOFFSETFROM:-0600
TZOFFSETTO:-0700
TZNAME:MST
DTSTART:20231105T080000
END:STANDARD
END:VTIMEZONE
BEGIN:VEVENT
DTSTART;TZID=America/Denver:20220716T080000
DTEND;TZID=America/Denver:20220716T150000
DTSTAMP:20260423T181836
CREATED:20251230T195843Z
LAST-MODIFIED:20260203T200641Z
UID:10000070-1657958400-1657983600@coloradounderpar.com
SUMMARY:Mountain Golf Tournament
DESCRIPTION:Event Summary\nThe Mountain Golf Tournament brought golfers\, sponsors\, and community supporters together in support of the Wild Animal Sanctuary\, benefiting the rescue and lifelong care of abused\, abandoned\, and endangered wildlife. Set against Colorado’s natural landscape\, the event connected the game of golf with a shared commitment to conservation\, education\, and animal welfare. \nDesigned as a mission-driven charity golf experience\, the tournament paired a professionally organized day on the course with purposeful impact. Thoughtful planning\, sponsor participation\, and an enjoyable golfer experience helped create a welcoming environment where participants could enjoy competitive play while supporting the protection of wild animals. By aligning sport with stewardship\, the Mountain Golf Tournament created a meaningful platform for awareness and support. \nAs an annual-style event\, the tournament demonstrated how outdoor recreation can naturally complement conservation-focused causes—bringing people together around values rooted in respect for wildlife and the environment. \n\nWhy This Event Mattered\nThe Wild Animal Sanctuary provides a permanent home for rescued wildlife that cannot be returned to the wild\, offering expansive natural habitats and lifelong care without public exhibition or breeding. The organization’s work focuses on rescue\, rehabilitation\, education\, and advocacy—ensuring animals harmed by abuse\, neglect\, or illegal ownership can live out their lives with dignity and space. \nEvents like the Mountain Golf Tournament play an important role in advancing this mission. Beyond fundraising\, the tournament helped raise awareness for wildlife conservation and the realities facing rescued animals. By bringing supporters together in a setting that reflects Colorado’s natural beauty\, the event reinforced the connection between environmental responsibility and community action. \n\nEvent Details\n\n\nEvent Type: Charity Golf Tournament \n\n\nBeneficiary: Community-Based Cause (Wild Animal Sanctuary) \n\n\nLocation: Colorado \n\n\nFormat: Shotgun Start \n\n\nParticipants: Golfers\, Sponsors\, Volunteers \n\n\nStatus: Past Event \n\n\n\nEvent Impact & Community Outcomes\n🏌️ 60 golfers participated🤝 6 event sponsors supported the tournament💰 $6\,000+ raised for the beneficiary🎁 On-course contests\, raffles\, and player gifting introduced \nThese outcomes reflect strong engagement for a conservation-focused event. Funds raised directly supported the Sanctuary’s rescue and care efforts\, while the tournament itself expanded awareness and community involvement around wildlife protection. \n\nThank You to Our Sponsors\nWe extend our sincere appreciation to the sponsors who supported the Mountain Golf Tournament and believed in its mission from the beginning. Their involvement helped deliver a high-quality event experience while contributing to meaningful conservation work. Sponsor support played a key role in bringing visibility to wildlife protection and ensuring resources reached where they were needed most. \n\nEvent Highlights\n\n\nShotgun-start tournament format \n\n\nEarly-stage sponsor activations \n\n\nPlayer contests and raffle prizes \n\n\nPost-round awards and recognition \n\n\n\nEvent Support Overview\nAs an annual-style event\, the tournament benefited from hands-on planning and on-site coordination to ensure a smooth and professional experience for all participants. Colorado Under Par supported the Mountain Golf Tournament through logistics management\, sponsor coordination\, and day-of execution—allowing organizers and supporters to focus on mission alignment and community engagement. \nEvent planning & logistics:https://coloradounderpar.com//golf-tournament-management/ \nEvent marketing & sponsor visibility:https://coloradounderpar.com//golf-tournament-marketing/ \nEvent photography & media coverage:https://coloradounderpar.com//day-of-media/ \n\nLooking Ahead\nThe Mountain Golf Tournament demonstrated how thoughtfully planned golf events can support conservation-focused missions while creating memorable community experiences. With continued refinement and engagement\, events like this are well positioned to grow participation\, sponsorship\, and long-term impact—strengthening support for wildlife protection across Colorado. \nWant to see how events like this continue to evolve? \nExplore Upcoming Events:https://coloradounderpar.com//event-hub/
URL:https://coloradounderpar.com/event/mountain-golf-tournament/
LOCATION:Keystone River Golf Course\, River Course Dr\, Keystone\, CO\, 80435\, United States
CATEGORIES:Golf Tournament
ATTACH;FMTTYPE=image/png:https://coloradounderpar.com/wp-content/uploads/2025/12/Untitled-design.png
ORGANIZER;CN="Andrew Mueller":MAILTO:am@coloradounderpar.com
END:VEVENT
END:VCALENDAR