BEGIN:VCALENDAR
VERSION:2.0
PRODID:-//Colorado Under Par - ECPv6.15.20//NONSGML v1.0//EN
CALSCALE:GREGORIAN
METHOD:PUBLISH
X-ORIGINAL-URL:https://coloradounderpar.com
X-WR-CALDESC:Events for Colorado Under Par
REFRESH-INTERVAL;VALUE=DURATION:PT1H
X-Robots-Tag:noindex
X-PUBLISHED-TTL:PT1H
BEGIN:VTIMEZONE
TZID:America/Denver
BEGIN:DAYLIGHT
TZOFFSETFROM:-0700
TZOFFSETTO:-0600
TZNAME:MDT
DTSTART:20250309T090000
END:DAYLIGHT
BEGIN:STANDARD
TZOFFSETFROM:-0600
TZOFFSETTO:-0700
TZNAME:MST
DTSTART:20251102T080000
END:STANDARD
BEGIN:DAYLIGHT
TZOFFSETFROM:-0700
TZOFFSETTO:-0600
TZNAME:MDT
DTSTART:20260308T090000
END:DAYLIGHT
BEGIN:STANDARD
TZOFFSETFROM:-0600
TZOFFSETTO:-0700
TZNAME:MST
DTSTART:20261101T080000
END:STANDARD
BEGIN:DAYLIGHT
TZOFFSETFROM:-0700
TZOFFSETTO:-0600
TZNAME:MDT
DTSTART:20270314T090000
END:DAYLIGHT
BEGIN:STANDARD
TZOFFSETFROM:-0600
TZOFFSETTO:-0700
TZNAME:MST
DTSTART:20271107T080000
END:STANDARD
END:VTIMEZONE
BEGIN:VEVENT
DTSTART;TZID=America/Denver:20260619T073000
DTEND;TZID=America/Denver:20260619T150000
DTSTAMP:20260423T165458
CREATED:20260421T230145Z
LAST-MODIFIED:20260421T230145Z
UID:10000204-1781854200-1781881200@coloradounderpar.com
SUMMARY:Who's Your Caddy? Golf Tournament
DESCRIPTION:WHO’S YOUR CADDY?\n\n\nOur 2026 Joyful Journeys Golf Tournament registration is officially LIVE! \nDust off those clubs and grab your foursome because early bird pricing is available NOW through May 20th — and we decided to keep things a little nostalgic… \n\n\nWe’re bringing back LAST YEAR’S PRICE!\n\n\nEarly Bird Pricing:\n• $150 per golfer (last year’s price )\n• $600 per foursome (yep… also last year’s price) \nRegular pricing will be:\n• $160 per golfer\n• $640 per foursome \n🕓Friday\, June 19\, 2026\n📍Hyland Hills Golf Course – Westminster\n⏰Shotgun Start: 7:30 AM
URL:https://coloradounderpar.com/event/whos-your-caddy-golf-tournament/
LOCATION:Hyland Hills\, 9650 Sheridan Blvd\, Westminster\, CO\, 80031\, United States
CATEGORIES:Golf Tournament
ATTACH;FMTTYPE=image/jpeg:https://coloradounderpar.com/wp-content/uploads/2026/04/677934181_10106874265643762_1605670306298174860_n.jpg
END:VEVENT
END:VCALENDAR