BEGIN:VCALENDAR
VERSION:2.0
PRODID:-//Colorado Under Par - ECPv6.15.20//NONSGML v1.0//EN
CALSCALE:GREGORIAN
METHOD:PUBLISH
X-WR-CALNAME:Colorado Under Par
X-ORIGINAL-URL:https://coloradounderpar.com
X-WR-CALDESC:Events for Colorado Under Par
REFRESH-INTERVAL;VALUE=DURATION:PT1H
X-Robots-Tag:noindex
X-PUBLISHED-TTL:PT1H
BEGIN:VTIMEZONE
TZID:America/Denver
BEGIN:DAYLIGHT
TZOFFSETFROM:-0700
TZOFFSETTO:-0600
TZNAME:MDT
DTSTART:20210314T090000
END:DAYLIGHT
BEGIN:STANDARD
TZOFFSETFROM:-0600
TZOFFSETTO:-0700
TZNAME:MST
DTSTART:20211107T080000
END:STANDARD
BEGIN:DAYLIGHT
TZOFFSETFROM:-0700
TZOFFSETTO:-0600
TZNAME:MDT
DTSTART:20220313T090000
END:DAYLIGHT
BEGIN:STANDARD
TZOFFSETFROM:-0600
TZOFFSETTO:-0700
TZNAME:MST
DTSTART:20221106T080000
END:STANDARD
BEGIN:DAYLIGHT
TZOFFSETFROM:-0700
TZOFFSETTO:-0600
TZNAME:MDT
DTSTART:20230312T090000
END:DAYLIGHT
BEGIN:STANDARD
TZOFFSETFROM:-0600
TZOFFSETTO:-0700
TZNAME:MST
DTSTART:20231105T080000
END:STANDARD
BEGIN:DAYLIGHT
TZOFFSETFROM:-0700
TZOFFSETTO:-0600
TZNAME:MDT
DTSTART:20240310T090000
END:DAYLIGHT
BEGIN:STANDARD
TZOFFSETFROM:-0600
TZOFFSETTO:-0700
TZNAME:MST
DTSTART:20241103T080000
END:STANDARD
END:VTIMEZONE
BEGIN:VEVENT
DTSTART;TZID=America/Denver:20230715T080000
DTEND;TZID=America/Denver:20230715T170000
DTSTAMP:20260423T181858
CREATED:20260102T204324Z
LAST-MODIFIED:20260203T205033Z
UID:10000098-1689408000-1689440400@coloradounderpar.com
SUMMARY:30th Annual Hyland Hills Foundation Golf Tournament
DESCRIPTION:Event Summary\nThe 30th Annual Hyland Hills Foundation Golf Tournament marked three decades of tradition\, bringing golfers\, sponsors\, and community partners together in support of the Hyland Hills Foundation. As a long-standing annual event\, the tournament delivered a polished and mission-driven golf experience focused on strengthening access to recreation\, education\, and enrichment programs that benefit the surrounding community. \nCelebrating a milestone year\, the event honored the legacy built over three decades while continuing to evolve through improved planning\, refreshed engagement strategies\, and a renewed focus on participant experience. The tournament balanced competitive golf with community connection\, creating a meaningful day that reflected the Foundation’s long-term commitment to service and impact. \nWhy This Event Mattered\nFor thirty years\, the Hyland Hills Foundation Golf Tournament has served as a critical fundraising and engagement platform supporting programs that enhance quality of life for individuals and families across the region. As community needs continue to evolve\, sustaining support for accessible recreation\, youth programs\, and educational initiatives remains essential. \nReaching the 30th annual milestone underscored the importance of consistent community investment and the role long-standing partnerships play in maintaining impactful programs. This event provided an opportunity not only to raise funds\, but also to reconnect supporters with the mission and reaffirm the Foundation’s presence as a community resource. \nHow Support Created Impact\nSupport from the 30th Annual Hyland Hills Foundation Golf Tournament directly contributed to funding programs that expand access to recreation\, learning\, and community enrichment. Funds raised helped reinforce ongoing initiatives while supporting future program development designed to meet growing demand. \nBeyond financial impact\, the tournament strengthened relationships among sponsors\, participants\, and community stakeholders. Each golfer registration\, sponsorship\, and contribution played a role in sustaining the Foundation’s mission and ensuring its programs continue to serve the community for years to come. \nEvent Details\nEvent Type: Charity TournamentBeneficiary: Community-Based CauseLocation: ColoradoFormat: Shotgun StartParticipants: Golfers\, Sponsors\, VolunteersStatus: Past Event \nEvent Impact & Community Outcomes\n🏌️ 144 golfers participated🤝 20 event sponsors supported the tournament💰 $55\,000+ raised for the beneficiary🎁 On-course contests\, raffles\, and player gifting introduced \nEvent Highlights\n\n\nShotgun-start tournament format \n\n\nSponsor activations throughout the course \n\n\nPlayer contests and raffle prizes \n\n\nPost-round awards and recognition \n\n\nEvent Support Overview\nTo reinvigorate engagement for this milestone year\, Colorado Under Par provided targeted marketing support to refresh visibility\, re-energize sponsor participation\, and enhance overall event awareness—helping ensure continued relevance and turnout for a long-standing community event. \nEvent marketing & sponsor visibility:https://coloradounderpar.com//golf-tournament-marketing/ \nLooking Ahead\nWant to see how long-standing events like this continue to evolve and grow? \nExplore Upcoming Events:https://coloradounderpar.com//event-hub/
URL:https://coloradounderpar.com/event/30th-annual-hyland-hills-foundation-golf-tournament/
LOCATION:Hyland Hills\, 9650 Sheridan Blvd\, Westminster\, CO\, 80031\, United States
CATEGORIES:Golf Tournament
ATTACH;FMTTYPE=image/png:https://coloradounderpar.com/wp-content/uploads/2025/12/Untitled-design.png
END:VEVENT
BEGIN:VEVENT
DTSTART;TZID=America/Denver:20220507T080000
DTEND;TZID=America/Denver:20220507T150000
DTSTAMP:20260423T181858
CREATED:20251230T183544Z
LAST-MODIFIED:20260203T173314Z
UID:10000058-1651910400-1651935600@coloradounderpar.com
SUMMARY:Back To Golf
DESCRIPTION:vent Summary\nThe Back to Golf Season Kickoff Event was created by Colorado Under Par as a fun\, welcoming way to bring golfers back to the course and officially kick off the golf season in May. Designed to celebrate the return of longer days\, fresh air\, and competitive play\, the event focused on camaraderie\, enjoyment\, and reconnecting golfers with the game after the offseason. \nUnlike traditional fundraising tournaments\, Back to Golf emphasized a relaxed\, low-pressure atmosphere that encouraged participation from golfers of all skill levels. The event featured simple on-course activities\, light competition\, and an overall tone centered on fun and connection—making it an energizing start to the season for everyone involved. \nYear one proved the concept immediately. With a full field of golfers\, strong sponsor participation\, and positive feedback from attendees\, the Back to Golf Season Kickoff Event demonstrated clear demand for community-driven golf experiences that prioritize accessibility and enjoyment over formality. \n\nWhy This Event Mattered\nThe start of golf season represents more than just the return to play—it’s a chance to re-engage golfers\, rebuild routines\, and bring people back together around a shared passion. The Back to Golf Season Kickoff Event was intentionally designed to lower barriers to participation while creating a memorable experience that reminded golfers why they love the game. \nBy focusing on community rather than competition alone\, the event created space for conversation\, reconnection\, and excitement heading into the season. For many participants\, it served as their first event of the year—setting a positive tone for future tournaments\, leagues\, and outings. \nFrom an organizational standpoint\, the event also validated Colorado Under Par’s ability to design original\, scalable event concepts that resonate with golfers and sponsors alike. \n\nEvent Details\n\n\nEvent Type: Community Golf Tournament \n\n\nBeneficiary: Community-Based Cause / CUP Programming \n\n\nLocation: Colorado \n\n\nFormat: Shotgun Start \n\n\nParticipants: Golfers\, Sponsors\, Volunteers \n\n\nStatus: Past Event \n\n\n\nEvent Impact & Community Outcomes\n🏌️ 144 golfers participated🤝 5 event sponsors supported the event💰 $5\,000+ raised to support CUP programming🎁 On-course contests\, raffles\, and player gifting introduced📈 Established the foundation for future event growth \nThese results highlighted the immediate success of the event concept. A full field of golfers in year one confirmed strong community interest\, while sponsor engagement reinforced the value of early-season visibility and activation opportunities. \n\nThank You to Our Sponsors\nWe extend our sincere appreciation to the sponsors who believed in the vision of the Back to Golf Season Kickoff Event from the very beginning. Their early support helped launch a new type of community-focused golf experience and played a key role in delivering a fun\, high-quality event for participants. These foundational partnerships helped establish credibility and momentum for future iterations. \n\nEvent Highlights\n\n\nShotgun-start tournament format \n\n\nEarly-season sponsor activations \n\n\nPlayer contests and lighthearted competition \n\n\nPost-round awards and recognition \n\n\n\nEvent Support Overview\nAs a founding event concept\, the tournament benefited from hands-on planning and on-site coordination to ensure a smooth and professional experience. Colorado Under Par managed logistics\, sponsor coordination\, and day-of execution—using the event as a testing ground for scalable formats that could be refined and expanded in future seasons. \nEvent planning & logistics:https://coloradounderpar.com//golf-tournament-management/ \nEvent marketing & sponsor visibility:https://coloradounderpar.com//golf-tournament-marketing/ \nEvent photography & media coverage:https://coloradounderpar.com//day-of-media/ \n\nLooking Ahead\nThe success of the Back to Golf Season Kickoff Event demonstrated the value of community-driven golf experiences that prioritize participation\, fun\, and connection. With a strong first-year showing\, the event established a repeatable model that could grow in scale\, sponsorship\, and engagement in future seasons—serving as an ideal annual launch point for the golf calendar. \nWant to see how CUP-created events continue to evolve? \nExplore Upcoming Events:https://coloradounderpar.com//event-hub/
URL:https://coloradounderpar.com/event/back-to-golf/
LOCATION:Hyland Hills\, 9650 Sheridan Blvd\, Westminster\, CO\, 80031\, United States
CATEGORIES:Golf Tournament
ATTACH;FMTTYPE=image/png:https://coloradounderpar.com/wp-content/uploads/2025/12/Untitled-design.png
ORGANIZER;CN="Andrew Mueller":MAILTO:am@coloradounderpar.com
END:VEVENT
END:VCALENDAR