BEGIN:VCALENDAR
VERSION:2.0
PRODID:-//Colorado Under Par - ECPv6.15.20//NONSGML v1.0//EN
CALSCALE:GREGORIAN
METHOD:PUBLISH
X-WR-CALNAME:Colorado Under Par
X-ORIGINAL-URL:https://coloradounderpar.com
X-WR-CALDESC:Events for Colorado Under Par
REFRESH-INTERVAL;VALUE=DURATION:PT1H
X-Robots-Tag:noindex
X-PUBLISHED-TTL:PT1H
BEGIN:VTIMEZONE
TZID:America/Denver
BEGIN:DAYLIGHT
TZOFFSETFROM:-0700
TZOFFSETTO:-0600
TZNAME:MDT
DTSTART:20250309T090000
END:DAYLIGHT
BEGIN:STANDARD
TZOFFSETFROM:-0600
TZOFFSETTO:-0700
TZNAME:MST
DTSTART:20251102T080000
END:STANDARD
BEGIN:DAYLIGHT
TZOFFSETFROM:-0700
TZOFFSETTO:-0600
TZNAME:MDT
DTSTART:20260308T090000
END:DAYLIGHT
BEGIN:STANDARD
TZOFFSETFROM:-0600
TZOFFSETTO:-0700
TZNAME:MST
DTSTART:20261101T080000
END:STANDARD
BEGIN:DAYLIGHT
TZOFFSETFROM:-0700
TZOFFSETTO:-0600
TZNAME:MDT
DTSTART:20270314T090000
END:DAYLIGHT
BEGIN:STANDARD
TZOFFSETFROM:-0600
TZOFFSETTO:-0700
TZNAME:MST
DTSTART:20271107T080000
END:STANDARD
END:VTIMEZONE
BEGIN:VEVENT
DTSTART;TZID=America/Denver:20260414T080000
DTEND;TZID=America/Denver:20260414T170000
DTSTAMP:20260423T164739
CREATED:20260414T203609Z
LAST-MODIFIED:20260414T203609Z
UID:10000178-1776153600-1776186000@coloradounderpar.com
SUMMARY:4th Annual Kim Nakaguma Memorial Golf Tournament
DESCRIPTION:We are looking forward to another amazing tournament this year to honor the life of Kim Nakaguma and give back to one of her most valued charities\, The Care and Share Food Bank of Southern Colorado.Please spread the word\, sponsor\, or play in this wonderful event! \nCall or text Alea 719-334-4015
URL:https://coloradounderpar.com/event/4th-annual-kim-nakaguma-memorial-golf-tournament/
LOCATION:Hollydot Golf Club\, 55 North Parkway Drive\, Colorado City\, CO 81019\, Colorado City\, CO\, 81019\, United States
CATEGORIES:Golf Tournament
ATTACH;FMTTYPE=image/jpeg:https://coloradounderpar.com/wp-content/uploads/2026/04/646649335_1381245547140588_9134006151159261464_n.jpg
END:VEVENT
END:VCALENDAR