BEGIN:VCALENDAR
VERSION:2.0
PRODID:-//Colorado Under Par - ECPv6.15.20//NONSGML v1.0//EN
CALSCALE:GREGORIAN
METHOD:PUBLISH
X-ORIGINAL-URL:https://coloradounderpar.com
X-WR-CALDESC:Events for Colorado Under Par
REFRESH-INTERVAL;VALUE=DURATION:PT1H
X-Robots-Tag:noindex
X-PUBLISHED-TTL:PT1H
BEGIN:VTIMEZONE
TZID:America/Denver
BEGIN:DAYLIGHT
TZOFFSETFROM:-0700
TZOFFSETTO:-0600
TZNAME:MDT
DTSTART:20220313T090000
END:DAYLIGHT
BEGIN:STANDARD
TZOFFSETFROM:-0600
TZOFFSETTO:-0700
TZNAME:MST
DTSTART:20221106T080000
END:STANDARD
BEGIN:DAYLIGHT
TZOFFSETFROM:-0700
TZOFFSETTO:-0600
TZNAME:MDT
DTSTART:20230312T090000
END:DAYLIGHT
BEGIN:STANDARD
TZOFFSETFROM:-0600
TZOFFSETTO:-0700
TZNAME:MST
DTSTART:20231105T080000
END:STANDARD
BEGIN:DAYLIGHT
TZOFFSETFROM:-0700
TZOFFSETTO:-0600
TZNAME:MDT
DTSTART:20240310T090000
END:DAYLIGHT
BEGIN:STANDARD
TZOFFSETFROM:-0600
TZOFFSETTO:-0700
TZNAME:MST
DTSTART:20241103T080000
END:STANDARD
BEGIN:DAYLIGHT
TZOFFSETFROM:-0700
TZOFFSETTO:-0600
TZNAME:MDT
DTSTART:20250309T090000
END:DAYLIGHT
BEGIN:STANDARD
TZOFFSETFROM:-0600
TZOFFSETTO:-0700
TZNAME:MST
DTSTART:20251102T080000
END:STANDARD
BEGIN:DAYLIGHT
TZOFFSETFROM:-0700
TZOFFSETTO:-0600
TZNAME:MDT
DTSTART:20260308T090000
END:DAYLIGHT
BEGIN:STANDARD
TZOFFSETFROM:-0600
TZOFFSETTO:-0700
TZNAME:MST
DTSTART:20261101T080000
END:STANDARD
END:VTIMEZONE
BEGIN:VEVENT
DTSTART;TZID=America/Denver:20250731T080000
DTEND;TZID=America/Denver:20250731T150000
DTSTAMP:20260423T125054
CREATED:20251223T071249Z
LAST-MODIFIED:20260204T013339Z
UID:10000014-1753948800-1753974000@coloradounderpar.com
SUMMARY:4th Annual Charity Shootout by Envision Financial Partners
DESCRIPTION:Event Summary\nThe 4th Annual Charity Shootout by Envision Financial Partners continued a distinctive and well-established tournament format that sets this event apart—allowing participating teams to select the charitable organizations they competed on behalf of. Entering its fourth year\, the Shootout brought golfers\, sponsors\, and business partners together for a relationship-driven golf experience rooted in choice\, impact\, and personal connection to cause. \nWhat began as a creative approach to corporate philanthropy has matured into a proven annual event model that blends competition with meaningful giving. By empowering teams to champion causes that resonate with them personally or professionally\, the Charity Shootout fostered deeper engagement\, stronger sponsor alignment\, and a heightened sense of ownership among participants. \nAs a mature annual event\, the 4th Annual Charity Shootout demonstrated sustained momentum through thoughtful planning\, strong sponsor engagement\, and a golfer-first experience. The event highlighted how corporate-led tournaments can successfully balance brand presence\, participant experience\, and philanthropic impact—while continuing to strengthen long-term relationships across Envision Financial Partners’ network. \n\nEvent Details\nEvent Type: Charity TournamentBeneficiary: Community-Based CauseLocation: ColoradoFormat: Shotgun StartParticipants: Golfers\, Sponsors\, VolunteersStatus: Past Event \n\nEvent Impact & Community Outcomes\nA total of 116 golfers participated\, representing a strong field of teams competing on behalf of causes meaningful to them.15 event sponsors supported the tournament\, contributing to both the player experience and the overall success of the event.More than $25\,000 was raised collectively for participating charitable organizations\, amplifying the reach and impact of the Shootout’s unique giving model.On-course contests\, raffles\, and player gifting enhanced engagement throughout the day while reinforcing a fun\, competitive atmosphere. \n\nThank You to Our Sponsors\nWe extend our sincere appreciation to the sponsors who believed in the vision of the 4th Annual Charity Shootout by Envision Financial Partners from the very beginning. Their continued support helped elevate the participant experience\, strengthen charitable outcomes\, and ensure the event’s continued success year after year. \n\nEvent Highlights\nThe shotgun-start format supported smooth pacing and a shared tournament experience across the course.Early-stage sponsor activations created meaningful touchpoints with golfers throughout the day.On-course contests and raffles added excitement while driving participation and interaction.Post-round awards and recognition celebrated both competitive performance and charitable impact. \n\nEvent Support Overview\nAs an established annual event\, the Charity Shootout benefited from hands-on planning and on-site coordination to ensure a smooth\, professional\, and consistent experience for golfers\, sponsors\, and partners. Support focused on maintaining operational excellence while allowing Envision Financial Partners to concentrate on relationship-building and philanthropic leadership. \nEvent planning & logistics:https://coloradounderpar.com//golf-tournament-management/ \nEvent marketing & sponsor visibility:https://coloradounderpar.com//golf-tournament-marketing/ \nEvent photography & media coverage:https://coloradounderpar.com//day-of-media/ \n\nLooking Ahead\nWant to see how events like this have grown over time? \nExplore Upcoming Events:https://coloradounderpar.com//event-hub/
URL:https://coloradounderpar.com/event/4th-annual-charity-shootout-by-envision-financial-partners/
LOCATION:Highlands Ranch Golf Course\, 9000 Creekside Way\, Highlands Ranch\, CO\, 80129\, United States
CATEGORIES:Golf Tournament
ATTACH;FMTTYPE=image/png:https://coloradounderpar.com/wp-content/uploads/2025/12/CUP_Envision.png
ORGANIZER;CN="Andrew Mueller":MAILTO:am@coloradounderpar.com
END:VEVENT
BEGIN:VEVENT
DTSTART;TZID=America/Denver:20230803T080000
DTEND;TZID=America/Denver:20230803T140000
DTSTAMP:20260423T125054
CREATED:20251230T201807Z
LAST-MODIFIED:20260203T205632Z
UID:10000076-1691049600-1691071200@coloradounderpar.com
SUMMARY:2nd Annual Charity Shootout by Envision Financial Partners
DESCRIPTION:Event Summary\nThe 2nd Annual Charity Shootout by Envision Financial Partners continued a unique and engaging tournament format where participating teams selected the charitable organization they competed on behalf of. Building on the success of the inaugural Shootout\, the second-year event expanded participation while maintaining a strong focus on relationship-building\, friendly competition\, and personalized philanthropic impact. \nAs a returning annual event\, the Charity Shootout reinforced its foundation through thoughtful planning\, sponsor engagement\, and an enjoyable golfer experience—showcasing how corporate-led events can empower participants to support causes that matter most to them. \n\nWhy This Event Mattered\nThe Charity Shootout mattered because it redefined how a corporate-hosted golf event could support philanthropy. Rather than centering on a single beneficiary\, the Shootout empowered participants to advocate for causes personally meaningful to them—creating a broader ripple effect of community impact. \nEnvision Financial Partners’ vision for this event centered on flexibility\, inclusivity\, and relationship-driven giving. By allowing teams to select their own charities\, the tournament fostered deeper engagement\, encouraged storytelling around personal causes\, and strengthened connections between participants\, sponsors\, and the organizations they supported. \nThis model demonstrated how corporate leadership can create space for meaningful\, participant-driven philanthropy while still delivering a cohesive\, high-quality event experience. \n\nHow Support Created Impact\nSupport from the Charity Shootout translated directly into both financial contributions and strengthened community connections. Funds raised through team-selected charities supported a diverse range of nonprofit missions\, expanding the overall reach and impact of the event beyond a single cause. \nBeyond fundraising\, the event created an environment where participants could share why their chosen causes mattered\, building awareness and encouraging ongoing support well beyond event day. Each golfer registration\, sponsorship\, and on-course activation contributed to a collective effort that blended competition with purpose. \nThe second-year growth of the Charity Shootout highlighted the value of pairing a strong event concept with consistent execution—allowing Envision Financial Partners to scale participation while preserving the personalized\, mission-driven nature of the experience. \n\nEvent Details\nEvent Type: Charity TournamentBeneficiary: Community-Based CauseLocation: ColoradoFormat: Shotgun StartParticipants: Golfers\, Sponsors\, VolunteersStatus: Past Event \n\nEvent Impact & Community Outcomes\n🏌️ 104 golfers participated🤝 12 event sponsors supported the tournament💰 $15\,000+ raised for participating charities🎁 On-course contests\, raffles\, and player gifting introduced \n\nThank You to Our Sponsors\nWe extend our sincere appreciation to the sponsors who believed in the vision of the 2nd Annual Charity Shootout by Envision Financial Partners from the very beginning. Their continued support helped grow the event while preserving its mission-driven and participant-focused format. \n\nEvent Highlights\nShotgun-start tournament formatEarly-stage sponsor activationsPlayer contests and raffle prizesPost-round awards and recognition \n\nEvent Support Overview\nAs an annual event\, the Charity Shootout benefited from hands-on event management and on-site coordination\, allowing Envision Financial Partners to focus on relationships\, engagement\, and philanthropic vision while ensuring a seamless event-day experience. \nEvent planning & logistics:https://coloradounderpar.com//golf-tournament-management/ \nEvent marketing & sponsor visibility:https://coloradounderpar.com//golf-tournament-marketing/ \n\nLooking Ahead\nWant to see how flexible\, participant-driven events like this continue to evolve? \nExplore Upcoming Events:https://coloradounderpar.com//event-hub/
URL:https://coloradounderpar.com/event/2nd-annual-charity-shootout-by-envision-financial-partners/
LOCATION:Highlands Ranch Golf Course\, 9000 Creekside Way\, Highlands Ranch\, CO\, 80129\, United States
CATEGORIES:Golf Tournament
END:VEVENT
END:VCALENDAR