BEGIN:VCALENDAR
VERSION:2.0
PRODID:-//Colorado Under Par - ECPv6.15.20//NONSGML v1.0//EN
CALSCALE:GREGORIAN
METHOD:PUBLISH
X-ORIGINAL-URL:https://coloradounderpar.com
X-WR-CALDESC:Events for Colorado Under Par
REFRESH-INTERVAL;VALUE=DURATION:PT1H
X-Robots-Tag:noindex
X-PUBLISHED-TTL:PT1H
BEGIN:VTIMEZONE
TZID:America/Denver
BEGIN:DAYLIGHT
TZOFFSETFROM:-0700
TZOFFSETTO:-0600
TZNAME:MDT
DTSTART:20240310T090000
END:DAYLIGHT
BEGIN:STANDARD
TZOFFSETFROM:-0600
TZOFFSETTO:-0700
TZNAME:MST
DTSTART:20241103T080000
END:STANDARD
BEGIN:DAYLIGHT
TZOFFSETFROM:-0700
TZOFFSETTO:-0600
TZNAME:MDT
DTSTART:20250309T090000
END:DAYLIGHT
BEGIN:STANDARD
TZOFFSETFROM:-0600
TZOFFSETTO:-0700
TZNAME:MST
DTSTART:20251102T080000
END:STANDARD
BEGIN:DAYLIGHT
TZOFFSETFROM:-0700
TZOFFSETTO:-0600
TZNAME:MDT
DTSTART:20260308T090000
END:DAYLIGHT
BEGIN:STANDARD
TZOFFSETFROM:-0600
TZOFFSETTO:-0700
TZNAME:MST
DTSTART:20261101T080000
END:STANDARD
END:VTIMEZONE
BEGIN:VEVENT
DTSTART;TZID=America/Denver:20250904T080000
DTEND;TZID=America/Denver:20250904T150000
DTSTAMP:20260423T154643
CREATED:20251223T065756Z
LAST-MODIFIED:20260203T170421Z
UID:10000009-1756972800-1756998000@coloradounderpar.com
SUMMARY:6th Annual Guide Real Estate Golf Tournament
DESCRIPTION:6th Annual Guide Real Estate Golf Tournament\n📍 Colorado • ⛳ Annual Event \nEvent Summary\nThe 6th Annual Guide Real Estate Golf Tournament continued a well-established annual tradition\, bringing golfers\, sponsors\, and community partners together in support of CO1000.org. Focused on empowering women entrepreneurs through community\, education\, and access to capital\, the tournament delivered a polished\, purpose-driven golf experience with meaningful impact across Colorado’s business ecosystem. \nAs a mature annual event\, the tournament reflected years of thoughtful planning\, trusted sponsor relationships\, and consistent execution. By pairing a golfer-first experience with a clearly defined mission\, the event created an environment where participants could enjoy competitive play\, build relationships\, and contribute to programs that support women-owned businesses and emerging leaders throughout the state. \nThe continued success of the Guide Real Estate Golf Tournament highlights the power of long-term commitment—demonstrating how recurring corporate-hosted events can generate sustained awareness\, funding\, and opportunity for mission-driven organizations. \n\nWhy This Event Mattered\nCO1000.org is dedicated to advancing women entrepreneurs by providing access to education\, mentorship\, community\, and capital. By supporting founders and business owners at critical stages of growth\, the organization works to strengthen Colorado’s entrepreneurial landscape while promoting equity and long-term economic impact. \nEvents like the Guide Real Estate Golf Tournament play a vital role in sustaining this mission. Beyond fundraising\, the tournament creates visibility\, fosters meaningful connections\, and reinforces the importance of investing in women-led businesses. By bringing together corporate partners\, sponsors\, and community advocates\, the event helps translate shared values into tangible support for entrepreneurs working to build and scale their businesses. \n\nEvent Details\nEvent Type: Charity TournamentBeneficiary: Community-Based CauseLocation: ColoradoFormat: Shotgun StartParticipants: Golfers\, Sponsors\, VolunteersStatus: Past Event \n\nEvent Impact & Community Outcomes\n\n\n🏌️ 144 golfers participated \n\n\n🤝 20 event sponsors supported the tournament \n\n\n💰 $25\,000+ raised for the beneficiary \n\n\n🎁 On-course contests\, raffles\, and player gifting introduced \n\n\nThese results reflect strong engagement from both participants and sponsors\, underscoring the event’s reputation as a high-quality\, community-supported fundraiser. Funds raised directly supported programs that help women entrepreneurs access resources\, build networks\, and pursue sustainable business growth. \n\nThank You to Our Sponsors\nWe extend our sincere appreciation to the sponsors who supported the 6th Annual Guide Real Estate Golf Tournament and believed in its mission from the start. Their involvement played a key role in delivering a premium event experience while ensuring meaningful resources reached CO1000.org. Sponsor support continues to be a cornerstone of the tournament’s longevity and impact. \n\nEvent Highlights\n\n\nShotgun-start tournament format \n\n\nEarly-stage sponsor activations \n\n\nPlayer contests and raffle prizes \n\n\nPost-round awards and recognition \n\n\n\nEvent Support Overview\nAs an annual event\, the tournament benefited from hands-on planning and on-site coordination to ensure a smooth and professional experience for all participants. \n\n\nEvent planning & logistics:https://coloradounderpar.com//golf-tournament-management/ \n\n\nEvent marketing & sponsor visibility:https://coloradounderpar.com//golf-tournament-marketing/ \n\n\nEvent photography & media coverage:https://coloradounderpar.com//day-of-media/ \n\n\n\nLooking Ahead\nWant to see how events like this have grown over time? \nExplore Upcoming Events:https://coloradounderpar.com//event-hub/
URL:https://coloradounderpar.com/event/6th-annual-guide-real-estate-golf-tournament/
LOCATION:Green Valley Ranch\, 4900 Himalaya Rd\, Denver\, CO\, 80249
CATEGORIES:Golf Tournament
ATTACH;FMTTYPE=image/png:https://coloradounderpar.com/wp-content/uploads/2025/12/Event-Logo-copy.png
ORGANIZER;CN="Andrew Mueller":MAILTO:am@coloradounderpar.com
END:VEVENT
END:VCALENDAR