BEGIN:VCALENDAR
VERSION:2.0
PRODID:-//Colorado Under Par - ECPv6.15.20//NONSGML v1.0//EN
CALSCALE:GREGORIAN
METHOD:PUBLISH
X-WR-CALNAME:Colorado Under Par
X-ORIGINAL-URL:https://coloradounderpar.com
X-WR-CALDESC:Events for Colorado Under Par
REFRESH-INTERVAL;VALUE=DURATION:PT1H
X-Robots-Tag:noindex
X-PUBLISHED-TTL:PT1H
BEGIN:VTIMEZONE
TZID:America/Denver
BEGIN:DAYLIGHT
TZOFFSETFROM:-0700
TZOFFSETTO:-0600
TZNAME:MDT
DTSTART:20240310T090000
END:DAYLIGHT
BEGIN:STANDARD
TZOFFSETFROM:-0600
TZOFFSETTO:-0700
TZNAME:MST
DTSTART:20241103T080000
END:STANDARD
BEGIN:DAYLIGHT
TZOFFSETFROM:-0700
TZOFFSETTO:-0600
TZNAME:MDT
DTSTART:20250309T090000
END:DAYLIGHT
BEGIN:STANDARD
TZOFFSETFROM:-0600
TZOFFSETTO:-0700
TZNAME:MST
DTSTART:20251102T080000
END:STANDARD
BEGIN:DAYLIGHT
TZOFFSETFROM:-0700
TZOFFSETTO:-0600
TZNAME:MDT
DTSTART:20260308T090000
END:DAYLIGHT
BEGIN:STANDARD
TZOFFSETFROM:-0600
TZOFFSETTO:-0700
TZNAME:MST
DTSTART:20261101T080000
END:STANDARD
END:VTIMEZONE
BEGIN:VEVENT
DTSTART;TZID=America/Denver:20251005T083000
DTEND;TZID=America/Denver:20251005T140000
DTSTAMP:20260423T171640
CREATED:20251223T103248Z
LAST-MODIFIED:20260203T164756Z
UID:10000037-1759653000-1759672800@coloradounderpar.com
SUMMARY:Dominic Miller Homes Charity Open
DESCRIPTION:Dominic Miller Homes Charity Open\n📍 Colorado • ⛳ Charity Golf Event \nEvent Summary\nThe Dominic Miller Homes Charity Open brought golfers\, sponsors\, and community partners together for a purpose-driven day on the course benefiting Children’s Hospital Colorado. Hosted by Dominic Miller Homes\, the tournament paired a professionally organized golf experience with meaningful support for pediatric care\, research\, and family services that directly impact children and families across the state. \nDesigned as a high-quality corporate-hosted fundraiser\, the event emphasized thoughtful planning\, strong sponsor participation\, and an enjoyable golfer experience. From start to finish\, the tournament reflected how business-led community engagement can create tangible outcomes—leveraging sport as a platform to give back while fostering connection among participants. \nBy combining competitive play with a clear charitable focus\, the Dominic Miller Homes Charity Open demonstrated the power of aligning company values with community impact. \n\nWhy This Event Mattered\nChildren’s Hospital Colorado plays a critical role in providing advanced medical care\, specialized treatment\, and ongoing support for children and families facing complex health challenges. Beyond clinical care\, the hospital invests in research\, innovation\, and family-centered services that help improve outcomes and quality of life for young patients throughout Colorado and the surrounding region. \nEvents like the Dominic Miller Homes Charity Open help extend that mission beyond hospital walls. By engaging community partners\, sponsors\, and golfers in a shared purpose\, the tournament raised both funds and awareness for pediatric healthcare—reinforcing the importance of sustained community involvement in supporting children when it matters most. \n\nEvent Details\nEvent Type: Charity TournamentBeneficiary: Community-Based CauseLocation: ColoradoFormat: Shotgun StartParticipants: Golfers\, Sponsors\, VolunteersStatus: Past Event \n\nEvent Impact & Community Outcomes\n\n\n🏌️ 144 golfers participated \n\n\n🤝 10 event sponsors supported the tournament \n\n\n💰 $20\,000+ raised for the beneficiary \n\n\n🎁 On-course contests\, raffles\, and player gifting introduced \n\n\n\nThank You to Our Sponsors\nWe extend our sincere appreciation to the sponsors who believed in the vision of the Dominic Miller Homes Charity Open from the very beginning. Their early support helped launch an event model that continues to drive meaningful impact year after year. \n\nEvent Highlights\n\n\nShotgun-start tournament format \n\n\nEarly-stage sponsor activations \n\n\nPlayer contests and raffle prizes \n\n\nPost-round awards and recognition \n\n\n\nEvent Support Overview\nAs an annual event\, the tournament benefited from hands-on planning and on-site coordination to ensure a smooth and professional experience for all participants. \n\n\nEvent planning & logistics:https://coloradounderpar.com//golf-tournament-management/ \n\n\nEvent marketing & sponsor visibility:https://coloradounderpar.com//golf-tournament-marketing/ \n\n\nEvent photography & media coverage:https://coloradounderpar.com//day-of-media/ \n\n\n\nLooking Ahead\nWant to see how events like this have grown over time? \nExplore Upcoming Events:https://coloradounderpar.com//event-hub/
URL:https://coloradounderpar.com/event/dominic-miller-homes-charity-open/
LOCATION:Fox Hollow Golf Course\, 13410 W Morrison Rd\, Lakewood\, CO\, 80228\, United States
CATEGORIES:Golf Tournament
ATTACH;FMTTYPE=image/webp:https://coloradounderpar.com/wp-content/uploads/2025/12/CUPPartner_DMH-300x150-1.webp
ORGANIZER;CN="Andrew Mueller":MAILTO:am@coloradounderpar.com
END:VEVENT
END:VCALENDAR