BEGIN:VCALENDAR
VERSION:2.0
PRODID:-//Colorado Under Par - ECPv6.15.20//NONSGML v1.0//EN
CALSCALE:GREGORIAN
METHOD:PUBLISH
X-ORIGINAL-URL:https://coloradounderpar.com
X-WR-CALDESC:Events for Colorado Under Par
REFRESH-INTERVAL;VALUE=DURATION:PT1H
X-Robots-Tag:noindex
X-PUBLISHED-TTL:PT1H
BEGIN:VTIMEZONE
TZID:America/Denver
BEGIN:DAYLIGHT
TZOFFSETFROM:-0700
TZOFFSETTO:-0600
TZNAME:MDT
DTSTART:20250309T090000
END:DAYLIGHT
BEGIN:STANDARD
TZOFFSETFROM:-0600
TZOFFSETTO:-0700
TZNAME:MST
DTSTART:20251102T080000
END:STANDARD
BEGIN:DAYLIGHT
TZOFFSETFROM:-0700
TZOFFSETTO:-0600
TZNAME:MDT
DTSTART:20260308T090000
END:DAYLIGHT
BEGIN:STANDARD
TZOFFSETFROM:-0600
TZOFFSETTO:-0700
TZNAME:MST
DTSTART:20261101T080000
END:STANDARD
BEGIN:DAYLIGHT
TZOFFSETFROM:-0700
TZOFFSETTO:-0600
TZNAME:MDT
DTSTART:20270314T090000
END:DAYLIGHT
BEGIN:STANDARD
TZOFFSETFROM:-0600
TZOFFSETTO:-0700
TZNAME:MST
DTSTART:20271107T080000
END:STANDARD
END:VTIMEZONE
BEGIN:VEVENT
DTSTART;TZID=America/Denver:20260425T160000
DTEND;TZID=America/Denver:20260425T230000
DTSTAMP:20260423T104208
CREATED:20260327T152207Z
LAST-MODIFIED:20260331T210419Z
UID:10000145-1777132800-1777158000@coloradounderpar.com
SUMMARY:Mountain View Core Knowledge School Golf Tournament and Silent Auction
DESCRIPTION:We’re excited to announce our 6th Annual Golf Tournament! \nMark your calendars — April 25th\, 2026 at 4:00 PM! \nWe had such an amazing time last year that we’re bringing back Glow Golf once again! Grab your friends\, get your glow gear ready\, and join us for a fun-filled evening on the course while supporting our school.  ⛳✨ \nDon’t play golf? Join us for dinner and silent auction! Last year our silent auction featured exciting items including autographs\, designer bags\, jewelry\, and much more! \nEvent Link: https://www.zeffy.com/en-US/ticketing/2026-glow-golf?fbclid=IwY2xjawQ5Fe1leHRuA2FlbQIxMABicmlkETFUdTM4SjVnakF1ZWRxaGVUc3J0YwZhcHBfaWQQMjIyMDM5MTc4ODIwMDg5MgABHoOUy1M4hRusRCieUtRpbXG0fj5_nk-t3riYy6Cyi3My_3z7CHP1g3D4coPb_aem_E9bB06iK7x6gf9POHk9sDA
URL:https://coloradounderpar.com/event/mountain-view-core-knowledge-school-golf-tournament-and-silent-auction/
LOCATION:Four Mile Ranch Golf Club\, 3501 Telegraph Trail\, Cañon City\, CO\, 81212\, United States
CATEGORIES:Golf Tournament
ATTACH;FMTTYPE=image/webp:https://coloradounderpar.com/wp-content/uploads/2026/03/1642526c-20e3-46e0-a05e-2e3cb7b8e7a7.webp
END:VEVENT
BEGIN:VEVENT
DTSTART;TZID=America/Denver:20260426T090000
DTEND;TZID=America/Denver:20260426T130000
DTSTAMP:20260423T104208
CREATED:20260403T145830Z
LAST-MODIFIED:20260403T145830Z
UID:10000155-1777194000-1777208400@coloradounderpar.com
SUMMARY:Pars With Purpose 2026
DESCRIPTION:About Our Tournaments\n\n\n\n\nPars with Purpose tournaments are designed to deliver a premier golf experience while keeping the spirit of competition fun\, fair\, and rewarding. Every event is carefully organized so that golfers of all levels can enjoy the game\, connect with others\, and compete with purpose. \n\n\n\n\nWhat’s included in your registration fee:\n\n\n\n\n\nGreens fees\nCart\nRange balls\nLive scoring\nTournament management\nRules official on site\n\n\n\n\n\nThe Pars with Purpose challenge\n\n\n\n\nOur prize pool is intentionally structured to encourage improvement and consistency. Instead of rewarding only the lowest scores\, we focus on the golfer(s) who record the most net pars on their scorecard. This unique format levels the playing field and gives everyone – from scratch golfers to higher handicaps – a fair chance to compete and win. \n\n\n\n\n\nTournament features:\n\n\n\n\n\n\nPoints awarded towards our season-long OPEN NET Points Race\nSkins Game for added excitement\nLong Drive competition\nClosest to the Pin Challenge\nPar 3 Net Game\n\nBest net score(s) on all Par 3 holes\n\n\n\n\n50/50 Progressive Hole-in-One Challenge\n\nHalf of each participant’s entry goes to our chosen charity\nHalf funds a progressive pot to pay out for a hole-in-one\nPot restarts after a hole-in-one is achieved\nIf there are multiple hole-in-ones in a round\, the pot will be shared\nIf no hole-in-one is made during the season\, the pot is donated to charity\n\n\n\n\n\n\n\n\n\n\n\n\nEach tournament combines the thrill of competition with opportunities to win prizes\, earn points\, and take part in fun side games\, all while knowing you’re part of a great purpose!
URL:https://coloradounderpar.com/event/pars-with-purpose-2026/
LOCATION:Four Mile Ranch Golf Club\, 3501 Telegraph Trail\, Cañon City\, CO\, 81212\, United States
CATEGORIES:Golf Tournament
ATTACH;FMTTYPE=image/jpeg:https://coloradounderpar.com/wp-content/uploads/2026/04/657775932_2717637231934640_7720567681647967050_n.jpg
END:VEVENT
END:VCALENDAR