BEGIN:VCALENDAR
VERSION:2.0
PRODID:-//Colorado Under Par - ECPv6.15.20//NONSGML v1.0//EN
CALSCALE:GREGORIAN
METHOD:PUBLISH
X-ORIGINAL-URL:https://coloradounderpar.com
X-WR-CALDESC:Events for Colorado Under Par
REFRESH-INTERVAL;VALUE=DURATION:PT1H
X-Robots-Tag:noindex
X-PUBLISHED-TTL:PT1H
BEGIN:VTIMEZONE
TZID:America/Denver
BEGIN:DAYLIGHT
TZOFFSETFROM:-0700
TZOFFSETTO:-0600
TZNAME:MDT
DTSTART:20250309T090000
END:DAYLIGHT
BEGIN:STANDARD
TZOFFSETFROM:-0600
TZOFFSETTO:-0700
TZNAME:MST
DTSTART:20251102T080000
END:STANDARD
BEGIN:DAYLIGHT
TZOFFSETFROM:-0700
TZOFFSETTO:-0600
TZNAME:MDT
DTSTART:20260308T090000
END:DAYLIGHT
BEGIN:STANDARD
TZOFFSETFROM:-0600
TZOFFSETTO:-0700
TZNAME:MST
DTSTART:20261101T080000
END:STANDARD
BEGIN:DAYLIGHT
TZOFFSETFROM:-0700
TZOFFSETTO:-0600
TZNAME:MDT
DTSTART:20270314T090000
END:DAYLIGHT
BEGIN:STANDARD
TZOFFSETFROM:-0600
TZOFFSETTO:-0700
TZNAME:MST
DTSTART:20271107T080000
END:STANDARD
END:VTIMEZONE
BEGIN:VEVENT
DTSTART;TZID=America/Denver:20260619T080000
DTEND;TZID=America/Denver:20260619T170000
DTSTAMP:20260423T164349
CREATED:20260418T050755Z
LAST-MODIFIED:20260418T050755Z
UID:10000192-1781856000-1781888400@coloradounderpar.com
SUMMARY:Day at a Time Classic- Recovery on the Green
DESCRIPTION:Supporting the Future of Recovery\n\n\nFor more than 40 years\, Day at a Time Club has provided a welcoming space for individuals and families seeking recovery in Lakewood\, Colorado. \nEach week\, the club hosts more than 60 twelve-step meetings serving fellowships including Alcoholics Anonymous\, Al-Anon\, Crystal Meth Anonymous\, Co-Dependents Anonymous\, and others. \nThe DAAT Classic marks the beginning of a long-term initiative focused on strengthening and sustaining this important community resource for years to come. \n\n\n\n\n\n\n\n\nBuilding Toward a Permanent Home\n\n\nAs part of its five-year vision\, Day at a Time Club is exploring the opportunity to secure a permanent facility that meets both current and future needs. \nOwning a space would provide:\n• Long-term stability\n• Greater flexibility for growth\n• A lasting home for the recovery community\n• The ability to invest in the future rather than short-term space \nThis tournament is the kickoff event supporting that vision.
URL:https://coloradounderpar.com/event/day-at-a-time-classic-recovery-on-the-green/
LOCATION:Foothills Golf Course\, 3901 S Carr St. Denver\, Denver\, CO\, 80235\, United States
CATEGORIES:Golf Tournament
ATTACH;FMTTYPE=image/png:https://coloradounderpar.com/wp-content/uploads/2026/04/IMG_0443-scaled.png
END:VEVENT
BEGIN:VEVENT
DTSTART;TZID=America/Denver:20260814T080000
DTEND;TZID=America/Denver:20260814T130000
DTSTAMP:20260423T164349
CREATED:20260408T033134Z
LAST-MODIFIED:20260418T044649Z
UID:10000173-1786694400-1786712400@coloradounderpar.com
SUMMARY:36th Annual Foothills Foundation Golf Tournament
DESCRIPTION:We’re excited to host the 36th Annual Foothills Foundation Golf Tournament on August 14\, 2026. Registration for the tournament will open up in April. \nNow\, in its 36th year\, this popular four-person scramble provides participants with a fun-filled morning of golf\, followed by a lunch banquet while fundraising for a worthy cause at the same time. Funds raised will support kids by helping cover Foothills Parks and Recreation registration fees for sports programs\, classes\, and scholarships\, opening doors to opportunities they might not otherwise have. \nThe 2026 tournament will once again be at the Meadows Golf Course. We’ll have the whole course to ourselves. \nGolfer Registration Form: Pay for your registration on this site\, whether foursome or individual\, and then send this completed form to Tom Woodard\,  tomgolfbirdies@yahoo.com. \nSponsor Registration Form: Pay for your sponsorship on this site\, then send this completed form to Tom Woodard at tomgolfbirdies@yahoo.com.
URL:https://coloradounderpar.com/event/36th-annual-foothills-foundation-golf-tournament/
LOCATION:Foothills Golf Course\, 3901 S Carr St. Denver\, Denver\, CO\, 80235\, United States
CATEGORIES:Golf Tournament
ATTACH;FMTTYPE=image/webp:https://coloradounderpar.com/wp-content/uploads/2026/04/Golf-Tourney-2025.webp
END:VEVENT
END:VCALENDAR