BEGIN:VCALENDAR
VERSION:2.0
PRODID:-//Colorado Under Par - ECPv6.15.20//NONSGML v1.0//EN
CALSCALE:GREGORIAN
METHOD:PUBLISH
X-ORIGINAL-URL:https://coloradounderpar.com
X-WR-CALDESC:Events for Colorado Under Par
REFRESH-INTERVAL;VALUE=DURATION:PT1H
X-Robots-Tag:noindex
X-PUBLISHED-TTL:PT1H
BEGIN:VTIMEZONE
TZID:America/Denver
BEGIN:DAYLIGHT
TZOFFSETFROM:-0700
TZOFFSETTO:-0600
TZNAME:MDT
DTSTART:20250309T090000
END:DAYLIGHT
BEGIN:STANDARD
TZOFFSETFROM:-0600
TZOFFSETTO:-0700
TZNAME:MST
DTSTART:20251102T080000
END:STANDARD
BEGIN:DAYLIGHT
TZOFFSETFROM:-0700
TZOFFSETTO:-0600
TZNAME:MDT
DTSTART:20260308T090000
END:DAYLIGHT
BEGIN:STANDARD
TZOFFSETFROM:-0600
TZOFFSETTO:-0700
TZNAME:MST
DTSTART:20261101T080000
END:STANDARD
BEGIN:DAYLIGHT
TZOFFSETFROM:-0700
TZOFFSETTO:-0600
TZNAME:MDT
DTSTART:20270314T090000
END:DAYLIGHT
BEGIN:STANDARD
TZOFFSETFROM:-0600
TZOFFSETTO:-0700
TZNAME:MST
DTSTART:20271107T080000
END:STANDARD
END:VTIMEZONE
BEGIN:VEVENT
DTSTART;TZID=America/Denver:20260424T080000
DTEND;TZID=America/Denver:20260426T170000
DTSTAMP:20260423T085750
CREATED:20260414T214031Z
LAST-MODIFIED:20260414T214031Z
UID:10000182-1777017600-1777222800@coloradounderpar.com
SUMMARY:Battle of the Paddles
DESCRIPTION:Tournament Description\nEmpty heading\n\n\nEVERY PLAYER’S REGISTRATION INCLUDES ONE (1) event….\n\nRegistration fee follows a tiered structure:\n\nTier 1 Early Entry — March 2nd: $55\nTier 2 — Opens March 11th: $65\nTier 3 — Opens March 25th: $75\n\n*Additional events: $35 each\n\nWhat You Get:\nRound-robin play feeding into playoff brackets\nAll scores uploaded to DUPR for official rating updates\nFranklin X-40 balls on 13 courts\, including 3 championship-sized courts\n\nRegistration Requirements:\n\nEvery player must register individually. Teams cannot register as a single entry.\nBoth partners must create an account\, register\, and pay separately. If your teammate has not made a pickleball.com account yet\, mark yourself as “need teammate” in your registration and they can choose you when they complete their registration.\nAll players must have a DUPR account.\n\nEvents Offered: Men’s Doubles\, Women’s Doubles\, Mixed Doubles\, Singles\n\nDivisions: 2.5\, 3.0\, 3.5\, 4.0\, Open (4.5+)\n\nAny age and 50+ age splits (divisions may be combined and/or split based on numbers)\n\nPool Play → Playoff Bracket:\n\nStandard pool play: 1 game to 15\, win by 2\nLarger brackets: 1 game to 11\, win by 2\nPool results determine placement into:\nPlayoff brackets (1 game to 11 or 15)\nGold medal match (best 2 of 3 to 11\, win by 2)\nBronze medal match (1 game to 15\, win by 2)\n\nGame Count Guarantee: Minimum 4 games per player\n\nAdditional Notes:\n\nImportant Scheduling Notes:\n\nExact start times will be assigned only after registration closes\, once division sizes are final.\nBrackets with 4+ teams may take 4+ hours to finish — plan your day accordingly.\nBrackets may be combined or split by age or skill to create complete\, competitive divisions.\n\nSee Less\n\n\nAdditional Information\nEmpty heading\n\n\nTentative Schedule:\n\nFriday\, April 24th – Men’s/Women’s Singles\n\nSaturday\, April 25th – Mixed Doubles Divisions\n\nSunday\, April 26th – Men’s/Women’s Doubles Divisions\n\nFINAL – Start times will be available on or before April 22nd.
URL:https://coloradounderpar.com/event/battle-of-the-paddles/
LOCATION:Epic Pickleball Club Littleton\, 7421 W. Bowles Ave.\, Littleton\, CO\, 80123\, United States
CATEGORIES:Pickleball
ATTACH;FMTTYPE=image/webp:https://coloradounderpar.com/wp-content/uploads/2026/04/8e99e511-60c0-4957-b98a-61fd30eee04e_1775494081_Logo.webp
END:VEVENT
END:VCALENDAR