BEGIN:VCALENDAR
VERSION:2.0
PRODID:-//Colorado Under Par - ECPv6.15.20//NONSGML v1.0//EN
CALSCALE:GREGORIAN
METHOD:PUBLISH
X-ORIGINAL-URL:https://coloradounderpar.com
X-WR-CALDESC:Events for Colorado Under Par
REFRESH-INTERVAL;VALUE=DURATION:PT1H
X-Robots-Tag:noindex
X-PUBLISHED-TTL:PT1H
BEGIN:VTIMEZONE
TZID:America/Denver
BEGIN:DAYLIGHT
TZOFFSETFROM:-0700
TZOFFSETTO:-0600
TZNAME:MDT
DTSTART:20250309T090000
END:DAYLIGHT
BEGIN:STANDARD
TZOFFSETFROM:-0600
TZOFFSETTO:-0700
TZNAME:MST
DTSTART:20251102T080000
END:STANDARD
BEGIN:DAYLIGHT
TZOFFSETFROM:-0700
TZOFFSETTO:-0600
TZNAME:MDT
DTSTART:20260308T090000
END:DAYLIGHT
BEGIN:STANDARD
TZOFFSETFROM:-0600
TZOFFSETTO:-0700
TZNAME:MST
DTSTART:20261101T080000
END:STANDARD
BEGIN:DAYLIGHT
TZOFFSETFROM:-0700
TZOFFSETTO:-0600
TZNAME:MDT
DTSTART:20270314T090000
END:DAYLIGHT
BEGIN:STANDARD
TZOFFSETFROM:-0600
TZOFFSETTO:-0700
TZNAME:MST
DTSTART:20271107T080000
END:STANDARD
END:VTIMEZONE
BEGIN:VEVENT
DTSTART;TZID=America/Denver:20260629T073000
DTEND;TZID=America/Denver:20260629T170000
DTSTAMP:20260423T215106
CREATED:20260422T141919Z
LAST-MODIFIED:20260422T141919Z
UID:10000208-1782718200-1782752400@coloradounderpar.com
SUMMARY:The Gayles Foundation Charity Golf Classic
DESCRIPTION:The Gayles Foundation Charity Golf Classic \nThe Gayles Foundation \nThe Gayles Foundation is set up to help the kids\, young adults and adults dealing with Diabetes so that they can enjoy life. The foundation strives to provide support for research\, resources and services for children and their families until there is a cure! \nCHILDREN’S DIABETES \nType 1 diabetes is the most common form of diabetes in children: 90-95 per cent of under 16 with diabetes have this type. It is caused by the inability of the pancreas to produce insulin. Type 1 diabetes is classified as an auto- immune disease\, meaning a condition in which the body’s immune system ‘attacks’ one of the body’s own tissues or organs. What causes childhood diabetes? As with adults\, the cause of childhood diabetes is not understood. It probably involves a combination of genes and environmental triggers. The majority of children who develop Type 1 don’t have a family history of diabetes. \nCONTESTS \nMen & Women\, Longest Drive\, Closest to pin\, longest putt\, beat a golf pro drive \n*Golf attire required: \nCollar shirt\, Shorts or slacks – no jeans \nmake checks payable to: \nThe Gayles Foundation 20325 Mitchell Pl\, Denver\, Co 80249
URL:https://coloradounderpar.com/event/the-gayles-foundation-charity-golf-classic/
LOCATION:Common Ground\, 10300 E Golfers Way\, Aurora\, CO\, 80010\, United States
CATEGORIES:Golf Tournament
END:VEVENT
END:VCALENDAR