BEGIN:VCALENDAR
VERSION:2.0
PRODID:-//Colorado Under Par - ECPv6.15.20//NONSGML v1.0//EN
CALSCALE:GREGORIAN
METHOD:PUBLISH
X-ORIGINAL-URL:https://coloradounderpar.com
X-WR-CALDESC:Events for Colorado Under Par
REFRESH-INTERVAL;VALUE=DURATION:PT1H
X-Robots-Tag:noindex
X-PUBLISHED-TTL:PT1H
BEGIN:VTIMEZONE
TZID:America/Denver
BEGIN:DAYLIGHT
TZOFFSETFROM:-0700
TZOFFSETTO:-0600
TZNAME:MDT
DTSTART:20250309T090000
END:DAYLIGHT
BEGIN:STANDARD
TZOFFSETFROM:-0600
TZOFFSETTO:-0700
TZNAME:MST
DTSTART:20251102T080000
END:STANDARD
BEGIN:DAYLIGHT
TZOFFSETFROM:-0700
TZOFFSETTO:-0600
TZNAME:MDT
DTSTART:20260308T090000
END:DAYLIGHT
BEGIN:STANDARD
TZOFFSETFROM:-0600
TZOFFSETTO:-0700
TZNAME:MST
DTSTART:20261101T080000
END:STANDARD
BEGIN:DAYLIGHT
TZOFFSETFROM:-0700
TZOFFSETTO:-0600
TZNAME:MDT
DTSTART:20270314T090000
END:DAYLIGHT
BEGIN:STANDARD
TZOFFSETFROM:-0600
TZOFFSETTO:-0700
TZNAME:MST
DTSTART:20271107T080000
END:STANDARD
END:VTIMEZONE
BEGIN:VEVENT
DTSTART;TZID=America/Denver:20260511T130000
DTEND;TZID=America/Denver:20260511T190000
DTSTAMP:20260423T171757
CREATED:20260421T222051Z
LAST-MODIFIED:20260421T222133Z
UID:10000201-1778504400-1778526000@coloradounderpar.com
SUMMARY:2026 CU Boulder Young Life College Golf Classic
DESCRIPTION:When: Monday May 11th Shotgun Start at 1:00pm\nWhere: Colorado National Golf Club (2700 Vista Pkwy Erie\, CO)\nWhat: Scramble Style Golf Tournament and One Putt Showdown\nOther Details: Lunch Provided\, multiple sponsorship options listed below.\nRegister as an individual\, as a team\, or help sponsor! \n\n\n\n\n\n\n\n\n\n\n\n\n\n\n\n\n\n\n\nSign Up and Sponsor Options\n\n\n\n\n\n\n \n\n\n\nDay of Golf Sponsors:  INCLUDE A FREE FOURSOME \n\n\n\n\n. \n\n\n\nHole Sponsor ($2\,500.00*) + Fees and Processing\n\n\nGolf Favor Sponsor ($3\,500.00*) + Fees and Processing [1 remaining]\n\n\nGolf Ball Sponsor ($3\,500.00*) + Fees and Processing [Sold Out]\n\n\nOne Putt Showdown Sponsor ($3\,500.00*) + Fees and Processing [1 remaining]\n\n\nDriving Range Sponsor ($3\,500.00*) + Fees and Processing [1 remaining]\n\n\nLunch Sponsor ($3\,500.00*) + Fees and Processing [Sold Out]\n\n\n\n\n\n\n\n\n\n\nChurch and Corporate Sponsorships \n\n\n\n\n. \n\n\n\nAnnual Platinum Corporate Sponsor ($10\,000.00*) + Fees and Processing\nIncludes 2 free foursomes \n\n\nAnnual Gold Corporate Sponsor ($5\,000.00*) + Fees and Processing\nIncludes 1 free foursome \n\n\nChurch Sponsor ($5\,000.00*) + Fees and Processing\nIncludes 1 free foursome \n\n\n\n\n\n\n\n\n\n\nGolf Only Options \n\n\n\n\n. \n\n\n\nFoursome ($1\,200.00*) + Fees and Processing\n\n\nIndividual Golfer ($300.00*) + Fees and Processing\n\n\n\n\n\n\n\n\n\n\nRegistrant Info \n\n\n\n\n\nName \n\n\n\n\n\nEmail \n\n\n\n\n\n\n\n\nCourse Add-Ons (optional) \n\n\n\n\nMax out my Mulligans and Strings(Day of Check-in Short Cut) \n\n\n\nMax Out My Team ($1\,000.00*) + Fees and Processing\nEACH GOLFER ON THE TEAM GETS 4 STRINGs\, 4 MULLIGANS\, AND A “ONE PUTT SHOWDOWN” ENTRY \n\n\nMax Out Individual ($250.00*) + Fees and Processing\nINDIVIDUAL GOLFER GETS 4 STRINGs\, 4 MULLIGANS AND A “ONE PUTT SHOWDOWN” ENTRY
URL:https://coloradounderpar.com/event/2026-cu-boulder-young-life-college-golf-classic/
LOCATION:Colorado National Golf Course\, 2700 Vista Pkwy\, Erie\, CO\, 80516\, United States
CATEGORIES:Golf Tournament
ATTACH;FMTTYPE=image/webp:https://coloradounderpar.com/wp-content/uploads/2026/04/cas-ylc-logo-color-transparent-scaled.webp
END:VEVENT
END:VCALENDAR