BEGIN:VCALENDAR
VERSION:2.0
PRODID:-//Colorado Under Par - ECPv6.15.20//NONSGML v1.0//EN
CALSCALE:GREGORIAN
METHOD:PUBLISH
X-WR-CALNAME:Colorado Under Par
X-ORIGINAL-URL:https://coloradounderpar.com
X-WR-CALDESC:Events for Colorado Under Par
REFRESH-INTERVAL;VALUE=DURATION:PT1H
X-Robots-Tag:noindex
X-PUBLISHED-TTL:PT1H
BEGIN:VTIMEZONE
TZID:America/Denver
BEGIN:DAYLIGHT
TZOFFSETFROM:-0700
TZOFFSETTO:-0600
TZNAME:MDT
DTSTART:20240310T090000
END:DAYLIGHT
BEGIN:STANDARD
TZOFFSETFROM:-0600
TZOFFSETTO:-0700
TZNAME:MST
DTSTART:20241103T080000
END:STANDARD
BEGIN:DAYLIGHT
TZOFFSETFROM:-0700
TZOFFSETTO:-0600
TZNAME:MDT
DTSTART:20250309T090000
END:DAYLIGHT
BEGIN:STANDARD
TZOFFSETFROM:-0600
TZOFFSETTO:-0700
TZNAME:MST
DTSTART:20251102T080000
END:STANDARD
BEGIN:DAYLIGHT
TZOFFSETFROM:-0700
TZOFFSETTO:-0600
TZNAME:MDT
DTSTART:20260308T090000
END:DAYLIGHT
BEGIN:STANDARD
TZOFFSETFROM:-0600
TZOFFSETTO:-0700
TZNAME:MST
DTSTART:20261101T080000
END:STANDARD
END:VTIMEZONE
BEGIN:VEVENT
DTSTART;TZID=America/Denver:20250731T080000
DTEND;TZID=America/Denver:20250731T150000
DTSTAMP:20260423T183207
CREATED:20251223T071549Z
LAST-MODIFIED:20260204T013516Z
UID:10000015-1753948800-1753974000@coloradounderpar.com
SUMMARY:Lights\, Sirens\, Scramble
DESCRIPTION:Event Summary\nThe Lights\, Sirens\, Scramble brought golfers\, sponsors\, and community supporters together in support of Foundation 1010\, an organization dedicated to serving first responders and their families through advocacy\, resources\, and long-term support. Designed as a high-energy\, mission-driven golf event\, the tournament blended appreciation\, camaraderie\, and friendly competition with a professionally organized on-course experience. \nFrom the outset\, the event was built around honoring those who serve on the front lines while creating an environment that encouraged connection\, gratitude\, and shared purpose. Golfers and sponsors alike were able to engage with the mission in a meaningful way—celebrating service\, strengthening relationships\, and contributing to programs that directly impact first responder families. \nThe Lights\, Sirens\, Scramble emphasized thoughtful planning\, strong sponsor participation\, and an enjoyable golfer experience throughout the day. By balancing competitive play with mission-forward storytelling and community engagement\, the tournament created an atmosphere that felt both celebratory and impactful. The result was an event that not only honored service but also strengthened awareness and long-term support for Foundation 1010’s work across Colorado. \nAs a growing annual event\, the Scramble demonstrated how cause-driven tournaments can successfully merge energy\, appreciation\, and operational excellence—delivering a memorable experience while advancing a meaningful mission. \n\nEvent Details\nEvent Type: Charity TournamentBeneficiary: Community-Based CauseLocation: ColoradoFormat: Shotgun StartParticipants: Golfers\, Sponsors\, VolunteersStatus: Past Event \n\nEvent Impact & Community Outcomes\nA full field of 144 golfers participated\, reflecting strong community interest and engagement around the event’s mission.18 event sponsors supported the tournament\, contributing to on-course activations\, player experience\, and overall event success.More than $20\,000 was raised in support of Foundation 1010\, helping expand resources and programs for first responders and their families.On-course contests\, raffles\, and player gifting enhanced engagement throughout the day while reinforcing a fun\, competitive atmosphere tied to appreciation and service. \n\nThank You to Our Sponsors\nWe extend our sincere appreciation to the sponsors who believed in the vision of the Lights\, Sirens\, Scramble from the very beginning. Their commitment played a critical role in elevating the participant experience\, amplifying the mission\, and ensuring the event’s continued success. Sponsor support helped transform the tournament into a meaningful platform for recognition\, impact\, and community connection. \n\nEvent Highlights\nThe shotgun-start format created a shared tournament experience that kept energy high across the course.Early-stage sponsor activations allowed for meaningful interaction with golfers and reinforced mission alignment.Player contests and raffles added excitement while increasing engagement throughout the day.Post-round awards and recognition provided a strong closing moment that celebrated both performance and purpose. \n\nEvent Support Overview\nAs an annual event\, the Lights\, Sirens\, Scramble benefited from hands-on planning and on-site coordination to ensure a smooth\, professional\, and well-executed experience for golfers\, sponsors\, and volunteers. Operational support allowed organizers and Foundation 1010 to focus on mission engagement\, sponsor relationships\, and participant experience rather than logistics. \nEvent planning & logistics:https://coloradounderpar.com//golf-tournament-management/ \nEvent marketing & sponsor visibility:https://coloradounderpar.com//golf-tournament-marketing/ \n\nLooking Ahead\nWant to see how events like this have grown over time? \nExplore Upcoming Events:https://coloradounderpar.com//event-hub/
URL:https://coloradounderpar.com/event/lights-sirens-scramble/
LOCATION:Colorado National Golf Course\, 2700 Vista Pkwy\, Erie\, CO\, 80516\, United States
CATEGORIES:Golf Tournament
ATTACH;FMTTYPE=image/png:https://coloradounderpar.com/wp-content/uploads/2025/12/89a414c8-7120-4836-9f05-60771c40fe93.png
ORGANIZER;CN="Andrew Mueller":MAILTO:am@coloradounderpar.com
END:VEVENT
BEGIN:VEVENT
DTSTART;TZID=America/Denver:20250616T080000
DTEND;TZID=America/Denver:20250616T170000
DTSTAMP:20260423T183207
CREATED:20251223T110134Z
LAST-MODIFIED:20260204T004930Z
UID:10000044-1750060800-1750093200@coloradounderpar.com
SUMMARY:Canine Partners of the Rockies 2nd Annual Golf Tournament
DESCRIPTION:Event Summary\nThe Canine Partners of the Rockies 2nd Annual Golf Tournament built on the momentum of its inaugural year\, bringing golfers\, sponsors\, and community supporters together once again in support of Canine Partners of the Rockies. The organization is dedicated to training and placing professionally trained service dogs with individuals living with disabilities\, creating life-changing partnerships that foster independence\, confidence\, and improved quality of life. \nDesigned as a purpose-driven charity golf tournament\, the second annual event focused on maintaining a polished golfer experience while expanding awareness of the organization’s mission. By combining thoughtful planning with strategic sponsor engagement\, the tournament created an environment where participants could enjoy a competitive and social day on the course while directly supporting service dog training\, placement\, and long-term client success. \nAs a returning annual event\, the tournament demonstrated continued momentum through consistent execution\, growing community trust\, and an enjoyable golfer-first approach. The second year reinforced long-term support for Canine Partners of the Rockies while validating the event as a sustainable fundraising and awareness platform moving forward. \nEvent Details\nEvent Type: Charity TournamentBeneficiary: Community-Based CauseLocation: ColoradoFormat: Shotgun StartParticipants: Golfers\, Sponsors\, VolunteersStatus: Past Event \nEvent Impact & Community Outcomes\nA total of 100 golfers participated in the tournament\, reflecting strong retention from year one and continued interest in supporting the mission. Ten event sponsors supported the tournament\, providing critical funding and increased visibility for Canine Partners of the Rockies. More than $5\,000 was raised to support the training and placement of service dogs for individuals with disabilities. On-course contests\, raffles\, and player gifting were incorporated to enhance engagement and create a fun\, memorable experience for participants. \nThank You to Our Sponsors\nWe extend our sincere appreciation to the sponsors who believed in the vision of the Canine Partners of the Rockies 2nd Annual Golf Tournament from the very beginning. Their continued support played a key role in the event’s success and helped sustain an important funding stream for service dog training programs. Sponsor involvement also amplified community awareness and reinforced the shared commitment to expanding access to service dog partnerships across Colorado. \nEvent Highlights\nThe shotgun-start format ensured smooth pacing and a consistent experience for all golfers throughout the round. Sponsor activations were strategically placed to maximize interaction while maintaining a professional event flow. Player contests and raffles added excitement and encouraged engagement across the course. Post-round awards and recognition provided an opportunity to celebrate participation\, generosity\, and community impact. \nEvent Support Overview\nFor budget-conscious planning purposes\, the Canine Partners of the Rockies team requested marketing support only for the second annual tournament. Colorado Under Par assisted with promotional strategy and sponsor visibility efforts\, helping maintain participation levels and sponsor engagement while keeping operational costs controlled. The marketing-only support model proved effective\, contributing to a successful second-year event that met participation goals and reinforced the tournament’s long-term viability. \nEvent marketing & sponsor visibility:https://coloradounderpar.com//golf-tournament-marketing/ \nLooking Ahead\nWith two successful years completed\, the Canine Partners of the Rockies Golf Tournament is well positioned for continued growth. The event now benefits from an established foundation\, returning golfers\, and sponsor relationships that can be expanded in future years. As awareness grows and marketing efforts evolve\, future tournaments have the potential to increase fundraising impact while continuing to support life-changing service dog partnerships throughout Colorado. \nWant to see how events like this have grown over time? \nExplore Upcoming Events:https://coloradounderpar.com//event-hub/
URL:https://coloradounderpar.com/event/canine-partners-of-the-rockies-2nd-annual-golf-tournament/
LOCATION:Colorado National Golf Course\, 2700 Vista Pkwy\, Erie\, CO\, 80516\, United States
CATEGORIES:Golf Tournament
ATTACH;FMTTYPE=image/webp:https://coloradounderpar.com/wp-content/uploads/2025/12/CPOTR-300x300-1.webp
ORGANIZER;CN="Andrew Mueller":MAILTO:am@coloradounderpar.com
END:VEVENT
BEGIN:VEVENT
DTSTART;TZID=America/Denver:20250531T170000
DTEND;TZID=America/Denver:20250531T210000
DTSTAMP:20260423T183207
CREATED:20251223T110813Z
LAST-MODIFIED:20260204T004002Z
UID:10000047-1748710800-1748725200@coloradounderpar.com
SUMMARY:Raising HOPE Fore Heroes Gala
DESCRIPTION:Event Summary\nThe Inaugural Raising Hope Fore Heroes Gala was a sold-out evening of camaraderie\, celebration\, and purpose—bringing supporters together in support of PGA HOPE Colorado (Helping Our Patriots Everywhere). With demand exceeding capacity and a waitlist forming ahead of the event\, the gala immediately established itself as a highly engaging and meaningful new fundraising experience. \nDesigned as a mission-driven gala\, the event honored Veterans and active-duty military Service Members while highlighting the life-changing impact of PGA HOPE Colorado’s golf-based rehabilitation and wellness programs. This marked Colorado Under Par’s first gala execution and first collaboration supporting a PGA-affiliated initiative—both of which proved to be highly successful. \nPGA HOPE Colorado is dedicated to changing and saving lives through the power of golf\, providing community\, purpose\, and therapeutic instruction for those who have served. Through shared commitment and generosity\, the gala helped expand access to critical programming\, where every $300 raised supports 6–8 weeks of life-changing and life-saving PGA HOPE Colorado instruction for a Veteran or Active Duty Service Member. \nAs an inaugural gala\, Raising Hope Fore Heroes established a strong foundation through compelling storytelling\, thoughtful execution\, and mission-first engagement—setting the stage for future growth\, expanded capacity\, and continued impact in support of America’s heroes. \nEvent Details\nEvent Type: GalaBeneficiary: Community-Based CauseLocation: ColoradoParticipants: Attendees\, Sponsors\, VolunteersStatus: Past Event \nEvent Impact & Community Outcomes\nThe gala sold out in advance and generated a waitlist\, demonstrating strong community demand in its first year.More than 100 attendees participated in the event.Ten event sponsors supported the gala and its mission.Over $30\,000 was raised in direct support of PGA HOPE Colorado programming.Auctions\, raffles\, and mission storytelling created strong engagement and meaningful fundraising outcomes. \nThank You to Our Sponsors\nWe extend our sincere appreciation to the sponsors who believed in the vision of the Inaugural Raising Hope Fore Heroes Gala from the very beginning. Their early support played a critical role in launching a successful first-year gala and establishing a repeatable model for future events. \nEvent Highlights\nEarly-stage sponsor activations provided strong visibility and alignment with the mission.Live and silent auctions\, along with raffles\, drove engagement and fundraising momentum.Awards and recognition honored service\, sacrifice\, and community impact.Mission storytelling reinforced the direct outcomes of PGA HOPE Colorado programming. \nEvent Support Overview\nAs a first-of-its-kind gala for both the client and Colorado Under Par\, the event benefited from hands-on planning and on-site coordination to ensure a polished and seamless experience. CUP provided structured logistical support\, marketing guidance\, and execution oversight—successfully translating its tournament expertise into a gala format while meeting PGA standards and expectations. \nEvent marketing & sponsor visibility:https://coloradounderpar.com//golf-tournament-marketing/ \nEvent photography & media coverage:https://coloradounderpar.com//day-of-media/ \nLooking Ahead\nWith a sold-out inaugural gala and strong community response\, Raising Hope Fore Heroes is well-positioned for future growth. Expanded capacity\, earlier outreach\, and increased sponsorship opportunities will allow the event to scale its impact while continuing to support Veterans and Active Duty Service Members through PGA HOPE Colorado. \nWant to see how events like this have grown over time? \nExplore Upcoming Events:https://coloradounderpar.com//event-hub/
URL:https://coloradounderpar.com/event/raising-hope-fore-heroes-gala/
LOCATION:Colorado National Golf Course\, 2700 Vista Pkwy\, Erie\, CO\, 80516\, United States
CATEGORIES:Gala
ATTACH;FMTTYPE=image/webp:https://coloradounderpar.com/wp-content/uploads/2025/12/HOPE_Colorado.webp
ORGANIZER;CN="Andrew Mueller":MAILTO:am@coloradounderpar.com
END:VEVENT
END:VCALENDAR