BEGIN:VCALENDAR
VERSION:2.0
PRODID:-//Colorado Under Par - ECPv6.15.20//NONSGML v1.0//EN
CALSCALE:GREGORIAN
METHOD:PUBLISH
X-ORIGINAL-URL:https://coloradounderpar.com
X-WR-CALDESC:Events for Colorado Under Par
REFRESH-INTERVAL;VALUE=DURATION:PT1H
X-Robots-Tag:noindex
X-PUBLISHED-TTL:PT1H
BEGIN:VTIMEZONE
TZID:America/Denver
BEGIN:DAYLIGHT
TZOFFSETFROM:-0700
TZOFFSETTO:-0600
TZNAME:MDT
DTSTART:20240310T090000
END:DAYLIGHT
BEGIN:STANDARD
TZOFFSETFROM:-0600
TZOFFSETTO:-0700
TZNAME:MST
DTSTART:20241103T080000
END:STANDARD
BEGIN:DAYLIGHT
TZOFFSETFROM:-0700
TZOFFSETTO:-0600
TZNAME:MDT
DTSTART:20250309T090000
END:DAYLIGHT
BEGIN:STANDARD
TZOFFSETFROM:-0600
TZOFFSETTO:-0700
TZNAME:MST
DTSTART:20251102T080000
END:STANDARD
BEGIN:DAYLIGHT
TZOFFSETFROM:-0700
TZOFFSETTO:-0600
TZNAME:MDT
DTSTART:20260308T090000
END:DAYLIGHT
BEGIN:STANDARD
TZOFFSETFROM:-0600
TZOFFSETTO:-0700
TZNAME:MST
DTSTART:20261101T080000
END:STANDARD
END:VTIMEZONE
BEGIN:VEVENT
DTSTART;TZID=America/Denver:20250715T080000
DTEND;TZID=America/Denver:20250715T170000
DTSTAMP:20260423T195801
CREATED:20251223T105843Z
LAST-MODIFIED:20260204T010850Z
UID:10000043-1752566400-1752598800@coloradounderpar.com
SUMMARY:29th Annual Denver Cherry Creek Rotary Open
DESCRIPTION:Event Summary\nThe 29th Annual Denver Cherry Creek Rotary Open marked nearly three decades of tradition\, bringing golfers\, sponsors\, and community leaders together in support of the mission of Denver Cherry Creek Rotary. As one of the region’s longest-running charity golf events\, the tournament delivered a polished and well-established golf experience centered on service\, fellowship\, and community impact. \nFor this edition of the Rotary Open\, Colorado Under Par was engaged for marketing-only support\, with the goal of strengthening visibility\, sponsor engagement\, and participant momentum for an already mature event. Through targeted promotion and strategic outreach\, the event achieved measurable growth\, demonstrating how focused marketing support can significantly amplify results without requiring full-service management. \nAs a long-standing annual event\, the Rotary Open once again showcased the power of consistency and community commitment—while highlighting how strategic marketing execution alone can deliver outsized returns. \nEvent Details\nEvent Type: Charity TournamentBeneficiary: Community-Based CauseLocation: ColoradoFormat: Shotgun StartParticipants: Golfers\, Sponsors\, VolunteersStatus: Past Event \nEvent Impact & Community Outcomes\nThe tournament welcomed 120 golfers\, filling the field with strong participant engagement. Twelve event sponsors supported the tournament\, reinforcing long-standing relationships while attracting continued visibility. The event raised over $50\,000 for the beneficiary. On-course contests\, raffles\, and player gifting were incorporated to enhance the overall golfer experience. \nThank You to Our Sponsors\nWe extend our sincere appreciation to the sponsors who believed in the vision of the 29th Annual Denver Cherry Creek Rotary Open from the very beginning. Their continued support plays a vital role in sustaining the event’s impact year after year. \nEvent Highlights\nThe tournament featured a shotgun-start format that ensured a smooth and enjoyable pace of play. Sponsor activations were integrated throughout the course\, supporting visibility and engagement. Player contests\, raffles\, and post-round recognition contributed to a well-rounded and celebratory event atmosphere. \nEvent Support Overview\nColorado Under Par provided marketing-only support for this event\, focusing on visibility\, outreach\, and sponsor amplification rather than full operational management. The result was a 4× multiplier on service value\, demonstrating that even limited-scope marketing support can significantly enhance participation\, sponsorship engagement\, and overall event performance when applied strategically. \nEvent marketing & sponsor visibility:https://coloradounderpar.com//golf-tournament-marketing/ \nEvent photography & media coverage:https://coloradounderpar.com//day-of-media/ \nLooking Ahead\nThe success of the 29th Annual Denver Cherry Creek Rotary Open reinforces how long-standing events can continue to grow and evolve with the right marketing strategy in place. Strategic promotion remains a powerful lever for amplifying impact\, even for well-established tournaments. \nWant to see how events like this have grown over time? \nExplore Upcoming Events:https://coloradounderpar.com//event-hub/
URL:https://coloradounderpar.com/event/29th-annual-denver-cherry-creek-rotary-open/
LOCATION:Bear Dance\, 6630 Bear Dance Dr #200\, Larkspur\, CO\, 80118\, United States
CATEGORIES:Golf Tournament
ATTACH;FMTTYPE=image/webp:https://coloradounderpar.com/wp-content/uploads/2025/12/CUPPartner_DenverCherryCreekRotary-300x300-1.webp
ORGANIZER;CN="Andrew Mueller":MAILTO:am@coloradounderpar.com
END:VEVENT
END:VCALENDAR