BEGIN:VCALENDAR
VERSION:2.0
PRODID:-//Colorado Under Par - ECPv6.15.20//NONSGML v1.0//EN
CALSCALE:GREGORIAN
METHOD:PUBLISH
X-WR-CALNAME:Colorado Under Par
X-ORIGINAL-URL:https://coloradounderpar.com
X-WR-CALDESC:Events for Colorado Under Par
REFRESH-INTERVAL;VALUE=DURATION:PT1H
X-Robots-Tag:noindex
X-PUBLISHED-TTL:PT1H
BEGIN:VTIMEZONE
TZID:America/Denver
BEGIN:DAYLIGHT
TZOFFSETFROM:-0700
TZOFFSETTO:-0600
TZNAME:MDT
DTSTART:20250309T090000
END:DAYLIGHT
BEGIN:STANDARD
TZOFFSETFROM:-0600
TZOFFSETTO:-0700
TZNAME:MST
DTSTART:20251102T080000
END:STANDARD
BEGIN:DAYLIGHT
TZOFFSETFROM:-0700
TZOFFSETTO:-0600
TZNAME:MDT
DTSTART:20260308T090000
END:DAYLIGHT
BEGIN:STANDARD
TZOFFSETFROM:-0600
TZOFFSETTO:-0700
TZNAME:MST
DTSTART:20261101T080000
END:STANDARD
BEGIN:DAYLIGHT
TZOFFSETFROM:-0700
TZOFFSETTO:-0600
TZNAME:MDT
DTSTART:20270314T090000
END:DAYLIGHT
BEGIN:STANDARD
TZOFFSETFROM:-0600
TZOFFSETTO:-0700
TZNAME:MST
DTSTART:20271107T080000
END:STANDARD
END:VTIMEZONE
BEGIN:VEVENT
DTSTART;TZID=America/Denver:20260515T140000
DTEND;TZID=America/Denver:20260515T190000
DTSTAMP:20260423T122315
CREATED:20260418T044220Z
LAST-MODIFIED:20260418T044220Z
UID:10000185-1778853600-1778871600@coloradounderpar.com
SUMMARY:2026 Seconds to Save Charity Golf Tournament
DESCRIPTION:2026 Seconds to Save Charity Golf Tournament\n\nFriday\, May 15\, 2026\nArrowhead Golf Club\n\n10850 Sundown Trail\nLittleton\, CO 80125\n\nFormat:\nFour Person Scramble\n\nCost:\nEarly Bird Foursome $800\nEarly Bird Individual $200\nValid Until April 15th\nSponsorship Opportunities Available\n\nSchedule of Events:\nLunch provided before event\n2pm Shotgun Start\nBanquet after tournament\n\n\nQuestions?\nReach out to James Knowles at james.knowles@secondstosave.org
URL:https://coloradounderpar.com/event/2026-seconds-to-save-charity-golf-tournament/
LOCATION:Arrowhead Golf Club\, 10850 Sundown Trail\, Littleton\, CO\, 80125\, United States
CATEGORIES:Golf Tournament
ATTACH;FMTTYPE=image/png:https://coloradounderpar.com/wp-content/uploads/2026/04/43ef7186-5843-4637-acb2-f4f018c08764-scaled.png
END:VEVENT
BEGIN:VEVENT
DTSTART;TZID=America/Denver:20260615T130000
DTEND;TZID=America/Denver:20260615T190000
DTSTAMP:20260423T122315
CREATED:20260418T050326Z
LAST-MODIFIED:20260418T050326Z
UID:10000191-1781528400-1781550000@coloradounderpar.com
SUMMARY:2026 2LIV4 Golf Tournament Fundraiser
DESCRIPTION:About 2LIV4 & The Event \n\n\n2LIV4 is a 501(c)(3) nonprofit with a mission to empower the disability community to discover their something 2LIV4 by providing scholarships for adaptive adventures and equipment. \nYour participation in our 5th annual golf tournament helps us continue serving the disability community\, and we greatly appreciate it! \nThis year’s event will take place at the picturesque Arrowhead Golf Club. Join us there for a day of golfing for good! \nDetails \n\nArrowhead Golf Club\, Littleton\, CO\nMonday\, June 15\, 2026\n1 pm shotgun start\nGrab & Go lunch\nDinner\, drinks\, awards ceremony\, and prizes\n\nSponsorships Available \nGold – $3500 \nIncludes: 2 four-player team entries\, name recognition on 2LIV4.org and social media\, and individual banner displayed at the event. \nSilver – $2500 \nIncludes: 6 individual player tickets\, name recognition on 2LIV4.org and social media\, and shared banner displayed at the event. \nHole – $1500 \nIncludes: 1 four-player team entry\, signage at one hole\, and name recognition on 2LIV4.org. \nIndividual Tickets \nEarly bird pricing available now through April 15 at $275 per person. \nChoose your teammates or let us match you up! \nFor any questions\, email Kiki at kiki@2liv4.org. \nOther Ways to Participate \n\nVolunteer to help on the day of the event. Email Kiki at kiki@2liv4.org for details.\nSpread the word! Send this page to friends\, family\, and colleagues who like to golf and support good causes.\nDonate – Click here!\n\nThank you for your support\, and we can’t wait to see you on the course! \nScroll back up to the top and click on “Sponsorships & Tickets” to make your purchase! \n2LIV4 is a 501(c)(3). \nEIN: 82-3851795
URL:https://coloradounderpar.com/event/2026-2liv4-golf-tournament-fundraiser/
LOCATION:Arrowhead Golf Club\, 10850 Sundown Trail\, Littleton\, CO\, 80125\, United States
CATEGORIES:Golf Tournament
ATTACH;FMTTYPE=image/avif:https://coloradounderpar.com/wp-content/uploads/2026/04/593947_5302bab2299d4fa2b6316f724060cd59mv2.avif
END:VEVENT
BEGIN:VEVENT
DTSTART;TZID=America/Denver:20260720T080000
DTEND;TZID=America/Denver:20260720T140000
DTSTAMP:20260423T122315
CREATED:20260327T151729Z
LAST-MODIFIED:20260328T131305Z
UID:10000144-1784534400-1784556000@coloradounderpar.com
SUMMARY:Revitalizing Veterans: Valor Classic 2026
DESCRIPTION:Thank you for supporting our first ever Revitalizing Veterans Valor Classic. The tournament will be July 20\, 2026 with a 8:00 am MST shotgun start. Revitalizing Veterans is a nonprofit that was set up to provide our amazing military veterans with the ability to receive hormone and peptide therapies without having to worry about the cost. \n100% of all proceeds will go directly to providing treatments to veterans. At this event we will also have many amazing items to auction off so come ready to place your bid.
URL:https://coloradounderpar.com/event/revitalizing-veterans-valor-classic-2026/
LOCATION:Arrowhead Golf Club\, 10850 Sundown Trail\, Littleton\, CO\, 80125\, United States
CATEGORIES:Golf Tournament
END:VEVENT
BEGIN:VEVENT
DTSTART;TZID=America/Denver:20260807T080000
DTEND;TZID=America/Denver:20260807T170000
DTSTAMP:20260423T122315
CREATED:20260418T052525Z
LAST-MODIFIED:20260418T052525Z
UID:10000196-1786089600-1786122000@coloradounderpar.com
SUMMARY:7th Annual Kinsman Classic Benefitting St. Judes Children's Hospital
DESCRIPTION:Event Details\n\n7th Annual Kinsman Classic: Supporting St. Jude Children’s Hospital\nWe are thrilled to announce the 7th Annual Kinsman Classic\, an event that holds a special place in our hearts. This year\, we are proud to support St. Jude Children’s Hospital\, a beacon of hope for countless families. Our mission is simple: to ensure that no family has to worry about medical bills\, lodging\, or food while their child receives care. \nJoin Us for a Greater Cause\nThe Kinsman Classic is more than just an event; it’s a gathering of community spirit and generosity. Let’s come together to make this year even more successful than the last. By participating\, you are directly contributing to the wellbeing of children and their families during challenging times. \nCan’t Attend? You Can Still Make a Difference\nIf you’re unable to join us in person\, you can still be a part of this impactful cause. Visit our donation page to contribute directly to St. Jude Children’s Hospital. Every dollar counts and helps create miracles for these young patients. \nThank You for Your Support\nWe deeply appreciate each and every one of you for helping make the Kinsman Classic a wonderful outing with a meaningful purpose. Your generosity and support are invaluable in making a positive difference in the lives of children and families in need. Let’s come together to make this year’s event the best yet—because it’s all for the kids! \nTOURNAMENT ACTIVITIES \n\n\n\n\n\n\n– $50K HOLE IN 1 RAFFLE \n– LONGEST DRIVE  \n– LONGEST PUTT  \n– GREEN JACKET WINNERS/NAMES ON TROPHY \n–  GRAB & GO LUNCH/BUFFET DINNER \n– (2) PAR 3 $10K HOLE IN 1 PRIZE \n– CLOSEST TO THE PIN \n– RAFFLE & PRIZES \n– LONG DRIVE PRO AT PAR 5\n\n\n\n  \nTournament Rules: \nFormat is a (4) person scramble. Each player will hit their own drive and then play the best shot from their team. \nBogey Max Score – If your team is at a collective bogey for the hole\, you have maxed out that score for the hole. \nTurn Score Sheets into pro shop at end of round to confirm.
URL:https://coloradounderpar.com/event/7th-annual-kinsman-classic-benefitting-st-judes-childrens-hospital/
LOCATION:Arrowhead Golf Club\, 10850 Sundown Trail\, Littleton\, CO\, 80125\, United States
CATEGORIES:Golf Tournament
ATTACH;FMTTYPE=image/webp:https://coloradounderpar.com/wp-content/uploads/2026/04/c2343b76-c71f-48b9-93e8-36dffc3f7912.webp
END:VEVENT
BEGIN:VEVENT
DTSTART;TZID=America/Denver:20260825T080000
DTEND;TZID=America/Denver:20260825T160000
DTSTAMP:20260423T122315
CREATED:20260321T193845Z
LAST-MODIFIED:20260321T193845Z
UID:10000128-1787644800-1787673600@coloradounderpar.com
SUMMARY:Colorado Classic
DESCRIPTION:Colorado Classic
URL:https://coloradounderpar.com/event/colorado-classic/
LOCATION:Arrowhead Golf Club\, 10850 Sundown Trail\, Littleton\, CO\, 80125\, United States
CATEGORIES:Golf Tournament
ATTACH;FMTTYPE=image/png:https://coloradounderpar.com/wp-content/uploads/2026/03/Colorado-Classic-2026-Postcard.png
END:VEVENT
BEGIN:VEVENT
DTSTART;TZID=America/Denver:20260918T140000
DTEND;TZID=America/Denver:20260918T190000
DTSTAMP:20260423T122315
CREATED:20260421T230828Z
LAST-MODIFIED:20260421T230828Z
UID:10000206-1789740000-1789758000@coloradounderpar.com
SUMMARY:2026 CMN Play Yellow Denver
DESCRIPTION:As a miracle child part of Children’s Miracle Network\, tournament host Vincent Fry received brain surgery at Duke Children’s Hospital at 5 years old. A resident of Denver now\, and bringing his love of golf to give back\, all proceeds will be split evenly between Children’s Hospital Colorado and Duke Children’s Hospital through this Play Yellow event.\n\n\nArrowhead Golf Club\nLittleton\, CO\nFriday\, September 18th\, 2026\n2:00 PM shotgun start\n\nFormat\n4-Person Shotgun Scramble\n\nPrice*\nIndividual Golfer: $275\nTwosome: $525\nFoursome: $1000\nCorporate Team (Team of 4 + Hole Sign): $1\,050\n*Early bird discount of $25/player until 1 June 2026 (does not apply to corporate team)\n\nPrice includes round of golf\, grab-and-go lunch\, buffet. and one prize drawing ticket\n\nAgenda\n1:00PM Registration Opens\n2:00PM Shotgun Start\n7:00PM Dinner w/ Awards\n\nPrizes for:\nTeam with best score\nTeam with largest fundraising amount\nIndividual with largest fundraising amount\n…and more!\n\n\n\nContact Vincent @ vfry91@gmail.com with questions about this event!\n\n\n\n\nAdditional Event Description\n\n\n\n\nEvery day\, member hospitals treat 12\,721 kids for emergencies\, 1\,890 kids for diabetes\, 1\,718 kids for cancer\, and 814 babies in the NICU/newborn ICU. Member hospitals provide 38M patient visits for 12M kids every year. 72 kids are seen by a member hospital every minute. More than $54M funded patient care for children and families when they needed it most in 2022. Since 1983 Children’s Miracle Network Hospitals’ partners and programs have raised more than $9B for member hospitals across the US and Canada. That’s why we need your help change kids’ health to change the future. This second annual event strives to improve the lives of children\, their families\, and friends locally in Colorado for Children’s Hospital of Colorado and across the country to North Carolina to Duke Children’s Hospital back to the host’s roots. See our patient ambassador stories below:\n\n\nVincent Fry\, Age 34\, Tournament Host | Duke Children’s Hospital\nA Miracle at Duke At five years old\, what was thought to be a simple stomach bug quickly escalated into a life-threatening crisis when Vincent began experiencing double vision. An MRI revealed a mass on his brain\, and he was rushed to Duke Children’s for emergency surgery. While doctors feared the worst—a terminal glioblastoma—the surgery revealed a miraculous twist: the mass was actually an aggressive infection that required immediate\, complex intervention from both neurosurgery and ENT teams. Following a grueling recovery involving a broviac catheter and weeks of intensive care\, Vincent made a full recovery. Today\, that journey has come full circle: Vincent works in the medical device industry\, assisting with cardiac procedures and patient care. His story is a powerful reminder that the specialized care funded by CMN doesn’t just save lives—it builds the foundation for a healthy\, impactful future.\n\n\nCreed\, Age 13\, 2026 US Local Hospital Champion | Duke Children’s Hospital\nResilience and Hope Creed was diagnosed as a baby with Duchenne Muscular Dystrophy (DMD)\, a rare genetic disorder characterized by progressive muscle weakness. While his family was initially told there were no treatment options\, they found a lifeline at Duke Children’s. In 2017\, Creed became a pioneer by enrolling in a clinical trial for a groundbreaking infusion-based treatment. His participation helped lead to FDA approval\, changing the future for other children fighting DMD. Today\, 13-year-old Creed is defying the odds; while many with DMD lose the ability to walk by age 12\, Creed remains mobile and active. An honorary member of the Duke Football team and a source of joy at hospital fundraisers\, Creed’s journey is a powerful testament to medical innovation and the life-changing impact of specialized care.\n\n“Because of Duke Children’s\, I have been able to thrive and do things like a normal kid.” – Creed\, Duke Children’s patient\n\n\nAnnabelle\, 2026 US Local Hospital Champion | Children’s Hospital Colorado\nAnnabelle was supposed to be enjoying a family scuba diving trip—something she’d done countless times before. Instead\, she found herself in a fight for her life. The 16-year-old from Aspen had just jumped into the water after a scuba dive with her family when two sharks attacked her. She lost her leg and suffered severe hand injuries\, but the trauma didn’t end there. A rare infection developed in her leg\, requiring months of treatment and 11 surgeries. Her journey to recovery began at Children’s Hospital Colorado\, where donor-supported programs\, and a team of compassionate nurses\, helped her heal not just physically\, but emotionally. Transferred from her local hospital in Aspen\, Annabelle arrived at Children’s Colorado with a serious infection. Her care team included orthopedic surgeons\, infectious disease specialists\, pain management experts\, and prosthetics professionals. But it was the sixth-floor nurses who helped her feel like herself again. “They made me feel clean and comfortable\,” Annabelle said. They helped me get back into a routine\, doing things I used to do with two legs.” Every time Annabelle returns to Children’s Colorado\, she looks forward to seeing the nurses who helped her through the hardest moments of her recovery. Their care extended beyond clinical expertise—they offered dignity\, encouragement\, and a sense of normalcy when she needed it most. Her mother\, Kellie\, said the hospital’s approach was unlike anything they’d experienced. Annabelle also found strength through Children’s Colorado’s Amputee Program\, which brings together specialists to help young patients stay active and independent. The clinic has become a cornerstone of her care—and a cause she’s passionate about supporting. “They helped me figure out what I needed to keep doing the things I love\,” she said. Now off antibiotics and focused on recovery\, Annabelle is training to play lacrosse again\, skiing near her home\, and planning more scuba diving trips. She’s exploring colleges and hopes to study business\, with dreams of starting a foundation to help others.
URL:https://coloradounderpar.com/event/2026-cmn-play-yellow-denver/
LOCATION:Arrowhead Golf Club\, 10850 Sundown Trail\, Littleton\, CO\, 80125\, United States
CATEGORIES:Golf Tournament
ATTACH;FMTTYPE=image/jpeg:https://coloradounderpar.com/wp-content/uploads/2026/04/677745336_10168374645574619_4584335461968800047_n.jpg
END:VEVENT
END:VCALENDAR