BEGIN:VCALENDAR
VERSION:2.0
PRODID:-//Colorado Under Par - ECPv6.15.20//NONSGML v1.0//EN
CALSCALE:GREGORIAN
METHOD:PUBLISH
X-ORIGINAL-URL:https://coloradounderpar.com
X-WR-CALDESC:Events for Colorado Under Par
REFRESH-INTERVAL;VALUE=DURATION:PT1H
X-Robots-Tag:noindex
X-PUBLISHED-TTL:PT1H
BEGIN:VTIMEZONE
TZID:America/Denver
BEGIN:DAYLIGHT
TZOFFSETFROM:-0700
TZOFFSETTO:-0600
TZNAME:MDT
DTSTART:20250309T090000
END:DAYLIGHT
BEGIN:STANDARD
TZOFFSETFROM:-0600
TZOFFSETTO:-0700
TZNAME:MST
DTSTART:20251102T080000
END:STANDARD
BEGIN:DAYLIGHT
TZOFFSETFROM:-0700
TZOFFSETTO:-0600
TZNAME:MDT
DTSTART:20260308T090000
END:DAYLIGHT
BEGIN:STANDARD
TZOFFSETFROM:-0600
TZOFFSETTO:-0700
TZNAME:MST
DTSTART:20261101T080000
END:STANDARD
BEGIN:DAYLIGHT
TZOFFSETFROM:-0700
TZOFFSETTO:-0600
TZNAME:MDT
DTSTART:20270314T090000
END:DAYLIGHT
BEGIN:STANDARD
TZOFFSETFROM:-0600
TZOFFSETTO:-0700
TZNAME:MST
DTSTART:20271107T080000
END:STANDARD
END:VTIMEZONE
BEGIN:VEVENT
DTSTART;TZID=America/Denver:20260518T090000
DTEND;TZID=America/Denver:20260518T150000
DTSTAMP:20260423T112323
CREATED:20260102T230250Z
LAST-MODIFIED:20260421T224435Z
UID:10000003-1779094800-1779116400@coloradounderpar.com
SUMMARY:5th Annual EvenKehl Charity Golf Tournament
DESCRIPTION:Hosted by EvenKehl | Benefiting EvenKehl | Managed by Colorado Under Par \n📍 The Ranch Country Club (Westminster\, CO)📅 May 18\, 2026⏰ 9:00 AM Shotgun Start \nSupport local law enforcement families while enjoying a high-energy day of golf\, community\, and competition. \n✔ 18 Holes | 4-Person Scramble \n✔ Breakfast + Lunch + Drink Tickets Included \n✔ On-Course Contests + Prizes \n✔ 100% of proceeds support officers in need \nTickets Sold Below \n\nEvent Format\nFour-Person Scramble | 18 Holes \n\nPrizes\n1st Place Team | Most Honest Team | Longest Drive (M/W) | Closest to the Pin (M/W) \n\nEvent Day Schedule\n\n7:30 AM — Check-In Opens & To-go Breakfast burrito’s are available\n8:50 AM — Morning Announcements\n9:00 AM — Shotgun Start\nPost-Round — Lunch\, awards\, and raffle\n\n(Schedule subject to minor adjustments.) \n\nOn-Course Entertainment\nEvenKehl Lounge | Beat The Pro Challenge | Hole-In-One Challenges \n\nWhy This Event Matters\nEvenKehl serves as the dedicated first-responding nonprofit for local law enforcement officers in times of crisis. The organization provides immediate financial assistance to officers critically injured in the line of duty\, those facing critical illness\, or individuals facing mental health challenges tied to the weight of the badge. \nFounded in memory of former Jefferson County Sheriff’s Deputy Mike Kehl\, EvenKehl ensures officers and their families are not left navigating hardship alone. When tragedy strikes\, timing matters—and EvenKehl responds quickly to deliver meaningful support when it is needed most. \n    \n\nHow Your Support Creates Impact\nSupport from the EvenKehl Charity Golf Tournament directly fuels the organization’s ability to provide immediate financial assistance to officers and their families. \nFunds raised help cover: \n\nMedical expenses\nRecovery and rehabilitation needs\nMental health support\nUrgent financial challenges during times of crisis\n\nWith 100% of proceeds going directly to officers in need\, every registration\, sponsorship\, and donation creates a direct and meaningful impact. \n    \n\nSponsors\nA huge thank you to the businesses and organizations stepping up to support this year’s tournament. Their sponsorship helps create an unforgettable experience for participants while strengthening the event’s ability to make a meaningful impact. We’re grateful to have such strong partners behind this year’s event. \n       \n\nRegistration & Sponsorship Options\nRegistration and sponsorship opportunities are available below. Select the option that best fits your support level. \nSponsor Packages Close: 5/3/26 \nGolfer Registration Closes: 5/10/26 \n\nQuestions\nFor event-specific questions\, please contact: am@coloradounderpar.com
URL:https://coloradounderpar.com/event/5th-annual-evenkehl-charity-golf-tournament/
LOCATION:The Ranch Country Club\, 11887 Tejon St\, Westminster\, CO 80234\, Westminster\, CO\, 80234\, United States
CATEGORIES:Golf Tournament
ATTACH;FMTTYPE=image/jpeg:https://coloradounderpar.com/wp-content/uploads/2026/01/Event-Hub-Banner-EvenKehl.jpg
ORGANIZER;CN="Andrew Mueller":MAILTO:am@coloradounderpar.com
END:VEVENT
BEGIN:VEVENT
DTSTART;TZID=America/Denver:20260723T080000
DTEND;TZID=America/Denver:20260723T150000
DTSTAMP:20260423T112323
CREATED:20260102T234404Z
LAST-MODIFIED:20260317T222328Z
UID:10000004-1784793600-1784818800@coloradounderpar.com
SUMMARY:5th Annual Charity Shootout Presented By Envision Financial Partners
DESCRIPTION:Hosted by Envision Financial Partners | Managed by Colorado Under ParBenefiting Multiple Nonprofits \n📍 Highlands Ranch Golf Club📅 July 23\, 2026 \nTickets Sold Below \n\nEvent Overview\nThe 5th Annual Charity Shootout brings the community together for a high-energy day of golf and connection\, hosted by Envision Financial Partners at Highlands Ranch Golf Club. Designed as both a competitive and entertaining experience\, the event blends great golf with interactive on-course activations\, food and beverages throughout the round\, and a lively post-event celebration. \nGolfers and sponsors can expect a professionally managed tournament experience that emphasizes fun\, friendly competition\, and meaningful participation. From creative contests to unique entertainment moments\, the Charity Shootout delivers a memorable day on the course while bringing people together around a shared commitment to giving back. \n    \n\nWhy This Event Matters\nEnvision Financial Partners is committed to giving back through community-driven initiatives that create lasting impact. The Charity Shootout exists to rally support\, raise awareness\, and generate resources for causes that matter—both locally and beyond. \nBy bringing participants together for a day of connection and purpose\, this event strengthens community relationships while supporting organizations and initiatives that work every day to make a meaningful difference. \n    \n\nHow Your Support Creates Impact\nSupport from the 5th Annual Charity Shootout helps fund multiple nonprofit organizations selected through the event’s charitable structure. Proceeds raised through golfer registrations\, sponsorships\, and on-course fundraising directly support programs and services chosen by participants—allowing impact to be both personal and powerful. \nThis unique giving model ensures funds are distributed to causes that resonate most with those involved\, while reinforcing Envision Financial Partners’ commitment to flexible\, community-focused philanthropy. Every swing\, sponsorship\, and donation plays a role in turning a day of golf into real-world impact for organizations doing important work. \n    \n\nWhat to Expect\n\nSmooth check-in and welcome experience\nOn-course contests and special moments throughout the round\nFood and beverages during the event\nPost-round gathering with awards\, raffles\, and recognition\n\n\nEvent Format\nFour-Person Scramble | 18 Holes \n\nPrizes\n\n1st Place Team- 40% to charity of choice + pro shop credit\n2nd Place Team- 25% to charity of choice + pro shop credit\n3rd Place Team- 20% to charity of choice + pro shop credit\n4th Place Charity – 15% Random Pull\nTrash Can Longest Drive – Men & Women\nClosest To The Keg – 1 winner\nGlass Break – 1 winner\nChaos Putt – 1 winner\n\n\nOn-Course Entertainment\nGlass Break | Chaos Putt | Trash Can Long Drive | Closest To The Keg | Swag Flip x 2 | Hole Hecklers \n\nEvent Day Schedule\n\n6:30 AM — Check-In\, Breakfast & Glass Break Opens\n7:40 AM — Glass Break Closes & Chaos Putt Opens\n7:50 AM — Chaos Putt Closes & National Anthem Starts\n7:55 AM — Morning Announcements\n8:00 AM — Shotgun Start\nPost-Round — Lunch\, awards\, raffle\, & $1 Million Dollar Shot!\n\n(Schedule subject to minor adjustments.) \n\nRegistration & Sponsorship Options\nRegistration and sponsorship opportunities are available below. Select the option that best fits your support level. \nSponsor Packages Close: 7/9/26 \nGolfer Registration Closes: 7/16/26 \n\nQuestions\nFor event-specific questions\, please contact: am@coloradounderpar.com
URL:https://coloradounderpar.com/event/5th-annual-charity-shootout/
LOCATION:Highlands Ranch Golf Course\, 9000 Creekside Way\, Highlands Ranch\, CO\, 80129\, United States
CATEGORIES:Golf Tournament
ATTACH;FMTTYPE=image/jpeg:https://coloradounderpar.com/wp-content/uploads/2026/01/Event-Hub-Banner-Envision.jpg
ORGANIZER;CN="Andrew Mueller":MAILTO:am@coloradounderpar.com
END:VEVENT
BEGIN:VEVENT
DTSTART;TZID=America/Denver:20260821T090000
DTEND;TZID=America/Denver:20260821T150000
DTSTAMP:20260423T112323
CREATED:20260103T001550Z
LAST-MODIFIED:20260423T033001Z
UID:10000091-1787302800-1787324400@coloradounderpar.com
SUMMARY:Lights\, Sirens\, Scramble!
DESCRIPTION:Hosted by Foundation 1010 | Benefiting Foundation 1010 | Managed by Colorado Under Par \n📍 Legacy Ridge Golf Course (Westminster\, CO)📅 August 21\, 2026⏰ 9:00 AM Shotgun Start \nSupport first responders and their families while enjoying a high-energy day of golf\, community\, and competition. \n✔ 18 Holes | 4-Person Scramble✔ Breakfast + Lunch + Drink Tickets Included✔ On-Course Contests + Prizes✔ Fundraising Goal: $20\,000 supporting first responder families \nTickets Sold Below \n\nEvent Format\nFour-Person Scramble | 18 Holes \n\nPrizes\n1st Place Team | Longest Drive (M/W) | Closest to the Pin (M/W) \n\nEvent Day Schedule\n7:30 AM — Check-In Opens | Breakfast8:45 AM — Bagpipes Ceremony8:50 AM — Morning Announcements9:00 AM — Shotgun StartPost-Round — Lunch | Awards Ceremony | Raffle \n(Schedule subject to minor adjustments.) \n\nOn-Course Experiences\nFoundation 1010 Lounge | Hole Hecklers | Hole-In-One Challenges \n\nWhy This Event Matters\nFoundation 1010 exists to support first responders and their families through direct action\, funding\, and access to critical resources that strengthen safety\, health\, and long-term stability. \nAcross Colorado\, that impact includes: \n\nProviding 15+ armored and rifle-rated protective vests to Denver Police officers\nContributing over $15\,000 to Colorado firefighters\nSupporting families facing serious medical challenges\, including cancer treatment\nExpanding access to mental health services and wellness programs\nAssisting first responders navigating injury\, treatment\, and unexpected loss\n\nLights\, Sirens\, Scramble! is a direct extension of this mission — bringing the community together to stand behind first responders and invest in their wellbeing. \n    \n\nHow Your Support Creates Impact\nSupport from Lights\, Sirens\, Scramble! directly fuels Foundation 1010’s ability to deliver immediate\, meaningful assistance to first responders and their families. \nFunds raised help provide: \n\nProtective safety equipment\nMedical and family assistance\nMental health and wellness resources\nLong-term support programs\n\nEvery registration\, sponsorship\, and donation contributes to real\, measurable support across Colorado — reinforcing that the community stands behind those who serve. \n    \n\nSponsors\nA huge thank you to the businesses and organizations stepping up to support this year’s tournament. Their involvement helps elevate the experience while strengthening the event’s impact. \n\nRegistration & Sponsorship Options\nRegistration and sponsorship opportunities available below. Select the option that best fits your support level. \nSponsor Packages Close: 8/9/26 \nGolfer Registration Closes: 8/16/26 \n\nQuestions\nFor event-specific questions\, please contact: am@coloradounderpar.com
URL:https://coloradounderpar.com/event/lights-sirens-scramble-2026/
LOCATION:Legacy Ridge\, 10801 Legacy Ridge Pkwy\, Westminster\, CO\, 80031\, United States
CATEGORIES:Golf Tournament
ATTACH;FMTTYPE=image/jpeg:https://coloradounderpar.com/wp-content/uploads/2026/01/Event-Hub-Banner-Foundation1010-1.jpg
ORGANIZER;CN="Andrew Mueller":MAILTO:am@coloradounderpar.com
END:VEVENT
BEGIN:VEVENT
DTSTART;TZID=America/Denver:20260827T080000
DTEND;TZID=America/Denver:20260827T170000
DTSTAMP:20260423T112323
CREATED:20260102T235831Z
LAST-MODIFIED:20260422T185059Z
UID:10000005-1787817600-1787850000@coloradounderpar.com
SUMMARY:7th Annual Guide Real Estate Golf Tournament
DESCRIPTION:Hosted by Guide Real Estate | Benefiting Boys & Girls Club | Managed by Colorado Under Par \n📍 Raccoon Creek Golf Course (Littleton\, CO) (update if needed)📅 September 19\, 2026 (update if needed)⏰ 8:30 AM Shotgun Start (update if needed) \nSupport local youth while enjoying a high-energy day of golf\, community\, and competition. \n✔ 18 Holes | 4-Person Scramble✔ Breakfast + Lunch + Drink Tickets Included✔ On-Course Contests + Prizes✔ Proceeds support Boys & Girls Club youth programs \nTickets Sold Below \n\nWhat to Expect\nSmooth check-in and welcome experienceOn-course contests and interactive sponsor activations throughout the roundFood and beverages available during playPost-round gathering with awards\, raffles\, and recognition \n\nEvent Format\nFour-Person Scramble | 18 Holes \n\nPrizes\n1st Place Team | Most Honest Team | Longest Drive (M/W) | Closest to the Pin (M/W) \n\nEvent Day Schedule\n7:00 AM — Check-In Opens & Breakfast Available8:20 AM — Morning Announcements8:30 AM — Shotgun StartPost-Round — Lunch\, awards\, and raffle \n(Schedule subject to minor adjustments.) \n\nOn-Course Entertainment\nGuide Real Estate Activation Lounge | Beat The Pro Challenge | Hole-In-One Challenges \n\nEvent Overview\nThe 7th Annual Guide Real Estate Golf Tournament brings the community together for a high-energy day of golf\, connection\, and purpose\, hosted by Guide Real Estate. \nThis annual tournament is designed to foster relationships\, celebrate community\, and deliver a memorable on-course experience. Golfers and sponsors can expect a professionally managed event featuring friendly competition\, interactive on-course activations\, food and beverages throughout the round\, and a post-event gathering with awards\, raffles\, and recognition. \n\nWhy This Event Matters\nGuide Real Estate is committed to building strong communities through meaningful connection and engagement. This tournament goes beyond golf — it serves as a platform to bring people together in support of a powerful mission. \nProceeds from the 7th Annual Guide Real Estate Golf Tournament will benefit the Boys & Girls Club\, helping provide safe spaces\, mentorship\, and life-enhancing programs for youth in the community. \n\nHow Your Support Creates Impact\nSupport from the 7th Annual Guide Real Estate Golf Tournament directly fuels the mission of the Boys & Girls Club\, empowering young people to reach their full potential through education\, leadership development\, and positive experiences. \nFunds raised through golfer registrations\, sponsorships\, and donations help expand access to critical programs that support academic success\, healthy lifestyles\, and character development. \nEvery participant plays a role in creating opportunities for local youth — turning a day on the course into lasting impact far beyond event day. \n\nRegistration & Sponsorship Options\nRegistration and sponsorship opportunities are available below. Select the option that best fits your support level. \nSponsor Packages Close: 8/16/26 \nGolfer Registration Closes: 8/23/26 \n\nQuestions\nFor event-specific questions\, please contact: am@coloradounderpar.com
URL:https://coloradounderpar.com/event/7th-annual-guide-real-estate-golf-tournament/
LOCATION:Green Valley Ranch\, 4900 Himalaya Rd\, Denver\, CO\, 80249
CATEGORIES:Golf Tournament
ATTACH;FMTTYPE=image/jpeg:https://coloradounderpar.com/wp-content/uploads/2026/01/Event-Hub-Banner-GuideRealEstate.jpg
ORGANIZER;CN="Andrew Mueller":MAILTO:am@coloradounderpar.com
END:VEVENT
BEGIN:VEVENT
DTSTART;TZID=America/Denver:20261003T080000
DTEND;TZID=America/Denver:20261003T170000
DTSTAMP:20260423T112323
CREATED:20260103T000019Z
LAST-MODIFIED:20260317T222640Z
UID:10000006-1791014400-1791046800@coloradounderpar.com
SUMMARY:5th Annual CURE SYNGAP1
DESCRIPTION:Hosted by CURE SYNGAP1 | Managed by Colorado Under ParBenefiting CURE SYNGAP1 \n📍  Greer Golf Course📅  10/3/2026 \nTickets Sold Here:  \nhttps://e.givesmart.com/s/:xpcBO8cb_vu/e/N8w/ \n\nEvent Overview\nThe 5th Annual CURE SYNGAP1 Golf Tournament brings the community together for a purpose-driven day of golf in support of CURE SYNGAP1 and its mission to advance research\, awareness\, and support for individuals and families affected by SYNGAP1-related disorders. \n\nWhy This Event Matters\nWe are thrilled to announce the 5th Annual Scramble for Syngap Golf Tournament\, taking place on October 3\, 2026\, at Greer Golf in Greer\, SC. This special event brings together golfers\, families\, and community members united by a shared purpose: advancing the mission of CURE SYNGAP1 and raising awareness of SYNGAP1-Related Disorders\, an ultra rare neurological condition. Together\, we are driving research forward and creating hope for a cure. \nWhat Is SYNGAP1?\nSYNGAP1-Related Disorders is a rare neurological condition that currently affects nearly 500 known individuals in the United States and over 1\,700 worldwide\, with diagnoses continuing to rise as awareness and genetic testing improve. Caused by a mutation in the SYNGAP1 gene\, the disorder results in insufficient SYNGAP protein\, which is essential for proper brain development and function.  Individuals with SYNGAP1 may experience a wide range of challenges\, including intellectual disability\, epilepsy\, autism\, global developmental delay\, behavioral  \nCURE SYNGAP1 is a nonprofit organization dedicated to improving the lives of those impacted by SYNGAP1-related disorders through research advancement\, education\, and family support. SYNGAP1 is a rare genetic neurological condition that affects development\, learning\, and quality of life. \nFamilies navigating rare diseases often face limited resources\, delayed diagnoses\, and few treatment options. Events like this tournament play a critical role in funding research\, strengthening advocacy efforts\, and building a supportive community for those affected. \n\nWhat to Expect\n\nSmooth check-in and welcome experience\nOn-course contests and special moments throughout the round\nFood and beverages during the event\nPost-round gathering with awards\, raffles\, and recognition\n\n\nEvent Format\nFour-Person Scramble | 18 Holes \n\nPrizes\n1st Place Team | Longest Drive (M/W) | Closest to the Pin (M/W) \n\nOn-Course Entertainment\nBeat The Pro | CURE SYNGAP1 on-course presence and activations \n\nEvent Day Schedule\n\n7:00 AM — Check-In Opens\n8:30 AM — Shotgun Start\nPost-Round — Lunch\, awards\, and raffle\n\n(Schedule subject to minor adjustments.) \n\nRegistration & Sponsorship Options\nRegistration and sponsorship opportunities available here: https://e.givesmart.com/s/:xpcBO8cb_vu/e/N8w/Select the option that best fits how you’d like to support this event. \n\nQuestions\nFor event-specific questions\, please contact:am@coloradounderpar.com \n\nInterested in Hosting an Event of Your Own?\nColorado Under Par supports nonprofit\, corporate\, and private golf events from early planning through execution and day-of support. If you’re considering hosting an event\, start with a few quick questions and we’ll recommend the right level of support based on your goals and timeline. \nPlan Your Event
URL:https://coloradounderpar.com/event/5th-annual-cure-syngap1/
LOCATION:Greer Golf Course\, 2299 Gap Creek Rd Ste. A\, Greer\, SC\, 29651\, United States
CATEGORIES:Golf Tournament
ATTACH;FMTTYPE=image/jpeg:https://coloradounderpar.com/wp-content/uploads/2026/01/Event-Hub-Banner-CureSyngap1.jpg
ORGANIZER;CN="Andrew Mueller":MAILTO:am@coloradounderpar.com
END:VEVENT
BEGIN:VEVENT
DTSTART;TZID=America/Denver:20261016T090000
DTEND;TZID=America/Denver:20261016T150000
DTSTAMP:20260423T112323
CREATED:20251223T062133Z
LAST-MODIFIED:20260317T221633Z
UID:10000001-1792141200-1792162800@coloradounderpar.com
SUMMARY:7th Annual Fall Classic
DESCRIPTION:Hosted by Colorado Under Par | Managed by Colorado Under ParBenefiting Forged Golf Society \n📍 The Broadlands Golf Course \n📅 Friday October 16\, 2026 \nTickets Sold Below \n\nEvent Overview\nThe 7th Annual Fall Classic brings the community together for a purpose-driven day of golf in support of Forged Golf Society and its mission to serve veterans through the game of golf. \n    \n\nWhy This Event Matters\nForged Golf Society is a veteran-focused nonprofit dedicated to using golf as a platform for connection\, healing\, and long-term support for military veterans. As a post-PGA HOPE (Helping Our Patriots Everywhere) program led by Veterans and PGA Professionals\, Forged Golf Society provides a continued pathway for those who have completed the PGA HOPE experience — extending the journey beyond introduction into ongoing community\, competition\, and purpose. \nThrough competitive and community-focused golf experiences\, the organization creates opportunities for veterans to build camaraderie\, strengthen mental health\, and rediscover identity beyond service. Golf becomes more than a game — it becomes a consistent outlet for connection\, discipline\, and long-term support within a trusted veteran community. \n    \n\nHow Your Support Creates Impact\nSupport from the 7th Annual Fall Classic directly fuels Forged Golf Society’s ability to expand veteran-focused golf programs\, create more opportunities for connection\, and reach additional service members seeking community and purpose. Funds raised through this event help cover program operations\, course access\, equipment\, instruction\, and event experiences that remove barriers to participation for veterans. \nBeyond the course\, this support strengthens a growing network where veterans can build relationships\, share experiences\, and engage in positive\, competitive\, and social environments that promote long-term well-being. Every golfer registration\, sponsorship\, and donation plays a role in sustaining and scaling these programs so more veterans can discover the impact golf can have in their lives. \n   \n\nWhat to Expect\n\nSmooth check-in and welcome experience\nOn-course contests and special moments throughout the round\nFood and beverages during the event\nPost-round gathering with awards\, raffles\, and recognition\n\n\nEvent Format\nFour-Person Scramble | 18 Holes \n\nPrizes\n1st Place Team | Longest Drive (M/W) | Closest to the Pin (M/W) \n\nOn-Course Entertainment\nSpeed Hole Challenge | FGS Challenge \n\nEvent Day Schedule\n\n7:30 AM — Check-In Opens\n8:40 AM — Chaos Putt\n8:50 AM — Morning Announcements\n9:00 AM — Shotgun Start\nPost-Round — $1million dollar shot\, lunch\, awards\, and raffle\n\n(Schedule subject to minor adjustments.) \n\nRegistration & Sponsorship Options\nRegistration and sponsorship opportunities are available below. Select the option that best fits how you’d like to support this event. \n\nQuestions\nFor event-specific questions\, please contact:am@coloradounderpar.com \n\nInterested in Hosting an Event of Your Own?\nColorado Under Par supports nonprofit\, corporate\, and private golf events from early planning through execution and day-of support. If you’re considering hosting an event\, start with a few quick questions and we’ll recommend the right level of support based on your goals and timeline. \nPlan Your Event
URL:https://coloradounderpar.com/event/7th-annual-fall-classic/
LOCATION:The Broadlands Golf Course\, 4380 W 144th Ave.\, Broomfield\, CO\, 80023\, United States
CATEGORIES:Golf Tournament
ATTACH;FMTTYPE=image/jpeg:https://coloradounderpar.com/wp-content/uploads/2025/12/Event-Hub-Banner-FallClassic.jpg
ORGANIZER;CN="Andrew Mueller":MAILTO:am@coloradounderpar.com
END:VEVENT
END:VCALENDAR